Back to Multiple platform build/check report for BioC 3.15
AB[C]DEFGHIJKLMNOPQRSTUVWXYZ

This page was generated on 2022-01-19 11:05:54 -0500 (Wed, 19 Jan 2022).

HostnameOSArch (*)R versionInstalled pkgs
nebbiolo1Linux (Ubuntu 20.04.4 LTS)x86_64R Under development (unstable) (2022-01-05 r81451) -- "Unsuffered Consequences" 4161
riesling1Windows Server 2019 Standardx64R Under development (unstable) (2021-11-21 r81221) -- "Unsuffered Consequences" 4056
palomino3Windows Server 2022 Datacenterx64R Under development (unstable) (2021-12-21 r81400 ucrt) -- "Unsuffered Consequences" 3998
merida1macOS 10.14.6 Mojavex86_64R Under development (unstable) (2022-01-05 r81451) -- "Unsuffered Consequences" 4115
Click on any hostname to see more info about the system (e.g. compilers)      (*) as reported by 'uname -p', except on Windows and Mac OS X

INSTALL results for compEpiTools on nebbiolo1


To the developers/maintainers of the compEpiTools package:
- Please allow up to 24 hours (and sometimes 48 hours) for your latest push to git@git.bioconductor.org:packages/compEpiTools.git to
reflect on this report. See How and When does the builder pull? When will my changes propagate? here for more information.
- Make sure to use the following settings in order to reproduce any error or warning you see on this page.

raw results

Package 379/2074HostnameOS / ArchINSTALLBUILDCHECKBUILD BIN
compEpiTools 1.29.2  (landing page)
Kamal Kishore
Snapshot Date: 2022-01-18 13:55:18 -0500 (Tue, 18 Jan 2022)
git_url: https://git.bioconductor.org/packages/compEpiTools
git_branch: master
git_last_commit: 20988a4
git_last_commit_date: 2021-11-20 23:28:21 -0500 (Sat, 20 Nov 2021)
nebbiolo1Linux (Ubuntu 20.04.4 LTS) / x86_64  OK    OK    ERROR  
riesling1Windows Server 2019 Standard / x64  OK    OK    ERROR    OK  
palomino3Windows Server 2022 Datacenter / x64  OK    OK    ERROR    OK  
merida1macOS 10.14.6 Mojave / x86_64  OK    OK    ERROR    OK  

Summary

Package: compEpiTools
Version: 1.29.2
Command: /home/biocbuild/bbs-3.15-bioc/R/bin/R CMD INSTALL compEpiTools
StartedAt: 2022-01-18 15:37:08 -0500 (Tue, 18 Jan 2022)
EndedAt: 2022-01-18 15:37:57 -0500 (Tue, 18 Jan 2022)
EllapsedTime: 49.1 seconds
RetCode: 0
Status:   OK  

Command output

##############################################################################
##############################################################################
###
### Running command:
###
###   /home/biocbuild/bbs-3.15-bioc/R/bin/R CMD INSTALL compEpiTools
###
##############################################################################
##############################################################################


* installing to library ‘/home/biocbuild/bbs-3.15-bioc/R/library’
* installing *source* package ‘compEpiTools’ ...
** using staged installation
** R
** inst
** byte-compile and prepare package for lazy loading

groupGOTerms: 	GOBPTerm, GOMFTerm, GOCCTerm environments built.
No methods found in package 'BiocGenerics' for requests: 'clusterApplyLB', 'clusterEvalQ' when loading 'methylPipe'
No methods found in package 'BiocGenerics' for requests: 'clusterApplyLB', 'clusterEvalQ' when loading 'compEpiTools'
** help
*** installing help indices
** building package indices
** installing vignettes
** testing if installed package can be loaded from temporary location

groupGOTerms: 	GOBPTerm, GOMFTerm, GOCCTerm environments built.
No methods found in package 'BiocGenerics' for requests: 'clusterApplyLB', 'clusterEvalQ' when loading 'methylPipe'
No methods found in package 'BiocGenerics' for requests: 'clusterApplyLB', 'clusterEvalQ' when loading 'compEpiTools'
Warning: Package 'compEpiTools' is deprecated and will be removed from
  Bioconductor version 3.16
** testing if installed package can be loaded from final location

groupGOTerms: 	GOBPTerm, GOMFTerm, GOCCTerm environments built.
No methods found in package 'BiocGenerics' for requests: 'clusterApplyLB', 'clusterEvalQ' when loading 'methylPipe'
No methods found in package 'BiocGenerics' for requests: 'clusterApplyLB', 'clusterEvalQ' when loading 'compEpiTools'
Warning: Package 'compEpiTools' is deprecated and will be removed from
  Bioconductor version 3.16
** testing if installed package keeps a record of temporary installation path
* DONE (compEpiTools)