Back to Multiple platform build/check report for BioC 3.19:   simplified   long
ABC[D]EFGHIJKLMNOPQRSTUVWXYZ

This page was generated on 2024-03-04 11:40:25 -0500 (Mon, 04 Mar 2024).

HostnameOSArch (*)R versionInstalled pkgs
nebbiolo1Linux (Ubuntu 22.04.3 LTS)x86_64R Under development (unstable) (2024-01-16 r85808) -- "Unsuffered Consequences" 4676
palomino3Windows Server 2022 Datacenterx64R Under development (unstable) (2024-01-14 r85805 ucrt) -- "Unsuffered Consequences" 4414
merida1macOS 12.7.1 Montereyx86_64R Under development (unstable) (2024-01-16 r85808) -- "Unsuffered Consequences" 4441
kunpeng2Linux (openEuler 22.03 LTS-SP1)aarch64R Under development (unstable) (2024-01-16 r85812) -- "Unsuffered Consequences" 4417
Click on any hostname to see more info about the system (e.g. compilers)      (*) as reported by 'uname -p', except on Windows and Mac OS X

Package 604/2251HostnameOS / ArchINSTALLBUILDCHECKBUILD BIN
DrugVsDisease 2.45.0  (landing page)
j. Saez-Rodriguez
Snapshot Date: 2024-03-01 14:00:22 -0500 (Fri, 01 Mar 2024)
git_url: https://git.bioconductor.org/packages/DrugVsDisease
git_branch: devel
git_last_commit: bf0973c
git_last_commit_date: 2023-10-24 09:52:37 -0500 (Tue, 24 Oct 2023)
nebbiolo1Linux (Ubuntu 22.04.3 LTS) / x86_64  OK    OK    OK  UNNEEDED, same version is already published
palomino3Windows Server 2022 Datacenter / x64  OK    OK    OK    OK  UNNEEDED, same version is already published
merida1macOS 12.7.1 Monterey / x86_64  OK    OK    OK    OK  UNNEEDED, same version is already published
kunpeng2Linux (openEuler 22.03 LTS-SP1) / aarch64  OK    OK    OK  

BUILD results for DrugVsDisease on kunpeng2


To the developers/maintainers of the DrugVsDisease package:
- Allow up to 24 hours (and sometimes 48 hours) for your latest push to git@git.bioconductor.org:packages/DrugVsDisease.git to reflect on this report. See Troubleshooting Build Report for more information.
- Use the following Renviron settings to reproduce errors and warnings.
- If 'R CMD check' started to fail recently on the Linux builder(s) over a missing dependency, add the missing dependency to 'Suggests:' in your DESCRIPTION file. See Renviron.bioc for more information.
- See Martin Grigorov's blog post for how to debug Linux ARM64 related issues on a x86_64 host.

raw results


Summary

Package: DrugVsDisease
Version: 2.45.0
Command: /home/biocbuild/R/R-devel_2024-01-16_r85812/bin/R CMD build --keep-empty-dirs --no-resave-data DrugVsDisease
StartedAt: 2024-03-01 22:51:14 -0000 (Fri, 01 Mar 2024)
EndedAt: 2024-03-01 22:52:00 -0000 (Fri, 01 Mar 2024)
EllapsedTime: 46.1 seconds
RetCode: 0
Status:   OK  
PackageFile: DrugVsDisease_2.45.0.tar.gz
PackageFileSize: 1.824 MiB

Command output

##############################################################################
##############################################################################
###
### Running command:
###
###   /home/biocbuild/R/R-devel_2024-01-16_r85812/bin/R CMD build --keep-empty-dirs --no-resave-data DrugVsDisease
###
##############################################################################
##############################################################################


* checking for file ‘DrugVsDisease/DESCRIPTION’ ... OK
* preparing ‘DrugVsDisease’:
* checking DESCRIPTION meta-information ... OK
* installing the package to build vignettes
* creating vignettes ... OK
* checking for LF line-endings in source and make files and shell scripts
* checking for empty or unneeded directories
* building ‘DrugVsDisease_2.45.0.tar.gz’