Back to Multiple platform build/check report for BioC 3.20:   simplified   long
ABCDEFGHIJKLMNOPQR[S]TUVWXYZ

This page was generated on 2024-05-15 13:46:42 -0400 (Wed, 15 May 2024).

HostnameOSArch (*)R versionInstalled pkgs
nebbiolo2Linux (Ubuntu 22.04.3 LTS)x86_644.4.0 RC (2024-04-16 r86468) -- "Puppy Cup" 4663
kunpeng2Linux (openEuler 22.03 LTS-SP1)aarch644.4.0 beta (2024-04-15 r86425) -- "Puppy Cup" 4480
Click on any hostname to see more info about the system (e.g. compilers)      (*) as reported by 'uname -p', except on Windows and Mac OS X

Package 1816/2230HostnameOS / ArchINSTALLBUILDCHECKBUILD BIN
scater 1.33.0  (landing page)
Alan O'Callaghan
Snapshot Date: 2024-05-13 14:05:07 -0400 (Mon, 13 May 2024)
git_url: https://git.bioconductor.org/packages/scater
git_branch: devel
git_last_commit: 483f942
git_last_commit_date: 2024-04-30 10:48:21 -0400 (Tue, 30 Apr 2024)
nebbiolo2Linux (Ubuntu 22.04.3 LTS) / x86_64  OK    OK    OK  UNNEEDED, same version is already published
kunpeng2Linux (openEuler 22.03 LTS-SP1) / aarch64  OK    OK    OK  
kjohnson1macOS 13.6.6 Ventura / arm64see weekly results here

CHECK results for scater on kunpeng2


To the developers/maintainers of the scater package:
- Allow up to 24 hours (and sometimes 48 hours) for your latest push to git@git.bioconductor.org:packages/scater.git to reflect on this report. See Troubleshooting Build Report for more information.
- Use the following Renviron settings to reproduce errors and warnings.
- If 'R CMD check' started to fail recently on the Linux builder(s) over a missing dependency, add the missing dependency to 'Suggests:' in your DESCRIPTION file. See Renviron.bioc for more information.
- See Martin Grigorov's blog post for how to debug Linux ARM64 related issues on a x86_64 host.

raw results


Summary

Package: scater
Version: 1.32.0
Command: /home/biocbuild/R/R-beta-2024-04-15_r86425/bin/R CMD check --install=check:scater.install-out.txt --library=/home/biocbuild/R/R-beta-2024-04-15_r86425/site-library --no-vignettes --timings scater_1.32.0.tar.gz
StartedAt: 2024-05-09 11:35:43 -0000 (Thu, 09 May 2024)
EndedAt: 2024-05-09 11:46:03 -0000 (Thu, 09 May 2024)
EllapsedTime: 620.0 seconds
RetCode: 0
Status:   OK  
CheckDir: scater.Rcheck
Warnings: 0

Command output

##############################################################################
##############################################################################
###
### Running command:
###
###   /home/biocbuild/R/R-beta-2024-04-15_r86425/bin/R CMD check --install=check:scater.install-out.txt --library=/home/biocbuild/R/R-beta-2024-04-15_r86425/site-library --no-vignettes --timings scater_1.32.0.tar.gz
###
##############################################################################
##############################################################################


* using log directory ‘/home/biocbuild/bbs-3.19-bioc/meat/scater.Rcheck’
* using R version 4.4.0 beta (2024-04-15 r86425)
* using platform: aarch64-unknown-linux-gnu
* R was compiled by
    gcc (GCC) 10.3.1
    GNU Fortran (GCC) 10.3.1
* running under: openEuler 22.03 (LTS-SP1)
* using session charset: UTF-8
* using option ‘--no-vignettes’
* checking for file ‘scater/DESCRIPTION’ ... OK
* checking extension type ... Package
* this is package ‘scater’ version ‘1.32.0’
* package encoding: UTF-8
* checking package namespace information ... OK
* checking package dependencies ... OK
* checking if this is a source package ... OK
* checking if there is a namespace ... OK
* checking for hidden files and directories ... OK
* checking for portable file names ... OK
* checking for sufficient/correct file permissions ... OK
* checking whether package ‘scater’ can be installed ... OK
* checking installed package size ... OK
* checking package directory ... OK
* checking ‘build’ directory ... OK
* checking DESCRIPTION meta-information ... OK
* checking top-level files ... OK
* checking for left-over files ... OK
* checking index information ... OK
* checking package subdirectories ... OK
* checking code files for non-ASCII characters ... OK
* checking R files for syntax errors ... OK
* checking whether the package can be loaded ... OK
* checking whether the package can be loaded with stated dependencies ... OK
* checking whether the package can be unloaded cleanly ... OK
* checking whether the namespace can be loaded with stated dependencies ... OK
* checking whether the namespace can be unloaded cleanly ... OK
* checking loading without being on the library search path ... OK
* checking dependencies in R code ... OK
* checking S3 generic/method consistency ... OK
* checking replacement functions ... OK
* checking foreign function calls ... OK
* checking R code for possible problems ... OK
* checking Rd files ... NOTE
checkRd: (-1) plotHeatmap.Rd:87: Lost braces; missing escapes or markup?
    87 | \item{by_exprs_values}{Alias to {by.assay.type}.}
       |                                 ^
* checking Rd metadata ... OK
* checking Rd cross-references ... OK
* checking for missing documentation entries ... OK
* checking for code/documentation mismatches ... OK
* checking Rd \usage sections ... OK
* checking Rd contents ... OK
* checking for unstated dependencies in examples ... OK
* checking files in ‘vignettes’ ... OK
* checking examples ... OK
Examples with CPU (user + system) or elapsed time > 5s
                    user system elapsed
plotReducedDim    12.814  1.057  13.119
plotRLE           10.033  0.303  10.370
runMultiUMAP       7.115  0.183   7.312
projectReducedDim  6.116  0.395   6.525
plotColData        5.394  0.367   5.735
plotExpression     5.346  0.168   5.489
* checking for unstated dependencies in ‘tests’ ... OK
* checking tests ...
  Running ‘testthat.R’
 OK
* checking for unstated dependencies in vignettes ... OK
* checking package vignettes ... OK
* checking running R code from vignettes ... SKIPPED
* checking re-building of vignette outputs ... SKIPPED
* checking PDF version of manual ... OK
* DONE

Status: 1 NOTE
See
  ‘/home/biocbuild/bbs-3.19-bioc/meat/scater.Rcheck/00check.log’
for details.


Installation output

scater.Rcheck/00install.out

##############################################################################
##############################################################################
###
### Running command:
###
###   /home/biocbuild/R/R-beta-2024-04-15_r86425/bin/R CMD INSTALL scater
###
##############################################################################
##############################################################################


* installing to library ‘/home/biocbuild/R/R-beta-2024-04-15_r86425/site-library’
* installing *source* package ‘scater’ ...
** using staged installation
** R
** inst
** byte-compile and prepare package for lazy loading
** help
*** installing help indices
** building package indices
** installing vignettes
** testing if installed package can be loaded from temporary location
** testing if installed package can be loaded from final location
** testing if installed package keeps a record of temporary installation path
* DONE (scater)

Tests output

scater.Rcheck/tests/testthat.Rout


R version 4.4.0 beta (2024-04-15 r86425) -- "Puppy Cup"
Copyright (C) 2024 The R Foundation for Statistical Computing
Platform: aarch64-unknown-linux-gnu

R is free software and comes with ABSOLUTELY NO WARRANTY.
You are welcome to redistribute it under certain conditions.
Type 'license()' or 'licence()' for distribution details.

R is a collaborative project with many contributors.
Type 'contributors()' for more information and
'citation()' on how to cite R or R packages in publications.

Type 'demo()' for some demos, 'help()' for on-line help, or
'help.start()' for an HTML browser interface to help.
Type 'q()' to quit R.

> Sys.setenv("R_TESTS" = "")
> library(testthat)
> library(scater)
Loading required package: SingleCellExperiment
Loading required package: SummarizedExperiment
Loading required package: MatrixGenerics
Loading required package: matrixStats

Attaching package: 'MatrixGenerics'

The following objects are masked from 'package:matrixStats':

    colAlls, colAnyNAs, colAnys, colAvgsPerRowSet, colCollapse,
    colCounts, colCummaxs, colCummins, colCumprods, colCumsums,
    colDiffs, colIQRDiffs, colIQRs, colLogSumExps, colMadDiffs,
    colMads, colMaxs, colMeans2, colMedians, colMins, colOrderStats,
    colProds, colQuantiles, colRanges, colRanks, colSdDiffs, colSds,
    colSums2, colTabulates, colVarDiffs, colVars, colWeightedMads,
    colWeightedMeans, colWeightedMedians, colWeightedSds,
    colWeightedVars, rowAlls, rowAnyNAs, rowAnys, rowAvgsPerColSet,
    rowCollapse, rowCounts, rowCummaxs, rowCummins, rowCumprods,
    rowCumsums, rowDiffs, rowIQRDiffs, rowIQRs, rowLogSumExps,
    rowMadDiffs, rowMads, rowMaxs, rowMeans2, rowMedians, rowMins,
    rowOrderStats, rowProds, rowQuantiles, rowRanges, rowRanks,
    rowSdDiffs, rowSds, rowSums2, rowTabulates, rowVarDiffs, rowVars,
    rowWeightedMads, rowWeightedMeans, rowWeightedMedians,
    rowWeightedSds, rowWeightedVars

Loading required package: GenomicRanges
Loading required package: stats4
Loading required package: BiocGenerics

Attaching package: 'BiocGenerics'

The following objects are masked from 'package:stats':

    IQR, mad, sd, var, xtabs

The following objects are masked from 'package:base':

    Filter, Find, Map, Position, Reduce, anyDuplicated, aperm, append,
    as.data.frame, basename, cbind, colnames, dirname, do.call,
    duplicated, eval, evalq, get, grep, grepl, intersect, is.unsorted,
    lapply, mapply, match, mget, order, paste, pmax, pmax.int, pmin,
    pmin.int, rank, rbind, rownames, sapply, setdiff, table, tapply,
    union, unique, unsplit, which.max, which.min

Loading required package: S4Vectors

Attaching package: 'S4Vectors'

The following object is masked from 'package:utils':

    findMatches

The following objects are masked from 'package:base':

    I, expand.grid, unname

Loading required package: IRanges
Loading required package: GenomeInfoDb
Loading required package: Biobase
Welcome to Bioconductor

    Vignettes contain introductory material; view with
    'browseVignettes()'. To cite Bioconductor, see
    'citation("Biobase")', and for packages 'citation("pkgname")'.


Attaching package: 'Biobase'

The following object is masked from 'package:MatrixGenerics':

    rowMedians

The following objects are masked from 'package:matrixStats':

    anyMissing, rowMedians

Loading required package: scuttle
Loading required package: ggplot2
> 
> test_check("scater")
Loading required package: Matrix

Attaching package: 'Matrix'

The following object is masked from 'package:S4Vectors':

    expand

Loading required package: S4Arrays
Loading required package: abind

Attaching package: 'S4Arrays'

The following object is masked from 'package:abind':

    abind

The following object is masked from 'package:base':

    rowsum

Loading required package: SparseArray

Attaching package: 'DelayedArray'

The following objects are masked from 'package:base':

    apply, scale, sweep

[ FAIL 0 | WARN 31 | SKIP 0 | PASS 801 ]

[ FAIL 0 | WARN 31 | SKIP 0 | PASS 801 ]
> 
> proc.time()
   user  system elapsed 
276.047   2.859 278.848 

Example timings

scater.Rcheck/scater-Ex.timings

nameusersystemelapsed
accessors2.4150.0912.512
annotateBMFeatures000
bootstraps0.5350.0120.548
defunct0.0000.0000.001
getExplanatoryPCs2.0390.0762.120
getVarianceExplained0.7650.0000.766
ggsce2.6770.0722.754
nexprs0.5600.0320.593
plotColData5.3940.3675.735
plotDots2.4740.1642.643
plotExplanatoryPCs1.5160.0681.587
plotExplanatoryVariables1.8860.0911.982
plotExpression5.3460.1685.489
plotGroupedHeatmap1.0490.0521.104
plotHeatmap0.9920.0321.028
plotHighestExprs1.6410.0241.670
plotPlatePosition1.5140.0231.543
plotRLE10.033 0.30310.370
plotReducedDim12.814 1.05713.119
plotRowData0.9780.2111.192
plotScater4.3900.3594.768
plot_reddim4.1750.0964.282
projectReducedDim6.1160.3956.525
retrieveCellInfo0.7080.0280.737
retrieveFeatureInfo0.7130.0040.719
runColDataPCA1.1350.0081.146
runMDS0.9290.0230.956
runMultiUMAP7.1150.1837.312
runNMF0.8870.0240.914
runPCA0.9710.0321.005
runTSNE1.6640.0201.687
runUMAP4.7390.0764.822
toSingleCellExperiment000