Back to Multiple platform build/check report for BioC 3.19:   simplified   long
ABCDEFGHIJKL[M]NOPQRSTUVWXYZ

This page was generated on 2024-02-21 12:53:13 -0500 (Wed, 21 Feb 2024).

HostnameOSArch (*)R versionInstalled pkgs
nebbiolo1Linux (Ubuntu 22.04.3 LTS)x86_64R Under development (unstable) (2024-01-16 r85808) -- "Unsuffered Consequences" 4657
palomino3Windows Server 2022 Datacenterx64R Under development (unstable) (2024-01-14 r85805 ucrt) -- "Unsuffered Consequences" 4397
Click on any hostname to see more info about the system (e.g. compilers)      (*) as reported by 'uname -p', except on Windows and Mac OS X

Package 1264/2244HostnameOS / ArchINSTALLBUILDCHECKBUILD BIN
missMethyl 1.37.0  (landing page)
Belinda Phipson
Snapshot Date: 2024-02-20 14:10:09 -0500 (Tue, 20 Feb 2024)
git_url: https://git.bioconductor.org/packages/missMethyl
git_branch: devel
git_last_commit: 962d0b6
git_last_commit_date: 2023-10-24 10:00:11 -0500 (Tue, 24 Oct 2023)
nebbiolo1Linux (Ubuntu 22.04.3 LTS) / x86_64  OK    OK    OK  UNNEEDED, same version is already published
palomino3Windows Server 2022 Datacenter / x64  OK    OK    OK    OK  UNNEEDED, same version is already published

BUILD results for missMethyl on nebbiolo1


To the developers/maintainers of the missMethyl package:
- Allow up to 24 hours (and sometimes 48 hours) for your latest push to git@git.bioconductor.org:packages/missMethyl.git to reflect on this report. See Troubleshooting Build Report for more information.
- Use the following Renviron settings to reproduce errors and warnings.
- If 'R CMD check' started to fail recently on the Linux builder(s) over a missing dependency, add the missing dependency to 'Suggests:' in your DESCRIPTION file. See Renviron.bioc for more information.

raw results


Summary

Package: missMethyl
Version: 1.37.0
Command: /home/biocbuild/bbs-3.19-bioc/R/bin/R CMD build --keep-empty-dirs --no-resave-data missMethyl
StartedAt: 2024-02-20 18:03:07 -0500 (Tue, 20 Feb 2024)
EndedAt: 2024-02-20 18:15:37 -0500 (Tue, 20 Feb 2024)
EllapsedTime: 750.0 seconds
RetCode: 0
Status:   OK  
PackageFile: missMethyl_1.37.0.tar.gz
PackageFileSize: 1.361 MiB

Command output

##############################################################################
##############################################################################
###
### Running command:
###
###   /home/biocbuild/bbs-3.19-bioc/R/bin/R CMD build --keep-empty-dirs --no-resave-data missMethyl
###
##############################################################################
##############################################################################


* checking for file ‘missMethyl/DESCRIPTION’ ... OK
* preparing ‘missMethyl’:
* checking DESCRIPTION meta-information ... OK
* installing the package to build vignettes
* creating vignettes ... OK
* checking for LF line-endings in source and make files and shell scripts
* checking for empty or unneeded directories
* building ‘missMethyl_1.37.0.tar.gz’