Back to Multiple platform build/check report for BioC 3.17:   simplified   long
A[B]CDEFGHIJKLMNOPQRSTUVWXYZ

This page was generated on 2023-02-08 11:05:32 -0500 (Wed, 08 Feb 2023).

HostnameOSArch (*)R versionInstalled pkgs
nebbiolo1Linux (Ubuntu 22.04.1 LTS)x86_64R Under development (unstable) (2023-01-10 r83596) -- "Unsuffered Consequences" 4484
palomino3Windows Server 2022 Datacenterx64R Under development (unstable) (2023-01-10 r83596 ucrt) -- "Unsuffered Consequences" 4250
merida1macOS 10.14.6 Mojavex86_64R Under development (unstable) (2023-01-10 r83596) -- "Unsuffered Consequences" 4273
Click on any hostname to see more info about the system (e.g. compilers)      (*) as reported by 'uname -p', except on Windows and Mac OS X

CHECK results for bigmelon on palomino3


To the developers/maintainers of the bigmelon package:
- Please allow up to 24 hours (and sometimes 48 hours) for your latest push to git@git.bioconductor.org:packages/bigmelon.git to
reflect on this report. See How and When does the builder pull? When will my changes propagate? for more information.
- Make sure to use the following settings in order to reproduce any error or warning you see on this page.

raw results

Package 149/2164HostnameOS / ArchINSTALLBUILDCHECKBUILD BIN
bigmelon 1.25.1  (landing page)
Tyler J. Gorrie-Stone
Snapshot Date: 2023-02-07 14:00:21 -0500 (Tue, 07 Feb 2023)
git_url: https://git.bioconductor.org/packages/bigmelon
git_branch: master
git_last_commit: 83428d7
git_last_commit_date: 2022-12-13 06:26:43 -0500 (Tue, 13 Dec 2022)
nebbiolo1Linux (Ubuntu 22.04.1 LTS) / x86_64  OK    OK    OK  UNNEEDED, same version is already published
palomino3Windows Server 2022 Datacenter / x64  OK    OK    OK    OK  UNNEEDED, same version is already published
merida1macOS 10.14.6 Mojave / x86_64  OK    OK    OK    OK  UNNEEDED, same version is already published

Summary

Package: bigmelon
Version: 1.25.1
Command: F:\biocbuild\bbs-3.17-bioc\R\bin\R.exe CMD check --no-multiarch --install=check:bigmelon.install-out.txt --library=F:\biocbuild\bbs-3.17-bioc\R\library --no-vignettes --timings bigmelon_1.25.1.tar.gz
StartedAt: 2023-02-07 23:40:42 -0500 (Tue, 07 Feb 2023)
EndedAt: 2023-02-07 23:47:42 -0500 (Tue, 07 Feb 2023)
EllapsedTime: 419.5 seconds
RetCode: 0
Status:   OK  
CheckDir: bigmelon.Rcheck
Warnings: 0

Command output

##############################################################################
##############################################################################
###
### Running command:
###
###   F:\biocbuild\bbs-3.17-bioc\R\bin\R.exe CMD check --no-multiarch --install=check:bigmelon.install-out.txt --library=F:\biocbuild\bbs-3.17-bioc\R\library --no-vignettes --timings bigmelon_1.25.1.tar.gz
###
##############################################################################
##############################################################################


* using log directory 'F:/biocbuild/bbs-3.17-bioc/meat/bigmelon.Rcheck'
* using R Under development (unstable) (2023-01-10 r83596 ucrt)
* using platform: x86_64-w64-mingw32 (64-bit)
* R was compiled by
    gcc.exe (GCC) 12.2.0
    GNU Fortran (GCC) 12.2.0
* running under: Windows Server x64 (build 20348)
* using session charset: UTF-8
* using option '--no-vignettes'
* checking for file 'bigmelon/DESCRIPTION' ... OK
* checking extension type ... Package
* this is package 'bigmelon' version '1.25.1'
* checking package namespace information ... OK
* checking package dependencies ... OK
* checking if this is a source package ... OK
* checking if there is a namespace ... OK
* checking for hidden files and directories ... OK
* checking for portable file names ... OK
* checking whether package 'bigmelon' can be installed ... OK
* checking installed package size ... OK
* checking package directory ... OK
* checking 'build' directory ... OK
* checking DESCRIPTION meta-information ... NOTE
Package listed in more than one of Depends, Imports, Suggests, Enhances:
  'BiocGenerics'
A package should be listed in only one of these fields.
* checking top-level files ... OK
* checking for left-over files ... OK
* checking index information ... OK
* checking package subdirectories ... OK
* checking R files for non-ASCII characters ... OK
* checking R files for syntax errors ... OK
* checking whether the package can be loaded ... OK
* checking whether the package can be loaded with stated dependencies ... OK
* checking whether the package can be unloaded cleanly ... OK
* checking whether the namespace can be loaded with stated dependencies ... OK
* checking whether the namespace can be unloaded cleanly ... OK
* checking dependencies in R code ... NOTE
Unexported objects imported by ':::' calls:
  'bumphunter:::greaterOrEqual' 'minfi:::pickCompProbes'
  'minfi:::projectCellType' 'wateRmelon:::.impose'
  'wateRmelon:::.normalizeQuantiles2'
  See the note in ?`:::` about the use of this operator.
* checking S3 generic/method consistency ... OK
* checking replacement functions ... OK
* checking foreign function calls ... OK
* checking R code for possible problems ... NOTE
bumphunterEngine.gdsn: no visible binding for global variable
  'locfitByCluster'
bumphunterEngine.gdsn: no visible global function definition for
  'getDoParRegistered'
bumphunterEngine.gdsn: no visible global function definition for
  'registerDoSEQ'
bumphunterEngine.gdsn: no visible global function definition for
  'getDoParWorkers'
bumphunterEngine.gdsn: no visible global function definition for
  'getDoParName'
bumphunterEngine.gdsn: no visible global function definition for
  'getDoParVersion'
bumphunterEngine.gdsn: no visible global function definition for
  'smoother'
bumphunterEngine.gdsn: no visible global function definition for
  'regionFinder'
bumphunterEngine.gdsn: no visible global function definition for
  '%dorng%'
bumphunterEngine.gdsn: no visible global function definition for
  'foreach'
bumphunterEngine.gdsn: no visible global function definition for 'iter'
bumphunterEngine.gdsn: no visible binding for global variable
  'regionFinder'
bumphunterEngine.gdsn : computation.tots: no visible global function
  definition for '%dorng%'
bumphunterEngine.gdsn : computation.tots: no visible global function
  definition for 'foreach'
bumphunterEngine.gdsn : computation.tots: no visible global function
  definition for 'iter'
bumphunterEngine.gdsn : computation.tots2: no visible global function
  definition for '%dorng%'
bumphunterEngine.gdsn : computation.tots2: no visible global function
  definition for 'foreach'
bumphunterEngine.gdsn : computation.tots2: no visible global function
  definition for 'iter'
es2gds: no visible global function definition for 'colData'
estimateCellCounts.gds: no visible global function definition for
  'colData'
Undefined global functions or variables:
  %dorng% colData foreach getDoParName getDoParRegistered
  getDoParVersion getDoParWorkers iter locfitByCluster regionFinder
  registerDoSEQ smoother
* checking Rd files ... OK
* checking Rd metadata ... OK
* checking Rd cross-references ... OK
* checking for missing documentation entries ... OK
* checking for code/documentation mismatches ... OK
* checking Rd \usage sections ... OK
* checking Rd contents ... OK
* checking for unstated dependencies in examples ... OK
* checking contents of 'data' directory ... OK
* checking data for non-ASCII characters ... OK
* checking data for ASCII and uncompressed saves ... OK
* checking sizes of PDF files under 'inst/doc' ... OK
* checking files in 'vignettes' ... OK
* checking examples ... OK
Examples with CPU (user + system) or elapsed time > 5s
      user system elapsed
iadd 35.89   1.02    55.5
* checking for unstated dependencies in 'tests' ... OK
* checking tests ...
  Running 'runTests.R'
 OK
* checking for unstated dependencies in vignettes ... OK
* checking package vignettes in 'inst/doc' ... OK
* checking running R code from vignettes ... SKIPPED
* checking re-building of vignette outputs ... SKIPPED
* checking PDF version of manual ... OK
* DONE

Status: 3 NOTEs
See
  'F:/biocbuild/bbs-3.17-bioc/meat/bigmelon.Rcheck/00check.log'
for details.



Installation output

bigmelon.Rcheck/00install.out

##############################################################################
##############################################################################
###
### Running command:
###
###   F:\biocbuild\bbs-3.17-bioc\R\bin\R.exe CMD INSTALL bigmelon
###
##############################################################################
##############################################################################


* installing to library 'F:/biocbuild/bbs-3.17-bioc/R/library'
* installing *source* package 'bigmelon' ...
** using staged installation
** R
** data
** inst
** byte-compile and prepare package for lazy loading
No methods found in package 'RSQLite' for request: 'dbListFields' when loading 'lumi'
Creating a new generic function for 'fot' in package 'bigmelon'
** help
*** installing help indices
** building package indices
** installing vignettes
** testing if installed package can be loaded from temporary location
No methods found in package 'RSQLite' for request: 'dbListFields' when loading 'lumi'
** testing if installed package can be loaded from final location
No methods found in package 'RSQLite' for request: 'dbListFields' when loading 'lumi'
** testing if installed package keeps a record of temporary installation path
* DONE (bigmelon)

Tests output

bigmelon.Rcheck/tests/runTests.Rout


R Under development (unstable) (2023-01-10 r83596 ucrt) -- "Unsuffered Consequences"
Copyright (C) 2023 The R Foundation for Statistical Computing
Platform: x86_64-w64-mingw32/x64 (64-bit)

R is free software and comes with ABSOLUTELY NO WARRANTY.
You are welcome to redistribute it under certain conditions.
Type 'license()' or 'licence()' for distribution details.

R is a collaborative project with many contributors.
Type 'contributors()' for more information and
'citation()' on how to cite R or R packages in publications.

Type 'demo()' for some demos, 'help()' for on-line help, or
'help.start()' for an HTML browser interface to help.
Type 'q()' to quit R.

> BiocGenerics:::testPackage("bigmelon")

Attaching package: 'BiocGenerics'

The following objects are masked from 'package:stats':

    IQR, mad, sd, var, xtabs

The following objects are masked from 'package:base':

    Filter, Find, Map, Position, Reduce, anyDuplicated, aperm, append,
    as.data.frame, basename, cbind, colnames, dirname, do.call,
    duplicated, eval, evalq, get, grep, grepl, intersect, is.unsorted,
    lapply, mapply, match, mget, order, paste, pmax, pmax.int, pmin,
    pmin.int, rank, rbind, rownames, sapply, setdiff, sort, table,
    tapply, union, unique, unsplit, which.max, which.min

Welcome to Bioconductor

    Vignettes contain introductory material; view with
    'browseVignettes()'. To cite Bioconductor, see
    'citation("Biobase")', and for packages 'citation("pkgname")'.


Attaching package: 'limma'

The following object is masked from 'package:BiocGenerics':

    plotMA


Attaching package: 'matrixStats'

The following objects are masked from 'package:Biobase':

    anyMissing, rowMedians


Attaching package: 'S4Vectors'

The following objects are masked from 'package:base':

    I, expand.grid, unname


Attaching package: 'IRanges'

The following object is masked from 'package:grDevices':

    windows



Attaching package: 'MatrixGenerics'

The following objects are masked from 'package:matrixStats':

    colAlls, colAnyNAs, colAnys, colAvgsPerRowSet, colCollapse,
    colCounts, colCummaxs, colCummins, colCumprods, colCumsums,
    colDiffs, colIQRDiffs, colIQRs, colLogSumExps, colMadDiffs,
    colMads, colMaxs, colMeans2, colMedians, colMins, colOrderStats,
    colProds, colQuantiles, colRanges, colRanks, colSdDiffs, colSds,
    colSums2, colTabulates, colVarDiffs, colVars, colWeightedMads,
    colWeightedMeans, colWeightedMedians, colWeightedSds,
    colWeightedVars, rowAlls, rowAnyNAs, rowAnys, rowAvgsPerColSet,
    rowCollapse, rowCounts, rowCummaxs, rowCummins, rowCumprods,
    rowCumsums, rowDiffs, rowIQRDiffs, rowIQRs, rowLogSumExps,
    rowMadDiffs, rowMads, rowMaxs, rowMeans2, rowMedians, rowMins,
    rowOrderStats, rowProds, rowQuantiles, rowRanges, rowRanks,
    rowSdDiffs, rowSds, rowSums2, rowTabulates, rowVarDiffs, rowVars,
    rowWeightedMads, rowWeightedMeans, rowWeightedMedians,
    rowWeightedSds, rowWeightedVars

The following object is masked from 'package:Biobase':

    rowMedians


Attaching package: 'Biostrings'

The following object is masked from 'package:base':

    strsplit

locfit 1.5-9.7 	 2023-01-02
Setting options('download.file.method.GEOquery'='auto')
Setting options('GEOquery.inmemory.gpl'=FALSE)
No methods found in package 'RSQLite' for request: 'dbListFields' when loading 'lumi'

Attaching package: 'lumi'

The following objects are masked from 'package:methylumi':

    estimateM, getHistory


Attaching package: 'bigmelon'

The following object is masked from 'package:wateRmelon':

    fot

t8.gds doesn't exist, creating new file
creating gdsfile...
betas... 
pvals... 
methylated... 
unmethylated... 
fData... 
pData... 
qcdata... 
finished creating gdsfile
Directing 'rownames' to fData/TargetID by default, change with redirect.gds if incorrect.
Directing 'colnames' to pData/sampleID by default, change with redirect.gds if incorrect.
t9.gds doesn't exist, creating new file
creating gdsfile...
betas... 
pvals... 
methylated... 
unmethylated... 
fData... 
pData... 
qcdata... 
finished creating gdsfile
Directing 'rownames' to fData/TargetID by default, change with redirect.gds if incorrect.
Directing 'colnames' to pData/sampleID by default, change with redirect.gds if incorrect.
t2.gds doesn't exist, creating new file
creating gdsfile...
betas... 
pvals... 
methylated... 
unmethylated... 
fData... 
pData... 
qcdata... 
finished creating gdsfile
Directing 'rownames' to fData/TargetID by default, change with redirect.gds if incorrect.
Directing 'colnames' to pData/sampleID by default, change with redirect.gds if incorrect.
appending to F:\biocbuild\bbs-3.17-bioc\meat\bigmelon.Rcheck\tests\t2.gds
betas... 
pvals... 
methylated... 
unmethylated... 
fData... 
pData... 
qcdata... 
t3.gds doesn't exist, creating new file
creating gdsfile...
betas... 
pvals... 
methylated... 
unmethylated... 
fData... 
pData... 
qcdata... 
finished creating gdsfile
Directing 'rownames' to fData/TargetID by default, change with redirect.gds if incorrect.
Directing 'colnames' to pData/sampleID by default, change with redirect.gds if incorrect.
t4.gds doesn't exist, creating new file
creating gdsfile...
betas... 
pvals... 
methylated... 
unmethylated... 
fData... 
pData... 
qcdata... 
finished creating gdsfile
Directing 'rownames' to fData/TargetID by default, change with redirect.gds if incorrect.
Directing 'colnames' to pData/sampleID by default, change with redirect.gds if incorrect.
t0.gds doesn't exist, creating new file
creating gdsfile...
betas... 
pvals... 
methylated... 
unmethylated... 
fData... 
pData... 
qcdata... 
finished creating gdsfile
Directing 'rownames' to fData/TargetID by default, change with redirect.gds if incorrect.
Directing 'colnames' to pData/sampleID by default, change with redirect.gds if incorrect.
t5.gds doesn't exist, creating new file
creating gdsfile...
betas... 
pvals... 
methylated... 
unmethylated... 
fData... 
pData... 
qcdata... 
finished creating gdsfile
Directing 'rownames' to fData/TargetID by default, change with redirect.gds if incorrect.
Directing 'colnames' to pData/sampleID by default, change with redirect.gds if incorrect.
t7.gds doesn't exist, creating new file
creating gdsfile...
betas... 
pvals... 
methylated... 
unmethylated... 
fData... 
pData... 
qcdata... 
finished creating gdsfile
Directing 'rownames' to fData/TargetID by default, change with redirect.gds if incorrect.
Directing 'colnames' to pData/sampleID by default, change with redirect.gds if incorrect.
t6.gds doesn't exist, creating new file
creating gdsfile...
betas... 
pvals... 
methylated... 
unmethylated... 
fData... 
pData... 
qcdata... 
finished creating gdsfile
Directing 'rownames' to fData/TargetID by default, change with redirect.gds if incorrect.
Directing 'colnames' to pData/sampleID by default, change with redirect.gds if incorrect.


RUNIT TEST PROTOCOL -- Tue Feb  7 23:47:29 2023 
*********************************************** 
Number of test functions: 8 
Number of errors: 0 
Number of failures: 0 

 
1 Test Suite : 
bigmelon RUnit Tests - 8 test functions, 0 errors, 0 failures
Number of test functions: 8 
Number of errors: 0 
Number of failures: 0 
> 
> 
> proc.time()
   user  system elapsed 
  17.73    1.45   19.26 

Example timings

bigmelon.Rcheck/bigmelon-Ex.timings

nameusersystemelapsed
GEOtoGDS000
app2gds0.300.090.42
backupGdsn0.170.010.18
bigmelon-accessors0.330.020.36
bigmelon-internal0.200.020.22
bigmelon-normalization2.410.122.53
combogds0.350.060.42
es2gds0.150.030.17
finalreport2gds000
gds2mlumi0.280.030.32
getquantilesandranks0.150.060.21
iadd35.89 1.0255.50
pfiltergds0.260.050.31
prcompgdsn0.270.010.28
pwodgdsn0.310.030.35
rankednorm0.170.020.18
redirect0.150.050.19