Back to Multiple platform build/check report for BioC 3.17
ABCDEFGH[I]JKLMNOPQRSTUVWXYZ

This page was generated on 2023-01-31 11:06:04 -0500 (Tue, 31 Jan 2023).

HostnameOSArch (*)R versionInstalled pkgs
nebbiolo1Linux (Ubuntu 22.04.1 LTS)x86_64R Under development (unstable) (2023-01-10 r83596) -- "Unsuffered Consequences" 4467
palomino3Windows Server 2022 Datacenterx64R Under development (unstable) (2023-01-10 r83596 ucrt) -- "Unsuffered Consequences" 4248
merida1macOS 10.14.6 Mojavex86_64R Under development (unstable) (2023-01-10 r83596) -- "Unsuffered Consequences" 4271
Click on any hostname to see more info about the system (e.g. compilers)      (*) as reported by 'uname -p', except on Windows and Mac OS X

INSTALL results for IsoformSwitchAnalyzeR on nebbiolo1


To the developers/maintainers of the IsoformSwitchAnalyzeR package:
- Please allow up to 24 hours (and sometimes 48 hours) for your latest push to git@git.bioconductor.org:packages/IsoformSwitchAnalyzeR.git to
reflect on this report. See How and When does the builder pull? When will my changes propagate? for more information.
- Make sure to use the following settings in order to reproduce any error or warning you see on this page.

raw results

Package 995/2164HostnameOS / ArchINSTALLBUILDCHECKBUILD BIN
IsoformSwitchAnalyzeR 1.21.0  (landing page)
Kristoffer Vitting-Seerup
Snapshot Date: 2023-01-30 14:00:21 -0500 (Mon, 30 Jan 2023)
git_url: https://git.bioconductor.org/packages/IsoformSwitchAnalyzeR
git_branch: master
git_last_commit: 76182b8
git_last_commit_date: 2022-11-01 11:15:48 -0500 (Tue, 01 Nov 2022)
nebbiolo1Linux (Ubuntu 22.04.1 LTS) / x86_64  OK    ERROR  skipped
palomino3Windows Server 2022 Datacenter / x64  OK    ERROR  skippedskipped
merida1macOS 10.14.6 Mojave / x86_64  OK    ERROR  skippedskipped

Summary

Package: IsoformSwitchAnalyzeR
Version: 1.21.0
Command: /home/biocbuild/bbs-3.17-bioc/R/bin/R CMD INSTALL IsoformSwitchAnalyzeR
StartedAt: 2023-01-30 15:45:02 -0500 (Mon, 30 Jan 2023)
EndedAt: 2023-01-30 15:45:54 -0500 (Mon, 30 Jan 2023)
EllapsedTime: 51.2 seconds
RetCode: 0
Status:   OK  

Command output

##############################################################################
##############################################################################
###
### Running command:
###
###   /home/biocbuild/bbs-3.17-bioc/R/bin/R CMD INSTALL IsoformSwitchAnalyzeR
###
##############################################################################
##############################################################################


* installing to library ‘/home/biocbuild/bbs-3.17-bioc/R/library’
* installing *source* package ‘IsoformSwitchAnalyzeR’ ...
** using staged installation
** libs
using C compiler: ‘gcc (Ubuntu 11.3.0-1ubuntu1~22.04) 11.3.0’
gcc -I"/home/biocbuild/bbs-3.17-bioc/R/include" -DNDEBUG   -I/usr/local/include    -fpic  -g -O2  -Wall -c utils.c -o utils.o
gcc -shared -L/home/biocbuild/bbs-3.17-bioc/R/lib -L/usr/local/lib -o IsoformSwitchAnalyzeR.so utils.o -L/home/biocbuild/bbs-3.17-bioc/R/lib -lR
installing to /home/biocbuild/bbs-3.17-bioc/R/library/00LOCK-IsoformSwitchAnalyzeR/00new/IsoformSwitchAnalyzeR/libs
** R
** data
** inst
** byte-compile and prepare package for lazy loading
** help
*** installing help indices
** building package indices
** installing vignettes
** testing if installed package can be loaded from temporary location
** checking absolute paths in shared objects and dynamic libraries
** testing if installed package can be loaded from final location
** testing if installed package keeps a record of temporary installation path
* DONE (IsoformSwitchAnalyzeR)