Back to Multiple platform build/check report for BioC 3.19:   simplified   long
AB[C]DEFGHIJKLMNOPQRSTUVWXYZ

This page was generated on 2024-02-22 12:48:03 -0500 (Thu, 22 Feb 2024).

HostnameOSArch (*)R versionInstalled pkgs
nebbiolo1Linux (Ubuntu 22.04.3 LTS)x86_64R Under development (unstable) (2024-01-16 r85808) -- "Unsuffered Consequences" 4657
palomino3Windows Server 2022 Datacenterx64R Under development (unstable) (2024-01-14 r85805 ucrt) -- "Unsuffered Consequences" 4397
Click on any hostname to see more info about the system (e.g. compilers)      (*) as reported by 'uname -p', except on Windows and Mac OS X

Package 348/2244HostnameOS / ArchINSTALLBUILDCHECKBUILD BIN
cicero 1.21.0  (landing page)
Hannah Pliner
Snapshot Date: 2024-02-21 14:10:10 -0500 (Wed, 21 Feb 2024)
git_url: https://git.bioconductor.org/packages/cicero
git_branch: devel
git_last_commit: e41d30f
git_last_commit_date: 2023-10-24 11:08:17 -0500 (Tue, 24 Oct 2023)
nebbiolo1Linux (Ubuntu 22.04.3 LTS) / x86_64  ERROR    ERROR  skipped
palomino3Windows Server 2022 Datacenter / x64  ERROR    ERROR  skippedskipped

INSTALL results for cicero on nebbiolo1


To the developers/maintainers of the cicero package:
- Allow up to 24 hours (and sometimes 48 hours) for your latest push to git@git.bioconductor.org:packages/cicero.git to reflect on this report. See Troubleshooting Build Report for more information.
- Use the following Renviron settings to reproduce errors and warnings.
- If 'R CMD check' started to fail recently on the Linux builder(s) over a missing dependency, add the missing dependency to 'Suggests:' in your DESCRIPTION file. See Renviron.bioc for more information.

raw results


Summary

Package: cicero
Version: 1.21.0
Command: /home/biocbuild/bbs-3.19-bioc/R/bin/R CMD INSTALL cicero
StartedAt: 2024-02-21 15:51:24 -0500 (Wed, 21 Feb 2024)
EndedAt: 2024-02-21 15:51:24 -0500 (Wed, 21 Feb 2024)
EllapsedTime: 0.3 seconds
RetCode: 1
Status:   ERROR  

Command output

##############################################################################
##############################################################################
###
### Running command:
###
###   /home/biocbuild/bbs-3.19-bioc/R/bin/R CMD INSTALL cicero
###
##############################################################################
##############################################################################


* installing to library ‘/home/biocbuild/bbs-3.19-bioc/R/site-library’
ERROR: dependency ‘monocle’ is not available for package ‘cicero’
* removing ‘/home/biocbuild/bbs-3.19-bioc/R/site-library/cicero’