Back to Multiple platform build/check report for BioC 3.17
[A]BCDEFGHIJKLMNOPQRSTUVWXYZ

This page was generated on 2023-02-01 11:06:40 -0500 (Wed, 01 Feb 2023).

HostnameOSArch (*)R versionInstalled pkgs
nebbiolo1Linux (Ubuntu 22.04.1 LTS)x86_64R Under development (unstable) (2023-01-10 r83596) -- "Unsuffered Consequences" 4483
palomino3Windows Server 2022 Datacenterx64R Under development (unstable) (2023-01-10 r83596 ucrt) -- "Unsuffered Consequences" 4249
merida1macOS 10.14.6 Mojavex86_64R Under development (unstable) (2023-01-10 r83596) -- "Unsuffered Consequences" 4272
Click on any hostname to see more info about the system (e.g. compilers)      (*) as reported by 'uname -p', except on Windows and Mac OS X

CHECK results for AnnotationForge on palomino3


To the developers/maintainers of the AnnotationForge package:
- Please allow up to 24 hours (and sometimes 48 hours) for your latest push to git@git.bioconductor.org:packages/AnnotationForge.git to
reflect on this report. See How and When does the builder pull? When will my changes propagate? for more information.
- Make sure to use the following settings in order to reproduce any error or warning you see on this page.

raw results

Package 57/2164HostnameOS / ArchINSTALLBUILDCHECKBUILD BIN
AnnotationForge 1.41.0  (landing page)
Bioconductor Package Maintainer
Snapshot Date: 2023-01-31 14:00:20 -0500 (Tue, 31 Jan 2023)
git_url: https://git.bioconductor.org/packages/AnnotationForge
git_branch: master
git_last_commit: e247a06
git_last_commit_date: 2022-11-01 11:07:07 -0500 (Tue, 01 Nov 2022)
nebbiolo1Linux (Ubuntu 22.04.1 LTS) / x86_64  OK    OK    OK  UNNEEDED, same version is already published
palomino3Windows Server 2022 Datacenter / x64  OK    OK    OK    OK  UNNEEDED, same version is already published
merida1macOS 10.14.6 Mojave / x86_64  OK    OK    OK    OK  UNNEEDED, same version is already published

Summary

Package: AnnotationForge
Version: 1.41.0
Command: F:\biocbuild\bbs-3.17-bioc\R\bin\R.exe CMD check --no-multiarch --install=check:AnnotationForge.install-out.txt --library=F:\biocbuild\bbs-3.17-bioc\R\library --no-vignettes --timings AnnotationForge_1.41.0.tar.gz
StartedAt: 2023-01-31 23:05:12 -0500 (Tue, 31 Jan 2023)
EndedAt: 2023-01-31 23:07:20 -0500 (Tue, 31 Jan 2023)
EllapsedTime: 127.4 seconds
RetCode: 0
Status:   OK  
CheckDir: AnnotationForge.Rcheck
Warnings: 0

Command output

##############################################################################
##############################################################################
###
### Running command:
###
###   F:\biocbuild\bbs-3.17-bioc\R\bin\R.exe CMD check --no-multiarch --install=check:AnnotationForge.install-out.txt --library=F:\biocbuild\bbs-3.17-bioc\R\library --no-vignettes --timings AnnotationForge_1.41.0.tar.gz
###
##############################################################################
##############################################################################


* using log directory 'F:/biocbuild/bbs-3.17-bioc/meat/AnnotationForge.Rcheck'
* using R Under development (unstable) (2023-01-10 r83596 ucrt)
* using platform: x86_64-w64-mingw32 (64-bit)
* R was compiled by
    gcc.exe (GCC) 12.2.0
    GNU Fortran (GCC) 12.2.0
* running under: Windows Server x64 (build 20348)
* using session charset: UTF-8
* using option '--no-vignettes'
* checking for file 'AnnotationForge/DESCRIPTION' ... OK
* this is package 'AnnotationForge' version '1.41.0'
* package encoding: UTF-8
* checking package namespace information ... OK
* checking package dependencies ... OK
* checking if this is a source package ... OK
* checking if there is a namespace ... OK
* checking for hidden files and directories ... OK
* checking for portable file names ... OK
* checking whether package 'AnnotationForge' can be installed ... OK
* checking installed package size ... NOTE
  installed size is  5.2Mb
  sub-directories of 1Mb or more:
    AnnDbPkg-templates   1.3Mb
    extdata              3.3Mb
* checking package directory ... OK
* checking 'build' directory ... OK
* checking DESCRIPTION meta-information ... OK
* checking top-level files ... OK
* checking for left-over files ... OK
* checking index information ... OK
* checking package subdirectories ... OK
* checking R files for non-ASCII characters ... OK
* checking R files for syntax errors ... OK
* checking whether the package can be loaded ... OK
* checking whether the package can be loaded with stated dependencies ... OK
* checking whether the package can be unloaded cleanly ... OK
* checking whether the namespace can be loaded with stated dependencies ... OK
* checking whether the namespace can be unloaded cleanly ... OK
* checking dependencies in R code ... NOTE
Unexported objects imported by ':::' calls:
  'BiocGenerics:::testPackage'
  'GenomeInfoDb:::lookup_organism_by_tax_id'
  'GenomeInfoDb:::lookup_tax_id_by_organism'
  See the note in ?`:::` about the use of this operator.
* checking S3 generic/method consistency ... OK
* checking replacement functions ... OK
* checking foreign function calls ... OK
* checking R code for possible problems ... OK
* checking Rd files ... NOTE
checkRd: (-1) makeProbePackage.Rd:25: Escaped LaTeX specials: \_
checkRd: (-1) makeProbePackage.Rd:26: Escaped LaTeX specials: \_
checkRd: (-1) sqlForge-makeCHIPDB.Rd:9: Escaped LaTeX specials: \_
* checking Rd metadata ... OK
* checking Rd cross-references ... OK
* checking for missing documentation entries ... OK
* checking for code/documentation mismatches ... OK
* checking Rd \usage sections ... OK
* checking Rd contents ... OK
* checking for unstated dependencies in examples ... OK
* checking sizes of PDF files under 'inst/doc' ... OK
* checking files in 'vignettes' ... OK
* checking examples ... OK
* checking for unstated dependencies in 'tests' ... OK
* checking tests ...
  Running 'AnnotationForge_unit_tests.R'
 OK
* checking for unstated dependencies in vignettes ... OK
* checking package vignettes in 'inst/doc' ... OK
* checking running R code from vignettes ... SKIPPED
* checking re-building of vignette outputs ... SKIPPED
* checking PDF version of manual ... OK
* DONE

Status: 3 NOTEs
See
  'F:/biocbuild/bbs-3.17-bioc/meat/AnnotationForge.Rcheck/00check.log'
for details.



Installation output

AnnotationForge.Rcheck/00install.out

##############################################################################
##############################################################################
###
### Running command:
###
###   F:\biocbuild\bbs-3.17-bioc\R\bin\R.exe CMD INSTALL AnnotationForge
###
##############################################################################
##############################################################################


* installing to library 'F:/biocbuild/bbs-3.17-bioc/R/library'
* installing *source* package 'AnnotationForge' ...
** using staged installation
** R
** inst
** byte-compile and prepare package for lazy loading
** help
*** installing help indices
** building package indices
** installing vignettes
** testing if installed package can be loaded from temporary location
** testing if installed package can be loaded from final location
** testing if installed package keeps a record of temporary installation path
* DONE (AnnotationForge)

Tests output

AnnotationForge.Rcheck/tests/AnnotationForge_unit_tests.Rout


R Under development (unstable) (2023-01-10 r83596 ucrt) -- "Unsuffered Consequences"
Copyright (C) 2023 The R Foundation for Statistical Computing
Platform: x86_64-w64-mingw32/x64 (64-bit)

R is free software and comes with ABSOLUTELY NO WARRANTY.
You are welcome to redistribute it under certain conditions.
Type 'license()' or 'licence()' for distribution details.

R is a collaborative project with many contributors.
Type 'contributors()' for more information and
'citation()' on how to cite R or R packages in publications.

Type 'demo()' for some demos, 'help()' for on-line help, or
'help.start()' for an HTML browser interface to help.
Type 'q()' to quit R.

> require("AnnotationForge") || stop("unable to load AnnotationForge package")
Loading required package: AnnotationForge
Loading required package: BiocGenerics

Attaching package: 'BiocGenerics'

The following objects are masked from 'package:stats':

    IQR, mad, sd, var, xtabs

The following objects are masked from 'package:base':

    Filter, Find, Map, Position, Reduce, anyDuplicated, aperm, append,
    as.data.frame, basename, cbind, colnames, dirname, do.call,
    duplicated, eval, evalq, get, grep, grepl, intersect, is.unsorted,
    lapply, mapply, match, mget, order, paste, pmax, pmax.int, pmin,
    pmin.int, rank, rbind, rownames, sapply, setdiff, sort, table,
    tapply, union, unique, unsplit, which.max, which.min

Loading required package: Biobase
Welcome to Bioconductor

    Vignettes contain introductory material; view with
    'browseVignettes()'. To cite Bioconductor, see
    'citation("Biobase")', and for packages 'citation("pkgname")'.

Loading required package: AnnotationDbi
Loading required package: stats4
Loading required package: IRanges
Loading required package: S4Vectors

Attaching package: 'S4Vectors'

The following objects are masked from 'package:base':

    I, expand.grid, unname


Attaching package: 'IRanges'

The following object is masked from 'package:grDevices':

    windows

[1] TRUE
> AnnotationForge:::.test()

'select()' returned many:1 mapping between keys and columns
'select()' returned many:1 mapping between keys and columns
Populating genes table:
genes table filled
Populating gene_info table:
gene_info table filled
Populating chromosome table:
chromosome table filled
Populating go table:
go table filled
table metadata filled
'select()' returned many:1 mapping between keys and columns
Dropping GO IDs that are too new for the current GO.db
Populating go table:
go table filled
Populating go_bp table:
go_bp table filled
Populating go_cc table:
go_cc table filled
Populating go_mf table:
go_mf table filled
'select()' returned many:1 mapping between keys and columns
Populating go_bp_all table:
go_bp_all table filled
Populating go_cc_all table:
go_cc_all table filled
Populating go_mf_all table:
go_mf_all table filled
Populating go_all table:
go_all table filled
Creating package in F:\biocbuild\bbs-3.17-bioc\tmpdir\RtmpkLHs6p\file2cb471067a19/org.Tguttata.eg.db 
Now deleting temporary database file


RUNIT TEST PROTOCOL -- Tue Jan 31 23:07:07 2023 
*********************************************** 
Number of test functions: 4 
Number of errors: 0 
Number of failures: 0 

 
1 Test Suite : 
AnnotationForge RUnit Tests - 4 test functions, 0 errors, 0 failures
Number of test functions: 4 
Number of errors: 0 
Number of failures: 0 
Warning messages:
1: call dbDisconnect() when finished working with a connection 
2: In file.remove(dbFileName) :
  cannot remove file 'F:\biocbuild\bbs-3.17-bioc\tmpdir\RtmpkLHs6p\file2cb471067a19/org.Tguttata.eg.sqlite', reason 'Permission denied'
> 
> proc.time()
   user  system elapsed 
   7.35    1.60    9.51 

Example timings

AnnotationForge.Rcheck/AnnotationForge-Ex.timings

nameusersystemelapsed
AnnDbPkg-maker0.040.020.06
available.db0pkgs0.020.030.08
generateSeqnames_db000
getProbeDataAffy000
getProbeData_1lq000
makeChipPackageFromDataFrames000
makeInpDb000
makeOrgPackage000
makeOrgPackageFromNCBI000
makeProbePackage2.360.032.53
sqlForge-makeCHIPDB000
sqlForge-popDB000
sqlForge-wrapDBPackages000