Back to Multiple platform build/check report for BioC 3.19:   simplified   long
ABCDEF[G]HIJKLMNOPQRSTUVWXYZ

This page was generated on 2024-02-21 12:53:07 -0500 (Wed, 21 Feb 2024).

HostnameOSArch (*)R versionInstalled pkgs
nebbiolo1Linux (Ubuntu 22.04.3 LTS)x86_64R Under development (unstable) (2024-01-16 r85808) -- "Unsuffered Consequences" 4657
palomino3Windows Server 2022 Datacenterx64R Under development (unstable) (2024-01-14 r85805 ucrt) -- "Unsuffered Consequences" 4397
Click on any hostname to see more info about the system (e.g. compilers)      (*) as reported by 'uname -p', except on Windows and Mac OS X

Package 757/2244HostnameOS / ArchINSTALLBUILDCHECKBUILD BIN
GA4GHclient 1.27.0  (landing page)
Welliton Souza
Snapshot Date: 2024-02-20 14:10:09 -0500 (Tue, 20 Feb 2024)
git_url: https://git.bioconductor.org/packages/GA4GHclient
git_branch: devel
git_last_commit: df9b49f
git_last_commit_date: 2023-10-24 10:56:18 -0500 (Tue, 24 Oct 2023)
nebbiolo1Linux (Ubuntu 22.04.3 LTS) / x86_64  OK    OK    OK  UNNEEDED, same version is already published
palomino3Windows Server 2022 Datacenter / x64  OK    OK    OK    OK  UNNEEDED, same version is already published

INSTALL results for GA4GHclient on nebbiolo1


To the developers/maintainers of the GA4GHclient package:
- Allow up to 24 hours (and sometimes 48 hours) for your latest push to git@git.bioconductor.org:packages/GA4GHclient.git to reflect on this report. See Troubleshooting Build Report for more information.
- Use the following Renviron settings to reproduce errors and warnings.
- If 'R CMD check' started to fail recently on the Linux builder(s) over a missing dependency, add the missing dependency to 'Suggests:' in your DESCRIPTION file. See Renviron.bioc for more information.

raw results


Summary

Package: GA4GHclient
Version: 1.27.0
Command: /home/biocbuild/bbs-3.19-bioc/R/bin/R CMD INSTALL GA4GHclient
StartedAt: 2024-02-20 15:26:24 -0500 (Tue, 20 Feb 2024)
EndedAt: 2024-02-20 15:27:06 -0500 (Tue, 20 Feb 2024)
EllapsedTime: 42.0 seconds
RetCode: 0
Status:   OK  

Command output

##############################################################################
##############################################################################
###
### Running command:
###
###   /home/biocbuild/bbs-3.19-bioc/R/bin/R CMD INSTALL GA4GHclient
###
##############################################################################
##############################################################################


* installing to library ‘/home/biocbuild/bbs-3.19-bioc/R/site-library’
* installing *source* package ‘GA4GHclient’ ...
** using staged installation
** R
** inst
** byte-compile and prepare package for lazy loading
No methods found in package ‘BiocGenerics’ for request: ‘lengths’ when loading ‘GA4GHclient’
** help
*** installing help indices
** building package indices
** installing vignettes
** testing if installed package can be loaded from temporary location
No methods found in package ‘BiocGenerics’ for request: ‘lengths’ when loading ‘GA4GHclient’
** testing if installed package can be loaded from final location
No methods found in package ‘BiocGenerics’ for request: ‘lengths’ when loading ‘GA4GHclient’
** testing if installed package keeps a record of temporary installation path
* DONE (GA4GHclient)