Back to Multiple platform build/check report for BioC 3.17:   simplified   long
ABCDE[F]GHIJKLMNOPQRSTUVWXYZ

This page was generated on 2023-02-08 11:05:42 -0500 (Wed, 08 Feb 2023).

HostnameOSArch (*)R versionInstalled pkgs
nebbiolo1Linux (Ubuntu 22.04.1 LTS)x86_64R Under development (unstable) (2023-01-10 r83596) -- "Unsuffered Consequences" 4484
palomino3Windows Server 2022 Datacenterx64R Under development (unstable) (2023-01-10 r83596 ucrt) -- "Unsuffered Consequences" 4250
merida1macOS 10.14.6 Mojavex86_64R Under development (unstable) (2023-01-10 r83596) -- "Unsuffered Consequences" 4273
Click on any hostname to see more info about the system (e.g. compilers)      (*) as reported by 'uname -p', except on Windows and Mac OS X

BUILD results for ffpe on palomino3


To the developers/maintainers of the ffpe package:
- Please allow up to 24 hours (and sometimes 48 hours) for your latest push to git@git.bioconductor.org:packages/ffpe.git to
reflect on this report. See How and When does the builder pull? When will my changes propagate? for more information.
- Make sure to use the following settings in order to reproduce any error or warning you see on this page.

raw results

Package 664/2164HostnameOS / ArchINSTALLBUILDCHECKBUILD BIN
ffpe 1.43.0  (landing page)
Levi Waldron
Snapshot Date: 2023-02-07 14:00:21 -0500 (Tue, 07 Feb 2023)
git_url: https://git.bioconductor.org/packages/ffpe
git_branch: master
git_last_commit: 0136ce3
git_last_commit_date: 2022-11-01 11:06:45 -0500 (Tue, 01 Nov 2022)
nebbiolo1Linux (Ubuntu 22.04.1 LTS) / x86_64  OK    OK    OK  UNNEEDED, same version is already published
palomino3Windows Server 2022 Datacenter / x64  OK    OK    OK    OK  UNNEEDED, same version is already published
merida1macOS 10.14.6 Mojave / x86_64  OK    OK    OK    OK  UNNEEDED, same version is already published

Summary

Package: ffpe
Version: 1.43.0
Command: chmod a+r ffpe -R && F:\biocbuild\bbs-3.17-bioc\R\bin\R.exe CMD build --keep-empty-dirs --no-resave-data ffpe
StartedAt: 2023-02-07 19:07:00 -0500 (Tue, 07 Feb 2023)
EndedAt: 2023-02-07 19:08:33 -0500 (Tue, 07 Feb 2023)
EllapsedTime: 92.3 seconds
RetCode: 0
Status:   OK  
PackageFile: ffpe_1.43.0.tar.gz
PackageFileSize: 164.1 KiB

Command output

##############################################################################
##############################################################################
###
### Running command:
###
###   chmod a+r ffpe -R && F:\biocbuild\bbs-3.17-bioc\R\bin\R.exe CMD build --keep-empty-dirs --no-resave-data ffpe
###
##############################################################################
##############################################################################


* checking for file 'ffpe/DESCRIPTION' ... OK
* preparing 'ffpe':
* checking DESCRIPTION meta-information ... OK
* installing the package to build vignettes
* creating vignettes ... OK
* checking for LF line-endings in source and make files and shell scripts
* checking for empty or unneeded directories
* building 'ffpe_1.43.0.tar.gz'