Back to Multiple platform build/check report for BioC 3.19:   simplified   long
ABCDEFGH[I]JKLMNOPQRSTUVWXYZ

This page was generated on 2024-02-21 12:53:10 -0500 (Wed, 21 Feb 2024).

HostnameOSArch (*)R versionInstalled pkgs
nebbiolo1Linux (Ubuntu 22.04.3 LTS)x86_64R Under development (unstable) (2024-01-16 r85808) -- "Unsuffered Consequences" 4657
palomino3Windows Server 2022 Datacenterx64R Under development (unstable) (2024-01-14 r85805 ucrt) -- "Unsuffered Consequences" 4397
Click on any hostname to see more info about the system (e.g. compilers)      (*) as reported by 'uname -p', except on Windows and Mac OS X

Package 997/2244HostnameOS / ArchINSTALLBUILDCHECKBUILD BIN
igvR 1.23.0  (landing page)
Arkadiusz Gladki
Snapshot Date: 2024-02-20 14:10:09 -0500 (Tue, 20 Feb 2024)
git_url: https://git.bioconductor.org/packages/igvR
git_branch: devel
git_last_commit: fc3978b
git_last_commit_date: 2023-10-24 11:04:57 -0500 (Tue, 24 Oct 2023)
nebbiolo1Linux (Ubuntu 22.04.3 LTS) / x86_64  OK    OK    OK  UNNEEDED, same version is already published
palomino3Windows Server 2022 Datacenter / x64  OK    OK    OK    OK  UNNEEDED, same version is already published

BUILD results for igvR on nebbiolo1


To the developers/maintainers of the igvR package:
- Allow up to 24 hours (and sometimes 48 hours) for your latest push to git@git.bioconductor.org:packages/igvR.git to reflect on this report. See Troubleshooting Build Report for more information.
- Use the following Renviron settings to reproduce errors and warnings.
- If 'R CMD check' started to fail recently on the Linux builder(s) over a missing dependency, add the missing dependency to 'Suggests:' in your DESCRIPTION file. See Renviron.bioc for more information.

raw results


Summary

Package: igvR
Version: 1.23.0
Command: /home/biocbuild/bbs-3.19-bioc/R/bin/R CMD build --keep-empty-dirs --no-resave-data igvR
StartedAt: 2024-02-20 17:37:37 -0500 (Tue, 20 Feb 2024)
EndedAt: 2024-02-20 17:38:29 -0500 (Tue, 20 Feb 2024)
EllapsedTime: 51.5 seconds
RetCode: 0
Status:   OK  
PackageFile: igvR_1.23.0.tar.gz
PackageFileSize: 8.593 MiB

Command output

##############################################################################
##############################################################################
###
### Running command:
###
###   /home/biocbuild/bbs-3.19-bioc/R/bin/R CMD build --keep-empty-dirs --no-resave-data igvR
###
##############################################################################
##############################################################################


* checking for file ‘igvR/DESCRIPTION’ ... OK
* preparing ‘igvR’:
* checking DESCRIPTION meta-information ... OK
* installing the package to build vignettes
* creating vignettes ... OK
* checking for LF line-endings in source and make files and shell scripts
* checking for empty or unneeded directories
WARNING: directory ‘igvR/explore’ is empty
WARNING: directory ‘igvR/inst/browserCode/lib’ is empty
WARNING: directory ‘igvR/misc’ is empty
* building ‘igvR_1.23.0.tar.gz’