Back to Multiple platform build/check report for BioC 3.17:   simplified   long
ABCD[E]FGHIJKLMNOPQRSTUVWXYZ

This page was generated on 2023-02-07 11:05:11 -0500 (Tue, 07 Feb 2023).

HostnameOSArch (*)R versionInstalled pkgs
nebbiolo1Linux (Ubuntu 22.04.1 LTS)x86_64R Under development (unstable) (2023-01-10 r83596) -- "Unsuffered Consequences" 4483
palomino3Windows Server 2022 Datacenterx64R Under development (unstable) (2023-01-10 r83596 ucrt) -- "Unsuffered Consequences" 4249
merida1macOS 10.14.6 Mojavex86_64R Under development (unstable) (2023-01-10 r83596) -- "Unsuffered Consequences" 4272
Click on any hostname to see more info about the system (e.g. compilers)      (*) as reported by 'uname -p', except on Windows and Mac OS X

CHECK results for ensembldb on nebbiolo1


To the developers/maintainers of the ensembldb package:
- Please allow up to 24 hours (and sometimes 48 hours) for your latest push to git@git.bioconductor.org:packages/ensembldb.git to
reflect on this report. See How and When does the builder pull? When will my changes propagate? for more information.
- Make sure to use the following settings in order to reproduce any error or warning you see on this page.

raw results

Package 605/2164HostnameOS / ArchINSTALLBUILDCHECKBUILD BIN
ensembldb 2.23.1  (landing page)
Johannes Rainer
Snapshot Date: 2023-02-06 14:00:21 -0500 (Mon, 06 Feb 2023)
git_url: https://git.bioconductor.org/packages/ensembldb
git_branch: master
git_last_commit: 8995853
git_last_commit_date: 2022-11-09 05:50:04 -0500 (Wed, 09 Nov 2022)
nebbiolo1Linux (Ubuntu 22.04.1 LTS) / x86_64  OK    OK    OK  UNNEEDED, same version is already published
palomino3Windows Server 2022 Datacenter / x64  OK    OK    OK    OK  UNNEEDED, same version is already published
merida1macOS 10.14.6 Mojave / x86_64  OK    OK    OK    OK  UNNEEDED, same version is already published

Summary

Package: ensembldb
Version: 2.23.1
Command: /home/biocbuild/bbs-3.17-bioc/R/bin/R CMD check --install=check:ensembldb.install-out.txt --library=/home/biocbuild/bbs-3.17-bioc/R/library --timings ensembldb_2.23.1.tar.gz
StartedAt: 2023-02-06 20:29:58 -0500 (Mon, 06 Feb 2023)
EndedAt: 2023-02-06 20:39:56 -0500 (Mon, 06 Feb 2023)
EllapsedTime: 597.7 seconds
RetCode: 0
Status:   OK  
CheckDir: ensembldb.Rcheck
Warnings: 0

Command output

##############################################################################
##############################################################################
###
### Running command:
###
###   /home/biocbuild/bbs-3.17-bioc/R/bin/R CMD check --install=check:ensembldb.install-out.txt --library=/home/biocbuild/bbs-3.17-bioc/R/library --timings ensembldb_2.23.1.tar.gz
###
##############################################################################
##############################################################################


* using log directory ‘/home/biocbuild/bbs-3.17-bioc/meat/ensembldb.Rcheck’
* using R Under development (unstable) (2023-01-10 r83596)
* using platform: x86_64-pc-linux-gnu (64-bit)
* R was compiled by
    gcc (Ubuntu 11.3.0-1ubuntu1~22.04) 11.3.0
    GNU Fortran (Ubuntu 11.3.0-1ubuntu1~22.04) 11.3.0
* running under: Ubuntu 22.04.1 LTS
* using session charset: UTF-8
* checking for file ‘ensembldb/DESCRIPTION’ ... OK
* checking extension type ... Package
* this is package ‘ensembldb’ version ‘2.23.1’
* checking package namespace information ... OK
* checking package dependencies ... OK
* checking if this is a source package ... OK
* checking if there is a namespace ... OK
* checking for hidden files and directories ... OK
* checking for portable file names ... OK
* checking for sufficient/correct file permissions ... OK
* checking whether package ‘ensembldb’ can be installed ... OK
* checking installed package size ... OK
* checking package directory ... OK
* checking ‘build’ directory ... OK
* checking DESCRIPTION meta-information ... OK
* checking top-level files ... OK
* checking for left-over files ... OK
* checking index information ... OK
* checking package subdirectories ... OK
* checking R files for non-ASCII characters ... OK
* checking R files for syntax errors ... OK
* checking whether the package can be loaded ... OK
* checking whether the package can be loaded with stated dependencies ... OK
* checking whether the package can be unloaded cleanly ... OK
* checking whether the namespace can be loaded with stated dependencies ... OK
* checking whether the namespace can be unloaded cleanly ... OK
* checking dependencies in R code ... OK
* checking S3 generic/method consistency ... OK
* checking replacement functions ... OK
* checking foreign function calls ... OK
* checking R code for possible problems ... OK
* checking Rd files ... OK
* checking Rd metadata ... OK
* checking Rd cross-references ... OK
* checking for missing documentation entries ... OK
* checking for code/documentation mismatches ... OK
* checking Rd \usage sections ... OK
* checking Rd contents ... OK
* checking for unstated dependencies in examples ... OK
* checking files in ‘vignettes’ ... OK
* checking examples ... OK
* checking for unstated dependencies in ‘tests’ ... OK
* checking tests ...
  Running ‘testthat.R’
 OK
* checking for unstated dependencies in vignettes ... OK
* checking package vignettes in ‘inst/doc’ ... OK
* checking running R code from vignettes ...
  ‘MySQL-backend.Rmd’ using ‘UTF-8’... OK
  ‘coordinate-mapping-use-cases.Rmd’ using ‘UTF-8’... OK
  ‘coordinate-mapping.Rmd’ using ‘UTF-8’... OK
  ‘ensembldb.Rmd’ using ‘UTF-8’... OK
  ‘proteins.Rmd’ using ‘UTF-8’... OK
 NONE
* checking re-building of vignette outputs ... OK
* checking PDF version of manual ... OK
* DONE

Status: OK


Installation output

ensembldb.Rcheck/00install.out

##############################################################################
##############################################################################
###
### Running command:
###
###   /home/biocbuild/bbs-3.17-bioc/R/bin/R CMD INSTALL ensembldb
###
##############################################################################
##############################################################################


* installing to library ‘/home/biocbuild/bbs-3.17-bioc/R/library’
* installing *source* package ‘ensembldb’ ...
** using staged installation
** R
** inst
** byte-compile and prepare package for lazy loading
** help
*** installing help indices
** building package indices
** installing vignettes
** testing if installed package can be loaded from temporary location
** testing if installed package can be loaded from final location
** testing if installed package keeps a record of temporary installation path
* DONE (ensembldb)

Tests output

ensembldb.Rcheck/tests/testthat.Rout


R Under development (unstable) (2023-01-10 r83596) -- "Unsuffered Consequences"
Copyright (C) 2023 The R Foundation for Statistical Computing
Platform: x86_64-pc-linux-gnu (64-bit)

R is free software and comes with ABSOLUTELY NO WARRANTY.
You are welcome to redistribute it under certain conditions.
Type 'license()' or 'licence()' for distribution details.

R is a collaborative project with many contributors.
Type 'contributors()' for more information and
'citation()' on how to cite R or R packages in publications.

Type 'demo()' for some demos, 'help()' for on-line help, or
'help.start()' for an HTML browser interface to help.
Type 'q()' to quit R.

> library(testthat)
> library(ensembldb)
Loading required package: BiocGenerics

Attaching package: 'BiocGenerics'

The following objects are masked from 'package:stats':

    IQR, mad, sd, var, xtabs

The following objects are masked from 'package:base':

    Filter, Find, Map, Position, Reduce, anyDuplicated, aperm, append,
    as.data.frame, basename, cbind, colnames, dirname, do.call,
    duplicated, eval, evalq, get, grep, grepl, intersect, is.unsorted,
    lapply, mapply, match, mget, order, paste, pmax, pmax.int, pmin,
    pmin.int, rank, rbind, rownames, sapply, setdiff, sort, table,
    tapply, union, unique, unsplit, which.max, which.min

Loading required package: GenomicRanges
Loading required package: stats4
Loading required package: S4Vectors

Attaching package: 'S4Vectors'

The following objects are masked from 'package:base':

    I, expand.grid, unname

Loading required package: IRanges
Loading required package: GenomeInfoDb
Loading required package: GenomicFeatures
Loading required package: AnnotationDbi
Loading required package: Biobase
Welcome to Bioconductor

    Vignettes contain introductory material; view with
    'browseVignettes()'. To cite Bioconductor, see
    'citation("Biobase")', and for packages 'citation("pkgname")'.

Loading required package: AnnotationFilter

Attaching package: 'AnnotationFilter'

The following object is masked from 'package:testthat':

    not


Attaching package: 'ensembldb'

The following object is masked from 'package:stats':

    filter

> library(EnsDb.Hsapiens.v86)
> edb <- EnsDb.Hsapiens.v86
> 
> test_check("ensembldb")
Creating package in /tmp/RtmpgFb59r/EnsDb.Hsapiens.v75 

Comparing chromosome data:
 Sequence names: (180) common, (0) only in x, (0) only in y.
 Sequence lengths: (180) identical, (0) different.
Done. Result: OK

Comparing gene data:
 gene IDs: (4045) common, (0) only in x, (0) only in y.
 Sequence names: (4045) identical, (0) different.
 Gene start coordinates: (4045) identical, (0) different.
 Gene end coordinates: (4045) identical, (0) different.
 Gene strand: (4045) identical, (0) different.
 Gene names: (132) identical, (3913) different.
 Entrezgene IDs: (4045) identical, (0) different.
 Gene biotypes: (4045) identical, (0) different.
Done. Result: WARN

Comparing transcript data:
 transcript IDs: (4045) common, (0) only in x, (0) only in y.
 Transcript start coordinates: (4045) identical, (0) different.
 Transcript end coordinates: (4045) identical, (0) different.
 Transcript biotypes: (4045) identical, (0) different.
 Common transcripts with defined CDS: (3996) common, (0) only in x, (0) only in y.
 CDS start coordinates: (3996) identical, (0) different.
 CDS end coordinates: (3996) identical, (0) different.
 Associated gene IDs: (4045) identical, (0) different.
Done. Result: OK

Comparing exon data:
 exon IDs: (4045) common, (0) only in x, (0) only in y.
 Exon start coordinates: (4045) identical, (0) different.
 Exon end coordinates: (4045) identical, (0) different.
 Exon index in transcript models: (4045) identical, (0) different.
Done. Result: OK

Comparing metadata:
 Ensembl versions match.
 Genome builds match.
 All differences: <name>: <value x> != <value y>
  -  Creation time : Mon Feb  6 20:35:30 2023  !=  Mon Feb  6 20:35:22 2023 
  -  source_file : Devosia_geojensis.ASM96941v1.32.gtf.gz  !=  Devosia_geojensis.ASM96941v1.32.gff3.gz 
Done. Result: NOTE

Comparing chromosome data:
 Sequence names: (180) common, (0) only in x, (0) only in y.
 Sequence lengths: (180) identical, (0) different.
Done. Result: OK

Comparing gene data:
 gene IDs: (4045) common, (0) only in x, (0) only in y.
 Sequence names: (4045) identical, (0) different.
 Gene start coordinates: (4045) identical, (0) different.
 Gene end coordinates: (4045) identical, (0) different.
 Gene strand: (4045) identical, (0) different.
 Gene names: (132) identical, (3913) different.
 Entrezgene IDs: (4045) identical, (0) different.
 Gene biotypes: (4045) identical, (0) different.
Done. Result: WARN

Comparing transcript data:
 transcript IDs: (4045) common, (0) only in x, (0) only in y.
 Transcript start coordinates: (4045) identical, (0) different.
 Transcript end coordinates: (4045) identical, (0) different.
 Transcript biotypes: (4045) identical, (0) different.
 Common transcripts with defined CDS: (3996) common, (0) only in x, (0) only in y.
 CDS start coordinates: (3996) identical, (0) different.
 CDS end coordinates: (3996) identical, (0) different.
 Associated gene IDs: (4045) identical, (0) different.
Done. Result: OK

Comparing exon data:
 exon IDs: (4045) common, (0) only in x, (0) only in y.
 Exon start coordinates: (4045) identical, (0) different.
 Exon end coordinates: (4045) identical, (0) different.
 Exon index in transcript models: (4045) identical, (0) different.
Done. Result: OK

Comparing protein data:
 protein IDs: (103725) common, (0) only in x, (0) only in y.
 Transcript IDs: (103725) identical, (0) different.
 Protein sequence: (103725) identical, (0) different.
Done. Result: OK
[ FAIL 0 | WARN 80 | SKIP 3 | PASS 1481 ]

══ Skipped tests ═══════════════════════════════════════════════════════════════
• empty test (3)

[ FAIL 0 | WARN 80 | SKIP 3 | PASS 1481 ]
Warning message:
call dbDisconnect() when finished working with a connection 
> 
> proc.time()
   user  system elapsed 
129.880  36.172 212.848 

Example timings

ensembldb.Rcheck/ensembldb-Ex.timings

nameusersystemelapsed
EnsDb-AnnotationDbi3.1710.6073.971
EnsDb-class0.7580.1480.906
EnsDb-exonsBy1.9400.6512.708
EnsDb-lengths0.9560.2041.161
EnsDb-seqlevels0.0530.0200.072
EnsDb-sequences0.0110.0040.015
EnsDb-utils0.2410.0000.242
EnsDb0.8630.1881.051
Filter-classes2.0632.5264.738
ProteinFunctionality0.0630.0400.102
cdsToTranscript1.4750.0601.535
convertFilter0.0260.0000.025
genomeToProtein1.9260.0671.993
genomeToTranscript1.4780.1121.590
global-filters0.0900.0070.098
hasProteinData-EnsDb-method0.0130.0000.014
listEnsDbs000
makeEnsemblDbPackage0.6740.0150.690
proteinToGenome2.9620.2243.185
proteinToTranscript0.7250.1000.825
transcriptToCds0.5140.0080.522
transcriptToGenome0.930.020.95
transcriptToProtein1.7530.1081.861
useMySQL-EnsDb-method0.0110.0000.012