Back to Multiple platform build/check report for BioC 3.19: simplified long |
|
This page was generated on 2024-03-28 11:37:45 -0400 (Thu, 28 Mar 2024).
Hostname | OS | Arch (*) | R version | Installed pkgs |
---|---|---|---|---|
nebbiolo1 | Linux (Ubuntu 22.04.3 LTS) | x86_64 | R Under development (unstable) (2024-03-18 r86148) -- "Unsuffered Consequences" | 4708 |
palomino3 | Windows Server 2022 Datacenter | x64 | R Under development (unstable) (2024-03-16 r86144 ucrt) -- "Unsuffered Consequences" | 4446 |
lconway | macOS 12.7.1 Monterey | x86_64 | R Under development (unstable) (2024-03-18 r86148) -- "Unsuffered Consequences" | 4471 |
kunpeng2 | Linux (openEuler 22.03 LTS-SP1) | aarch64 | R Under development (unstable) (2024-03-19 r86153) -- "Unsuffered Consequences" | 4426 |
Click on any hostname to see more info about the system (e.g. compilers) (*) as reported by 'uname -p', except on Windows and Mac OS X |
Package 817/2270 | Hostname | OS / Arch | INSTALL | BUILD | CHECK | BUILD BIN | ||||||||
GenomAutomorphism 1.5.0 (landing page) Robersy Sanchez
| nebbiolo1 | Linux (Ubuntu 22.04.3 LTS) / x86_64 | OK | OK | OK | |||||||||
palomino3 | Windows Server 2022 Datacenter / x64 | OK | OK | OK | OK | |||||||||
lconway | macOS 12.7.1 Monterey / x86_64 | OK | OK | OK | OK | |||||||||
kunpeng2 | Linux (openEuler 22.03 LTS-SP1) / aarch64 | OK | OK | OK | ||||||||||
To the developers/maintainers of the GenomAutomorphism package: - Allow up to 24 hours (and sometimes 48 hours) for your latest push to git@git.bioconductor.org:packages/GenomAutomorphism.git to reflect on this report. See Troubleshooting Build Report for more information. - Use the following Renviron settings to reproduce errors and warnings. - If 'R CMD check' started to fail recently on the Linux builder(s) over a missing dependency, add the missing dependency to 'Suggests:' in your DESCRIPTION file. See Renviron.bioc for more information. |
Package: GenomAutomorphism |
Version: 1.5.0 |
Command: F:\biocbuild\bbs-3.19-bioc\R\bin\R.exe CMD check --no-multiarch --install=check:GenomAutomorphism.install-out.txt --library=F:\biocbuild\bbs-3.19-bioc\R\library --no-vignettes --timings GenomAutomorphism_1.5.0.tar.gz |
StartedAt: 2024-03-28 02:21:53 -0400 (Thu, 28 Mar 2024) |
EndedAt: 2024-03-28 02:28:56 -0400 (Thu, 28 Mar 2024) |
EllapsedTime: 422.6 seconds |
RetCode: 0 |
Status: OK |
CheckDir: GenomAutomorphism.Rcheck |
Warnings: 0 |
############################################################################## ############################################################################## ### ### Running command: ### ### F:\biocbuild\bbs-3.19-bioc\R\bin\R.exe CMD check --no-multiarch --install=check:GenomAutomorphism.install-out.txt --library=F:\biocbuild\bbs-3.19-bioc\R\library --no-vignettes --timings GenomAutomorphism_1.5.0.tar.gz ### ############################################################################## ############################################################################## * using log directory 'F:/biocbuild/bbs-3.19-bioc/meat/GenomAutomorphism.Rcheck' * using R Under development (unstable) (2024-03-16 r86144 ucrt) * using platform: x86_64-w64-mingw32 * R was compiled by gcc.exe (GCC) 13.2.0 GNU Fortran (GCC) 13.2.0 * running under: Windows Server 2022 x64 (build 20348) * using session charset: UTF-8 * using option '--no-vignettes' * checking for file 'GenomAutomorphism/DESCRIPTION' ... OK * this is package 'GenomAutomorphism' version '1.5.0' * package encoding: UTF-8 * checking package namespace information ... OK * checking package dependencies ... OK * checking if this is a source package ... OK * checking if there is a namespace ... OK * checking for hidden files and directories ... OK * checking for portable file names ... OK * checking whether package 'GenomAutomorphism' can be installed ... OK * checking installed package size ... OK * checking package directory ... OK * checking 'build' directory ... OK * checking DESCRIPTION meta-information ... OK * checking top-level files ... OK * checking for left-over files ... OK * checking index information ... OK * checking package subdirectories ... OK * checking code files for non-ASCII characters ... OK * checking R files for syntax errors ... OK * checking whether the package can be loaded ... OK * checking whether the package can be loaded with stated dependencies ... OK * checking whether the package can be unloaded cleanly ... OK * checking whether the namespace can be loaded with stated dependencies ... OK * checking whether the namespace can be unloaded cleanly ... OK * checking dependencies in R code ... OK * checking S3 generic/method consistency ... OK * checking replacement functions ... OK * checking foreign function calls ... OK * checking R code for possible problems ... OK * checking Rd files ... NOTE checkRd: (-1) mut_type.Rd:20: Lost braces; missing escapes or markup? 20 | number of hydrogen bonds (on DNA/RNA double helix): strong S={C,G} (three | ^ checkRd: (-1) mut_type.Rd:21: Lost braces; missing escapes or markup? 21 | hydrogen bonds) and weak W={A,U} (two hydrogen bonds). According to the | ^ checkRd: (-1) mut_type.Rd:22: Lost braces; missing escapes or markup? 22 | chemical type: purines R={A, G} and pyrimidines Y={C,U}. 3). According to | ^ checkRd: (-1) mut_type.Rd:22: Lost braces; missing escapes or markup? 22 | chemical type: purines R={A, G} and pyrimidines Y={C,U}. 3). According to | ^ checkRd: (-1) mut_type.Rd:23: Lost braces; missing escapes or markup? 23 | the presence of amino or keto groups on the base rings: amino M={C,A} and | ^ checkRd: (-1) mut_type.Rd:24: Lost braces; missing escapes or markup? 24 | keto K={G,U}. So, each mutational event can be classified as according to | ^ * checking Rd metadata ... OK * checking Rd cross-references ... NOTE Package unavailable to check Rd xrefs: 'mod' * checking for missing documentation entries ... OK * checking for code/documentation mismatches ... OK * checking Rd \usage sections ... OK * checking Rd contents ... OK * checking for unstated dependencies in examples ... OK * checking contents of 'data' directory ... OK * checking data for non-ASCII characters ... OK * checking data for ASCII and uncompressed saves ... OK * checking files in 'vignettes' ... OK * checking examples ... OK Examples with CPU (user + system) or elapsed time > 5s user system elapsed automorphisms 4.90 0.47 35.14 aminoacid_dist 3.37 0.19 56.22 autZ64 2.03 0.33 11.20 aut3D 1.47 0.36 11.87 autZ125 1.42 0.38 11.89 autZ5 1.16 0.20 11.77 codon_dist_matrix 0.05 0.01 6.39 * checking for unstated dependencies in 'tests' ... OK * checking tests ... Running 'spelling.R' Running 'testthat.R' OK * checking for unstated dependencies in vignettes ... OK * checking package vignettes ... OK * checking running R code from vignettes ... SKIPPED * checking re-building of vignette outputs ... SKIPPED * checking PDF version of manual ... OK * DONE Status: 2 NOTEs See 'F:/biocbuild/bbs-3.19-bioc/meat/GenomAutomorphism.Rcheck/00check.log' for details.
GenomAutomorphism.Rcheck/00install.out
############################################################################## ############################################################################## ### ### Running command: ### ### F:\biocbuild\bbs-3.19-bioc\R\bin\R.exe CMD INSTALL GenomAutomorphism ### ############################################################################## ############################################################################## * installing to library 'F:/biocbuild/bbs-3.19-bioc/R/library' * installing *source* package 'GenomAutomorphism' ... ** using staged installation ** R ** data ** inst ** byte-compile and prepare package for lazy loading Creating a new generic function for 'mod' in package 'GenomAutomorphism' ** help *** installing help indices *** copying figures ** building package indices ** installing vignettes ** testing if installed package can be loaded from temporary location ** testing if installed package can be loaded from final location ** testing if installed package keeps a record of temporary installation path * DONE (GenomAutomorphism)
GenomAutomorphism.Rcheck/tests/spelling.Rout
R Under development (unstable) (2024-03-16 r86144 ucrt) -- "Unsuffered Consequences" Copyright (C) 2024 The R Foundation for Statistical Computing Platform: x86_64-w64-mingw32/x64 R is free software and comes with ABSOLUTELY NO WARRANTY. You are welcome to redistribute it under certain conditions. Type 'license()' or 'licence()' for distribution details. R is a collaborative project with many contributors. Type 'contributors()' for more information and 'citation()' on how to cite R or R packages in publications. Type 'demo()' for some demos, 'help()' for on-line help, or 'help.start()' for an HTML browser interface to help. Type 'q()' to quit R. > if (requireNamespace("spelling", quietly = TRUE)) { + spelling::spell_check_test( + vignettes = TRUE, error = FALSE, + skip_on_cran = TRUE + ) + } NULL > > proc.time() user system elapsed 0.20 0.03 0.28
GenomAutomorphism.Rcheck/tests/testthat.Rout
R Under development (unstable) (2024-03-16 r86144 ucrt) -- "Unsuffered Consequences" Copyright (C) 2024 The R Foundation for Statistical Computing Platform: x86_64-w64-mingw32/x64 R is free software and comes with ABSOLUTELY NO WARRANTY. You are welcome to redistribute it under certain conditions. Type 'license()' or 'licence()' for distribution details. R is a collaborative project with many contributors. Type 'contributors()' for more information and 'citation()' on how to cite R or R packages in publications. Type 'demo()' for some demos, 'help()' for on-line help, or 'help.start()' for an HTML browser interface to help. Type 'q()' to quit R. > library(testthat) > library(GenomAutomorphism) > > test_check("GenomAutomorphism") [ FAIL 0 | WARN 7 | SKIP 0 | PASS 31 ] [ FAIL 0 | WARN 7 | SKIP 0 | PASS 31 ] > > proc.time() user system elapsed 20.75 4.85 81.29
GenomAutomorphism.Rcheck/GenomAutomorphism-Ex.timings
name | user | system | elapsed | |
AutomorphismByCoef | 0.43 | 0.00 | 0.42 | |
AutomorphismList | 2.17 | 0.31 | 2.48 | |
CodonSeq | 0.64 | 0.61 | 1.25 | |
aa_mutmat | 0.00 | 0.03 | 0.03 | |
aaindex2 | 0 | 0 | 0 | |
aaindex3 | 0.02 | 0.00 | 0.02 | |
aminoacid_dist | 3.37 | 0.19 | 56.22 | |
as.AutomorphismList | 0.64 | 0.03 | 0.67 | |
aut3D | 1.47 | 0.36 | 11.87 | |
autZ125 | 1.42 | 0.38 | 11.89 | |
autZ5 | 1.16 | 0.20 | 11.77 | |
autZ64 | 2.03 | 0.33 | 11.20 | |
autm | 0.16 | 0.31 | 0.49 | |
automorphismByRanges | 0.15 | 0.31 | 0.46 | |
automorphism_bycoef | 0.20 | 0.27 | 0.47 | |
automorphisms | 4.90 | 0.47 | 35.14 | |
base2codon | 0.12 | 0.26 | 0.39 | |
base2int | 0.02 | 0.00 | 0.02 | |
base_coord | 0.26 | 0.25 | 0.52 | |
cdm_z64 | 0.01 | 0.00 | 0.02 | |
codon_coord | 1.02 | 0.27 | 1.28 | |
codon_dist | 0.40 | 0.53 | 0.94 | |
codon_dist_matrix | 0.05 | 0.01 | 6.39 | |
conserved_regions | 0.52 | 0.75 | 1.27 | |
extract-methods | 0.37 | 0.00 | 0.37 | |
getAutomorphisms | 0.28 | 0.22 | 0.50 | |
get_coord | 0.58 | 0.26 | 0.84 | |
get_mutscore | 0.10 | 0.00 | 0.11 | |
matrices | 0.58 | 0.27 | 0.84 | |
mod | 0 | 0 | 0 | |
modeq | 0 | 0 | 0 | |
modlineq | 0.00 | 0.02 | 0.02 | |
mut_type | 0 | 0 | 0 | |
reexports | 0.28 | 0.54 | 0.82 | |
seqranges | 0.59 | 0.31 | 0.91 | |
slapply | 0 | 0 | 0 | |
sortByChromAndStart | 0.07 | 0.00 | 0.06 | |
str2chr | 0 | 0 | 0 | |
str2dig | 0 | 0 | 0 | |
translation | 1.00 | 0.61 | 1.63 | |