Back to Multiple platform build/check report for BioC 3.17
ABCD[E]FGHIJKLMNOPQRSTUVWXYZ

This page was generated on 2022-12-07 11:05:37 -0500 (Wed, 07 Dec 2022).

HostnameOSArch (*)R versionInstalled pkgs
nebbiolo1Linux (Ubuntu 22.04.1 LTS)x86_64R Under development (unstable) (2022-11-30 r83393) -- "Unsuffered Consequences" 4423
palomino3Windows Server 2022 Datacenterx64R Under development (unstable) (2022-11-30 r83393 ucrt) -- "Unsuffered Consequences" 4193
merida1macOS 10.14.6 Mojavex86_64R Under development (unstable) (2022-11-30 r83393) -- "Unsuffered Consequences" 4236
Click on any hostname to see more info about the system (e.g. compilers)      (*) as reported by 'uname -p', except on Windows and Mac OS X

BUILD results for epigenomix on nebbiolo1


To the developers/maintainers of the epigenomix package:
- Please allow up to 24 hours (and sometimes 48 hours) for your latest push to git@git.bioconductor.org:packages/epigenomix.git to
reflect on this report. See How and When does the builder pull? When will my changes propagate? for more information.
- Make sure to use the following settings in order to reproduce any error or warning you see on this page.

raw results

Package 609/2155HostnameOS / ArchINSTALLBUILDCHECKBUILD BIN
epigenomix 1.39.0  (landing page)
Hans-Ulrich Klein
Snapshot Date: 2022-12-06 14:00:17 -0500 (Tue, 06 Dec 2022)
git_url: https://git.bioconductor.org/packages/epigenomix
git_branch: master
git_last_commit: 9187ade
git_last_commit_date: 2022-11-01 11:07:58 -0500 (Tue, 01 Nov 2022)
nebbiolo1Linux (Ubuntu 22.04.1 LTS) / x86_64  OK    OK    OK  UNNEEDED, same version is already published
palomino3Windows Server 2022 Datacenter / x64  OK    OK    OK    OK  NO, package depends on 'GenomicRanges' which is not available
merida1macOS 10.14.6 Mojave / x86_64  OK    OK    OK    OK  NO, package depends on 'Rsamtools' which is not available

Summary

Package: epigenomix
Version: 1.39.0
Command: /home/biocbuild/bbs-3.17-bioc/R/bin/R CMD build --keep-empty-dirs --no-resave-data epigenomix
StartedAt: 2022-12-06 16:41:05 -0500 (Tue, 06 Dec 2022)
EndedAt: 2022-12-06 16:42:21 -0500 (Tue, 06 Dec 2022)
EllapsedTime: 76.1 seconds
RetCode: 0
Status:   OK  
PackageFile: epigenomix_1.39.0.tar.gz
PackageFileSize: 426.6 KiB

Command output

##############################################################################
##############################################################################
###
### Running command:
###
###   /home/biocbuild/bbs-3.17-bioc/R/bin/R CMD build --keep-empty-dirs --no-resave-data epigenomix
###
##############################################################################
##############################################################################


* checking for file ‘epigenomix/DESCRIPTION’ ... OK
* preparing ‘epigenomix’:
* checking DESCRIPTION meta-information ... OK
* installing the package to build vignettes
* creating vignettes ... OK
* checking for LF line-endings in source and make files and shell scripts
* checking for empty or unneeded directories
* looking to see if a ‘data/datalist’ file should be added
  NB: this package now depends on R (>= 3.5.0)
  WARNING: Added dependency on R >= 3.5.0 because serialized objects in
  serialize/load version 3 cannot be read in older versions of R.
  File(s) containing such objects:
    ‘epigenomix/data/mappedReads.RData’
* building ‘epigenomix_1.39.0.tar.gz’