Back to Multiple platform build/check report for BioC 3.17
ABCDEF[G]HIJKLMNOPQRSTUVWXYZ

This page was generated on 2022-12-02 11:09:28 -0500 (Fri, 02 Dec 2022).

HostnameOSArch (*)R versionInstalled pkgs
nebbiolo1Linux (Ubuntu 22.04.1 LTS)x86_64R Under development (unstable) (2022-11-30 r83393) -- "Unsuffered Consequences" 4210
palomino3Windows Server 2022 Datacenterx64R Under development (unstable) (2022-11-30 r83393 ucrt) -- "Unsuffered Consequences" 4122
merida1macOS 10.14.6 Mojavex86_64R Under development (unstable) (2022-11-30 r83393) -- "Unsuffered Consequences" 4188
Click on any hostname to see more info about the system (e.g. compilers)      (*) as reported by 'uname -p', except on Windows and Mac OS X

BUILD results for ggbio on merida1


To the developers/maintainers of the ggbio package:
- Please allow up to 24 hours (and sometimes 48 hours) for your latest push to git@git.bioconductor.org:packages/ggbio.git to
reflect on this report. See How and When does the builder pull? When will my changes propagate? for more information.
- Make sure to use the following settings in order to reproduce any error or warning you see on this page.

raw results

Package 797/2155HostnameOS / ArchINSTALLBUILDCHECKBUILD BIN
ggbio 1.47.0  (landing page)
Michael Lawrence
Snapshot Date: 2022-12-01 14:00:17 -0500 (Thu, 01 Dec 2022)
git_url: https://git.bioconductor.org/packages/ggbio
git_branch: master
git_last_commit: 45abc27
git_last_commit_date: 2022-11-01 11:06:25 -0500 (Tue, 01 Nov 2022)
nebbiolo1Linux (Ubuntu 22.04.1 LTS) / x86_64  OK    OK    WARNINGS  UNNEEDED, same version is already published
palomino3Windows Server 2022 Datacenter / x64  OK    OK    WARNINGS    OK  NO, package depends on 'biovizBase' which is not available
merida1macOS 10.14.6 Mojave / x86_64  OK    OK    WARNINGS    OK  NO, package depends on 'biovizBase' which is not available

Summary

Package: ggbio
Version: 1.47.0
Command: /Library/Frameworks/R.framework/Resources/bin/R CMD build --keep-empty-dirs --no-resave-data ggbio
StartedAt: 2022-12-01 19:09:09 -0500 (Thu, 01 Dec 2022)
EndedAt: 2022-12-01 19:20:15 -0500 (Thu, 01 Dec 2022)
EllapsedTime: 666.0 seconds
RetCode: 0
Status:   OK  
PackageFile: ggbio_1.47.0.tar.gz
PackageFileSize: 3.092 MiB

Command output

##############################################################################
##############################################################################
###
### Running command:
###
###   /Library/Frameworks/R.framework/Resources/bin/R CMD build --keep-empty-dirs --no-resave-data ggbio
###
##############################################################################
##############################################################################


* checking for file ‘ggbio/DESCRIPTION’ ... OK
* preparing ‘ggbio’:
* checking DESCRIPTION meta-information ... OK
* installing the package to build vignettes
* creating vignettes ... OK
* checking for LF line-endings in source and make files and shell scripts
* checking for empty or unneeded directories
* building ‘ggbio_1.47.0.tar.gz’