Back to Multiple platform build/check report for BioC 3.14
[A]BCDEFGHIJKLMNOPQRSTUVWXYZ

This page was generated on 2021-10-22 12:04:50 -0400 (Fri, 22 Oct 2021).

BUILD results for ASpli on merida1

To the developers/maintainers of the ASpli package:
- Please allow up to 24 hours (and sometimes 48 hours) for your latest push to git@git.bioconductor.org:packages/ASpli.git to
reflect on this report. See How and When does the builder pull? When will my changes propagate? here for more information.
- Make sure to use the following settings in order to reproduce any error or warning you see on this page.

raw results

Package 90/2075HostnameOS / ArchINSTALLBUILDCHECKBUILD BIN
ASpli 2.3.1  (landing page)
Estefania Mancini
Snapshot Date: 2021-10-21 14:50:08 -0400 (Thu, 21 Oct 2021)
git_url: https://git.bioconductor.org/packages/ASpli
git_branch: master
git_last_commit: afabc60
git_last_commit_date: 2021-05-25 21:35:34 -0400 (Tue, 25 May 2021)
nebbiolo2Linux (Ubuntu 20.04.2 LTS) / x86_64  OK    OK    OK  UNNEEDED, same version is already published
riesling1Windows Server 2019 Standard / x64  OK    OK    OK    OK  UNNEEDED, same version is already published
merida1macOS 10.14.6 Mojave / x86_64  OK    OK    OK    OK  UNNEEDED, same version is already published

Summary

Package: ASpli
Version: 2.3.1
Command: /Library/Frameworks/R.framework/Resources/bin/R CMD build --keep-empty-dirs --no-resave-data ASpli
StartedAt: 2021-10-21 18:34:35 -0400 (Thu, 21 Oct 2021)
EndedAt: 2021-10-21 18:37:24 -0400 (Thu, 21 Oct 2021)
EllapsedTime: 168.7 seconds
RetCode: 0
Status:   OK  
PackageFile: ASpli_2.3.1.tar.gz
PackageFileSize: 4.769 MiB

Command output

##############################################################################
##############################################################################
###
### Running command:
###
###   /Library/Frameworks/R.framework/Resources/bin/R CMD build --keep-empty-dirs --no-resave-data ASpli
###
##############################################################################
##############################################################################


* checking for file ‘ASpli/DESCRIPTION’ ... OK
* preparing ‘ASpli’:
* checking DESCRIPTION meta-information ... OK
* installing the package to build vignettes
* creating vignettes ... OK
Warning: ‘inst/doc’ files
    ‘ASpli.Rnw’, ‘ASpli.pdf’, ‘ASpli.R’
  ignored as vignettes have been rebuilt.
  Run R CMD build with --no-build-vignettes to prevent rebuilding.
* checking for LF line-endings in source and make files and shell scripts
* checking for empty or unneeded directories
* building ‘ASpli_2.3.1.tar.gz’