Back to Multiple platform build/check report for BioC 3.16
ABCD[E]FGHIJKLMNOPQRSTUVWXYZ

This page was generated on 2022-08-18 11:06:27 -0400 (Thu, 18 Aug 2022).

HostnameOSArch (*)R versionInstalled pkgs
nebbiolo2Linux (Ubuntu 20.04.4 LTS)x86_644.2.1 (2022-06-23) -- "Funny-Looking Kid" 4379
palomino4Windows Server 2022 Datacenterx644.2.1 (2022-06-23 ucrt) -- "Funny-Looking Kid" 4161
lconwaymacOS 12.2.1 Montereyx86_644.2.1 Patched (2022-07-09 r82577) -- "Funny-Looking Kid" 4169
Click on any hostname to see more info about the system (e.g. compilers)      (*) as reported by 'uname -p', except on Windows and Mac OS X

BUILD BIN results for EventPointer on palomino4


To the developers/maintainers of the EventPointer package:
- Please allow up to 24 hours (and sometimes 48 hours) for your latest push to git@git.bioconductor.org:packages/EventPointer.git to
reflect on this report. See How and When does the builder pull? When will my changes propagate? for more information.
- Make sure to use the following settings in order to reproduce any error or warning you see on this page.

raw results

Package 628/2140HostnameOS / ArchINSTALLBUILDCHECKBUILD BIN
EventPointer 3.5.1  (landing page)
Juan A. Ferrer-Bonsoms
Snapshot Date: 2022-08-17 14:00:04 -0400 (Wed, 17 Aug 2022)
git_url: https://git.bioconductor.org/packages/EventPointer
git_branch: master
git_last_commit: 1e8942d
git_last_commit_date: 2022-06-09 03:16:15 -0400 (Thu, 09 Jun 2022)
nebbiolo2Linux (Ubuntu 20.04.4 LTS) / x86_64  OK    OK    OK  UNNEEDED, same version is already published
palomino4Windows Server 2022 Datacenter / x64  OK    OK    OK    OK  UNNEEDED, same version is already published
lconwaymacOS 12.2.1 Monterey / x86_64  OK    OK    OK    OK  UNNEEDED, same version is already published

Summary

Package: EventPointer
Version: 3.5.1
Command: rm -rf EventPointer.buildbin-libdir && mkdir EventPointer.buildbin-libdir && F:\biocbuild\bbs-3.16-bioc\R\bin\R.exe CMD INSTALL --merge-multiarch --build --library=EventPointer.buildbin-libdir EventPointer_3.5.1.tar.gz
StartedAt: 2022-08-18 07:49:05 -0400 (Thu, 18 Aug 2022)
EndedAt: 2022-08-18 07:50:19 -0400 (Thu, 18 Aug 2022)
EllapsedTime: 73.9 seconds
RetCode: 0
Status:   OK  
PackageFile: EventPointer_3.5.1.zip
PackageFileSize: 1.326 MiB

Command output

##############################################################################
##############################################################################
###
### Running command:
###
###   rm -rf EventPointer.buildbin-libdir && mkdir EventPointer.buildbin-libdir && F:\biocbuild\bbs-3.16-bioc\R\bin\R.exe CMD INSTALL --merge-multiarch --build --library=EventPointer.buildbin-libdir EventPointer_3.5.1.tar.gz
###
##############################################################################
##############################################################################


only one architecture so ignoring '--merge-multiarch'
* installing *source* package 'EventPointer' ...
** using staged installation
** libs
gcc  -I"F:/biocbuild/bbs-3.16-bioc/R/include" -DNDEBUG     -I"C:/rtools42/x86_64-w64-mingw32.static.posix/include"     -O2 -Wall  -std=gnu99 -mfpmath=sse -msse2 -mstackrealign  -c dgl.c -o dgl.o
gcc  -I"F:/biocbuild/bbs-3.16-bioc/R/include" -DNDEBUG     -I"C:/rtools42/x86_64-w64-mingw32.static.posix/include"     -O2 -Wall  -std=gnu99 -mfpmath=sse -msse2 -mstackrealign  -c params.c -o params.o
gcc  -I"F:/biocbuild/bbs-3.16-bioc/R/include" -DNDEBUG     -I"C:/rtools42/x86_64-w64-mingw32.static.posix/include"     -O2 -Wall  -std=gnu99 -mfpmath=sse -msse2 -mstackrealign  -c pgl.c -o pgl.o
gcc  -I"F:/biocbuild/bbs-3.16-bioc/R/include" -DNDEBUG     -I"C:/rtools42/x86_64-w64-mingw32.static.posix/include"     -O2 -Wall  -std=gnu99 -mfpmath=sse -msse2 -mstackrealign  -c qdgl.c -o qdgl.o
gcc  -I"F:/biocbuild/bbs-3.16-bioc/R/include" -DNDEBUG     -I"C:/rtools42/x86_64-w64-mingw32.static.posix/include"     -O2 -Wall  -std=gnu99 -mfpmath=sse -msse2 -mstackrealign  -c qgl.c -o qgl.o
gcc  -I"F:/biocbuild/bbs-3.16-bioc/R/include" -DNDEBUG     -I"C:/rtools42/x86_64-w64-mingw32.static.posix/include"     -O2 -Wall  -std=gnu99 -mfpmath=sse -msse2 -mstackrealign  -c rgl.c -o rgl.o
gcc -shared -s -static-libgcc -o EventPointer.dll tmp.def dgl.o params.o pgl.o qdgl.o qgl.o rgl.o -LC:/rtools42/x86_64-w64-mingw32.static.posix/lib/x64 -LC:/rtools42/x86_64-w64-mingw32.static.posix/lib -LF:/biocbuild/bbs-3.16-bioc/R/bin/x64 -lR
installing to F:/biocbuild/bbs-3.16-bioc/meat/EventPointer.buildbin-libdir/00LOCK-EventPointer/00new/EventPointer/libs/x64
** R
** data
*** moving datasets to lazyload DB
** inst
** byte-compile and prepare package for lazy loading
** help
*** installing help indices
** building package indices
** installing vignettes
** testing if installed package can be loaded from temporary location
** testing if installed package can be loaded from final location
** testing if installed package keeps a record of temporary installation path
* MD5 sums
packaged installation of 'EventPointer' as EventPointer_3.5.1.zip
* DONE (EventPointer)