Back to Multiple platform build/check report for BioC 3.17
A[B]CDEFGHIJKLMNOPQRSTUVWXYZ

This page was generated on 2023-01-28 11:08:16 -0500 (Sat, 28 Jan 2023).

HostnameOSArch (*)R versionInstalled pkgs
nebbiolo1Linux (Ubuntu 22.04.1 LTS)x86_64R Under development (unstable) (2023-01-10 r83596) -- "Unsuffered Consequences" 4465
palomino3Windows Server 2022 Datacenterx64R Under development (unstable) (2023-01-10 r83596 ucrt) -- "Unsuffered Consequences" 4246
merida1macOS 10.14.6 Mojavex86_64R Under development (unstable) (2023-01-10 r83596) -- "Unsuffered Consequences" 4269
Click on any hostname to see more info about the system (e.g. compilers)      (*) as reported by 'uname -p', except on Windows and Mac OS X

BUILD results for bambu on merida1


To the developers/maintainers of the bambu package:
- Please allow up to 24 hours (and sometimes 48 hours) for your latest push to git@git.bioconductor.org:packages/bambu.git to
reflect on this report. See How and When does the builder pull? When will my changes propagate? for more information.
- Make sure to use the following settings in order to reproduce any error or warning you see on this page.

raw results

Package 107/2162HostnameOS / ArchINSTALLBUILDCHECKBUILD BIN
bambu 3.1.5  (landing page)
Ying Chen
Snapshot Date: 2023-01-27 14:00:19 -0500 (Fri, 27 Jan 2023)
git_url: https://git.bioconductor.org/packages/bambu
git_branch: master
git_last_commit: bbe4484
git_last_commit_date: 2023-01-12 20:59:25 -0500 (Thu, 12 Jan 2023)
nebbiolo1Linux (Ubuntu 22.04.1 LTS) / x86_64  OK    OK    OK  UNNEEDED, same version is already published
palomino3Windows Server 2022 Datacenter / x64  OK    OK    OK    OK  UNNEEDED, same version is already published
merida1macOS 10.14.6 Mojave / x86_64  OK    OK    OK    OK  UNNEEDED, same version is already published

Summary

Package: bambu
Version: 3.1.5
Command: /Library/Frameworks/R.framework/Resources/bin/R CMD build --keep-empty-dirs --no-resave-data bambu
StartedAt: 2023-01-27 16:42:43 -0500 (Fri, 27 Jan 2023)
EndedAt: 2023-01-27 17:17:53 -0500 (Fri, 27 Jan 2023)
EllapsedTime: 2109.1 seconds
RetCode: 0
Status:   OK  
PackageFile: bambu_3.1.5.tar.gz
PackageFileSize: 2.179 MiB

Command output

##############################################################################
##############################################################################
###
### Running command:
###
###   /Library/Frameworks/R.framework/Resources/bin/R CMD build --keep-empty-dirs --no-resave-data bambu
###
##############################################################################
##############################################################################


* checking for file ‘bambu/DESCRIPTION’ ... OK
* preparing ‘bambu’:
* checking DESCRIPTION meta-information ... OK
* cleaning src
* installing the package to build vignettes
* creating vignettes ... OK
* cleaning src
* checking for LF line-endings in source and make files and shell scripts
* checking for empty or unneeded directories
Omitted ‘LazyData’ from DESCRIPTION
* building ‘bambu_3.1.5.tar.gz’