Back to Multiple platform build/check report for BioC 3.17
ABCDEF[G]HIJKLMNOPQRSTUVWXYZ

This page was generated on 2022-11-30 11:09:35 -0500 (Wed, 30 Nov 2022).

HostnameOSArch (*)R versionInstalled pkgs
nebbiolo1Linux (Ubuntu 22.04.1 LTS)x86_64R Under development (unstable) (2022-10-25 r83175) -- "Unsuffered Consequences" 4462
palomino3Windows Server 2022 Datacenterx64R Under development (unstable) (2022-10-11 r83083 ucrt) -- "Unsuffered Consequences" 4201
merida1macOS 10.14.6 Mojavex86_64R Under development (unstable) (2022-11-13 r83342) -- "Unsuffered Consequences" 4231
Click on any hostname to see more info about the system (e.g. compilers)      (*) as reported by 'uname -p', except on Windows and Mac OS X

BUILD BIN results for GMRP on merida1


To the developers/maintainers of the GMRP package:
- Please allow up to 24 hours (and sometimes 48 hours) for your latest push to git@git.bioconductor.org:packages/GMRP.git to
reflect on this report. See How and When does the builder pull? When will my changes propagate? for more information.
- Make sure to use the following settings in order to reproduce any error or warning you see on this page.

raw results

Package 820/2154HostnameOS / ArchINSTALLBUILDCHECKBUILD BIN
GMRP 1.27.0  (landing page)
Yuan-De Tan
Snapshot Date: 2022-11-29 14:00:14 -0500 (Tue, 29 Nov 2022)
git_url: https://git.bioconductor.org/packages/GMRP
git_branch: master
git_last_commit: 5af050f
git_last_commit_date: 2022-11-01 11:18:01 -0500 (Tue, 01 Nov 2022)
nebbiolo1Linux (Ubuntu 22.04.1 LTS) / x86_64  OK    OK    WARNINGS  UNNEEDED, same version is already published
palomino3Windows Server 2022 Datacenter / x64  OK    OK    WARNINGS    OK  NO, package depends on 'GenomicRanges' which is not available
merida1macOS 10.14.6 Mojave / x86_64  OK    OK    WARNINGS    OK  UNNEEDED, same version is already published

Summary

Package: GMRP
Version: 1.27.0
Command: rm -rf GMRP.buildbin-libdir && mkdir GMRP.buildbin-libdir && /Users/biocbuild/BBS/utils/build-universal.sh GMRP_1.27.0.tar.gz /Library/Frameworks/R.framework/Resources/bin/R GMRP.buildbin-libdir
StartedAt: 2022-11-30 08:19:44 -0500 (Wed, 30 Nov 2022)
EndedAt: 2022-11-30 08:20:20 -0500 (Wed, 30 Nov 2022)
EllapsedTime: 35.3 seconds
RetCode: 0
Status:   OK  
PackageFile: GMRP_1.27.0.tgz
PackageFileSize: 967.6 KiB

Command output

##############################################################################
##############################################################################
###
### Running command:
###
###   rm -rf GMRP.buildbin-libdir && mkdir GMRP.buildbin-libdir && /Users/biocbuild/BBS/utils/build-universal.sh GMRP_1.27.0.tar.gz /Library/Frameworks/R.framework/Resources/bin/R GMRP.buildbin-libdir
###
##############################################################################
##############################################################################


>>>>>>> 
>>>>>>> INSTALLATION WITH 'R CMD INSTALL --preclean --no-multiarch --library=GMRP.buildbin-libdir GMRP_1.27.0.tar.gz'
>>>>>>> 

* installing *source* package ‘GMRP’ ...
** using staged installation
** R
** data
** inst
** byte-compile and prepare package for lazy loading
** help
*** installing help indices
** building package indices
** installing vignettes
** testing if installed package can be loaded from temporary location
Warning: Package 'GMRP' is deprecated and will be removed from Bioconductor
  version 3.7
** testing if installed package can be loaded from final location
Warning: Package 'GMRP' is deprecated and will be removed from Bioconductor
  version 3.7
** testing if installed package keeps a record of temporary installation path
* DONE (GMRP)