Back to Multiple platform build/check report for BioC 3.17
ABCDEFGHIJKLMNOPQRSTU[V]WXYZ

This page was generated on 2022-12-01 11:11:13 -0500 (Thu, 01 Dec 2022).

HostnameOSArch (*)R versionInstalled pkgs
nebbiolo1Linux (Ubuntu 22.04.1 LTS)x86_64R Under development (unstable) (2022-10-25 r83175) -- "Unsuffered Consequences" 4462
palomino3Windows Server 2022 Datacenterx64R Under development (unstable) (2022-10-11 r83083 ucrt) -- "Unsuffered Consequences" 4203
merida1macOS 10.14.6 Mojavex86_64R Under development (unstable) (2022-11-13 r83342) -- "Unsuffered Consequences" 4231
Click on any hostname to see more info about the system (e.g. compilers)      (*) as reported by 'uname -p', except on Windows and Mac OS X

BUILD results for VariantTools on merida1


To the developers/maintainers of the VariantTools package:
- Please allow up to 24 hours (and sometimes 48 hours) for your latest push to git@git.bioconductor.org:packages/VariantTools.git to
reflect on this report. See How and When does the builder pull? When will my changes propagate? for more information.
- Make sure to use the following settings in order to reproduce any error or warning you see on this page.

raw results

Package 2108/2154HostnameOS / ArchINSTALLBUILDCHECKBUILD BIN
VariantTools 1.41.0  (landing page)
Michael Lawrence
Snapshot Date: 2022-11-30 14:00:15 -0500 (Wed, 30 Nov 2022)
git_url: https://git.bioconductor.org/packages/VariantTools
git_branch: master
git_last_commit: d61fc40
git_last_commit_date: 2022-11-01 11:07:33 -0500 (Tue, 01 Nov 2022)
nebbiolo1Linux (Ubuntu 22.04.1 LTS) / x86_64  OK    OK    WARNINGS  UNNEEDED, same version is already published
palomino3Windows Server 2022 Datacenter / x64  OK    OK    WARNINGS    OK  NO, package depends on 'GenomicRanges' which is not available
merida1macOS 10.14.6 Mojave / x86_64  OK    OK    WARNINGS    OK  NO, package depends on 'VariantAnnotation' which is not available

Summary

Package: VariantTools
Version: 1.41.0
Command: /Library/Frameworks/R.framework/Resources/bin/R CMD build --keep-empty-dirs --no-resave-data VariantTools
StartedAt: 2022-11-30 21:43:57 -0500 (Wed, 30 Nov 2022)
EndedAt: 2022-11-30 21:46:49 -0500 (Wed, 30 Nov 2022)
EllapsedTime: 172.2 seconds
RetCode: 0
Status:   OK  
PackageFile: VariantTools_1.41.0.tar.gz
PackageFileSize: 5.96 MiB

Command output

##############################################################################
##############################################################################
###
### Running command:
###
###   /Library/Frameworks/R.framework/Resources/bin/R CMD build --keep-empty-dirs --no-resave-data VariantTools
###
##############################################################################
##############################################################################


* checking for file ‘VariantTools/DESCRIPTION’ ... OK
* preparing ‘VariantTools’:
* checking DESCRIPTION meta-information ... OK
* installing the package to build vignettes
* creating vignettes ... OK
* checking for LF line-endings in source and make files and shell scripts
* checking for empty or unneeded directories
* looking to see if a ‘data/datalist’ file should be added
* building ‘VariantTools_1.41.0.tar.gz’