Back to Multiple platform build/check report for BioC 3.15
[A]BCDEFGHIJKLMNOPQRSTUVWXYZ

This page was generated on 2021-12-07 12:33:49 -0500 (Tue, 07 Dec 2021).

BUILD BIN results for APAlyzer on merida1

To the developers/maintainers of the APAlyzer package:
- Please allow up to 24 hours (and sometimes 48 hours) for your latest push to git@git.bioconductor.org:packages/APAlyzer.git to
reflect on this report. See How and When does the builder pull? When will my changes propagate? here for more information.
- Make sure to use the following settings in order to reproduce any error or warning you see on this page.

raw results

Package 70/2068HostnameOS / ArchINSTALLBUILDCHECKBUILD BIN
APAlyzer 1.9.1  (landing page)
Ruijia Wang
Snapshot Date: 2021-12-06 13:55:08 -0500 (Mon, 06 Dec 2021)
git_url: https://git.bioconductor.org/packages/APAlyzer
git_branch: master
git_last_commit: 18a0cc2
git_last_commit_date: 2021-11-30 19:46:29 -0500 (Tue, 30 Nov 2021)
nebbiolo1Linux (Ubuntu 20.04.3 LTS) / x86_64  OK    OK    WARNINGS  UNNEEDED, same version is already published
merida1macOS 10.14.6 Mojave / x86_64  OK    OK    WARNINGS    OK  YES

Summary

Package: APAlyzer
Version: 1.9.1
Command: rm -rf APAlyzer.buildbin-libdir && mkdir APAlyzer.buildbin-libdir && /Users/biocbuild/BBS/utils/build-universal.sh APAlyzer_1.9.1.tar.gz /Library/Frameworks/R.framework/Resources/bin/R APAlyzer.buildbin-libdir
StartedAt: 2021-12-07 06:05:30 -0500 (Tue, 07 Dec 2021)
EndedAt: 2021-12-07 06:06:33 -0500 (Tue, 07 Dec 2021)
EllapsedTime: 63.6 seconds
RetCode: 0
Status:   OK  
PackageFile: APAlyzer_1.9.1.tgz
PackageFileSize: 3.979 MiB

Command output

##############################################################################
##############################################################################
###
### Running command:
###
###   rm -rf APAlyzer.buildbin-libdir && mkdir APAlyzer.buildbin-libdir && /Users/biocbuild/BBS/utils/build-universal.sh APAlyzer_1.9.1.tar.gz /Library/Frameworks/R.framework/Resources/bin/R APAlyzer.buildbin-libdir
###
##############################################################################
##############################################################################


>>>>>>> 
>>>>>>> INSTALLATION WITH 'R CMD INSTALL --preclean --no-multiarch --library=APAlyzer.buildbin-libdir APAlyzer_1.9.1.tar.gz'
>>>>>>> 

* installing *source* package ‘APAlyzer’ ...
** using staged installation
** R
** inst
** byte-compile and prepare package for lazy loading
** help
*** installing help indices
** building package indices
** installing vignettes
** testing if installed package can be loaded from temporary location
** testing if installed package can be loaded from final location
** testing if installed package keeps a record of temporary installation path
* DONE (APAlyzer)