Back to Multiple platform build/check report for BioC 3.17:   simplified   long
A[B]CDEFGHIJKLMNOPQRSTUVWXYZ

This page was generated on 2023-02-07 11:06:39 -0500 (Tue, 07 Feb 2023).

HostnameOSArch (*)R versionInstalled pkgs
nebbiolo1Linux (Ubuntu 22.04.1 LTS)x86_64R Under development (unstable) (2023-01-10 r83596) -- "Unsuffered Consequences" 4483
palomino3Windows Server 2022 Datacenterx64R Under development (unstable) (2023-01-10 r83596 ucrt) -- "Unsuffered Consequences" 4249
merida1macOS 10.14.6 Mojavex86_64R Under development (unstable) (2023-01-10 r83596) -- "Unsuffered Consequences" 4272
Click on any hostname to see more info about the system (e.g. compilers)      (*) as reported by 'uname -p', except on Windows and Mac OS X

BUILD results for biomvRCNS on merida1


To the developers/maintainers of the biomvRCNS package:
- Please allow up to 24 hours (and sometimes 48 hours) for your latest push to git@git.bioconductor.org:packages/biomvRCNS.git to
reflect on this report. See How and When does the builder pull? When will my changes propagate? for more information.
- Make sure to use the following settings in order to reproduce any error or warning you see on this page.

raw results

Package 193/2164HostnameOS / ArchINSTALLBUILDCHECKBUILD BIN
biomvRCNS 1.39.0  (landing page)
Yang Du
Snapshot Date: 2023-02-06 14:00:21 -0500 (Mon, 06 Feb 2023)
git_url: https://git.bioconductor.org/packages/biomvRCNS
git_branch: master
git_last_commit: 7e36203
git_last_commit_date: 2022-11-01 11:07:53 -0500 (Tue, 01 Nov 2022)
nebbiolo1Linux (Ubuntu 22.04.1 LTS) / x86_64  ERROR    ERROR  skipped
palomino3Windows Server 2022 Datacenter / x64  ERROR    ERROR  skippedskipped
merida1macOS 10.14.6 Mojave / x86_64  ERROR    ERROR  skippedskipped

Summary

Package: biomvRCNS
Version: 1.39.0
Command: /Library/Frameworks/R.framework/Resources/bin/R CMD build --keep-empty-dirs --no-resave-data biomvRCNS
StartedAt: 2023-02-06 16:58:52 -0500 (Mon, 06 Feb 2023)
EndedAt: 2023-02-06 16:58:54 -0500 (Mon, 06 Feb 2023)
EllapsedTime: 2.1 seconds
RetCode: 1
Status:   ERROR  
PackageFile: None
PackageFileSize: NA

Command output

##############################################################################
##############################################################################
###
### Running command:
###
###   /Library/Frameworks/R.framework/Resources/bin/R CMD build --keep-empty-dirs --no-resave-data biomvRCNS
###
##############################################################################
##############################################################################


* checking for file ‘biomvRCNS/DESCRIPTION’ ... OK
* preparing ‘biomvRCNS’:
* checking DESCRIPTION meta-information ... OK
* cleaning src
* installing the package to build vignettes
      -----------------------------------
* installing *source* package ‘biomvRCNS’ ...
** using staged installation
** libs
using C compiler: ‘Apple clang version 11.0.0 (clang-1100.0.33.17)’
using SDK: ‘’
clang -mmacosx-version-min=10.13 -I"/Library/Frameworks/R.framework/Resources/include" -DNDEBUG   -I/usr/local/include    -fPIC  -Wall -g -O2  -c biomvRCNS.c -o biomvRCNS.o
biomvRCNS.c:153:22: error: use of undeclared identifier 'DOUBLE_XMIN'
                        m_e(F, t, j, T)+= DOUBLE_XMIN;
                                          ^
biomvRCNS.c:294:29: error: use of undeclared identifier 'DOUBLE_XMAX'
        double obs, prod, maxprod=-DOUBLE_XMAX;
                                   ^
biomvRCNS.c:401:29: error: use of undeclared identifier 'DOUBLE_XMAX'
        double obs, prod, maxprod=-DOUBLE_XMAX;
                                   ^
3 errors generated.
make: *** [biomvRCNS.o] Error 1
ERROR: compilation failed for package ‘biomvRCNS’
* removing ‘/private/tmp/RtmpgJAieg/Rinst16ad740d41e79/biomvRCNS’
      -----------------------------------
ERROR: package installation failed