Back to Multiple platform build/check report for BioC 3.15
ABCDEFGHIJKLMNOPQR[S]TUVWXYZ

This page was generated on 2021-12-07 12:34:03 -0500 (Tue, 07 Dec 2021).

BUILD results for scruff on merida1

To the developers/maintainers of the scruff package:
- Please allow up to 24 hours (and sometimes 48 hours) for your latest push to git@git.bioconductor.org:packages/scruff.git to
reflect on this report. See How and When does the builder pull? When will my changes propagate? here for more information.
- Make sure to use the following settings in order to reproduce any error or warning you see on this page.

raw results

Package 1732/2068HostnameOS / ArchINSTALLBUILDCHECKBUILD BIN
scruff 1.13.2  (landing page)
Zhe Wang
Snapshot Date: 2021-12-06 13:55:08 -0500 (Mon, 06 Dec 2021)
git_url: https://git.bioconductor.org/packages/scruff
git_branch: master
git_last_commit: d974aa7
git_last_commit_date: 2021-11-21 00:53:13 -0500 (Sun, 21 Nov 2021)
nebbiolo1Linux (Ubuntu 20.04.3 LTS) / x86_64  OK    OK    OK  UNNEEDED, same version is already published
merida1macOS 10.14.6 Mojave / x86_64  OK    OK    OK    OK  UNNEEDED, same version is already published

Summary

Package: scruff
Version: 1.13.2
Command: /Library/Frameworks/R.framework/Resources/bin/R CMD build --keep-empty-dirs --no-resave-data scruff
StartedAt: 2021-12-06 21:11:16 -0500 (Mon, 06 Dec 2021)
EndedAt: 2021-12-06 21:14:19 -0500 (Mon, 06 Dec 2021)
EllapsedTime: 183.1 seconds
RetCode: 0
Status:   OK  
PackageFile: scruff_1.13.2.tar.gz
PackageFileSize: 1.514 MiB

Command output

##############################################################################
##############################################################################
###
### Running command:
###
###   /Library/Frameworks/R.framework/Resources/bin/R CMD build --keep-empty-dirs --no-resave-data scruff
###
##############################################################################
##############################################################################


* checking for file ‘scruff/DESCRIPTION’ ... OK
* preparing ‘scruff’:
* checking DESCRIPTION meta-information ... OK
* installing the package to build vignettes
* creating vignettes ... OK
* checking for LF line-endings in source and make files and shell scripts
* checking for empty or unneeded directories
* building ‘scruff_1.13.2.tar.gz’