Back to Multiple platform build/check report for BioC 3.16 |
|
This page was generated on 2022-08-11 11:07:41 -0400 (Thu, 11 Aug 2022).
Hostname | OS | Arch (*) | R version | Installed pkgs |
---|---|---|---|---|
nebbiolo2 | Linux (Ubuntu 20.04.4 LTS) | x86_64 | 4.2.1 (2022-06-23) -- "Funny-Looking Kid" | 4375 |
palomino4 | Windows Server 2022 Datacenter | x64 | 4.2.1 (2022-06-23 ucrt) -- "Funny-Looking Kid" | 4159 |
lconway | macOS 12.2.1 Monterey | x86_64 | 4.2.1 Patched (2022-07-09 r82577) -- "Funny-Looking Kid" | 4165 |
Click on any hostname to see more info about the system (e.g. compilers) (*) as reported by 'uname -p', except on Windows and Mac OS X |
To the developers/maintainers of the YAPSA package: - Please allow up to 24 hours (and sometimes 48 hours) for your latest push to git@git.bioconductor.org:packages/YAPSA.git to reflect on this report. See How and When does the builder pull? When will my changes propagate? for more information. - Make sure to use the following settings in order to reproduce any error or warning you see on this page. |
Package 2133/2139 | Hostname | OS / Arch | INSTALL | BUILD | CHECK | BUILD BIN | ||||||||
YAPSA 1.23.0 (landing page) Daniel Huebschmann
| nebbiolo2 | Linux (Ubuntu 20.04.4 LTS) / x86_64 | OK | OK | WARNINGS | ![]() | ||||||||
palomino4 | Windows Server 2022 Datacenter / x64 | OK | OK | WARNINGS | OK | ![]() | ||||||||
lconway | macOS 12.2.1 Monterey / x86_64 | OK | OK | WARNINGS | OK | ![]() | ||||||||
Package: YAPSA |
Version: 1.23.0 |
Command: rm -rf YAPSA.buildbin-libdir && mkdir YAPSA.buildbin-libdir && F:\biocbuild\bbs-3.16-bioc\R\bin\R.exe CMD INSTALL --merge-multiarch --build --library=YAPSA.buildbin-libdir YAPSA_1.23.0.tar.gz |
StartedAt: 2022-08-11 08:46:42 -0400 (Thu, 11 Aug 2022) |
EndedAt: 2022-08-11 08:47:56 -0400 (Thu, 11 Aug 2022) |
EllapsedTime: 74.3 seconds |
RetCode: 0 |
Status: OK |
PackageFile: YAPSA_1.23.0.zip |
PackageFileSize: 3.179 MiB |
############################################################################## ############################################################################## ### ### Running command: ### ### rm -rf YAPSA.buildbin-libdir && mkdir YAPSA.buildbin-libdir && F:\biocbuild\bbs-3.16-bioc\R\bin\R.exe CMD INSTALL --merge-multiarch --build --library=YAPSA.buildbin-libdir YAPSA_1.23.0.tar.gz ### ############################################################################## ############################################################################## only one architecture so ignoring '--merge-multiarch' * installing *source* package 'YAPSA' ... ** using staged installation ** R ** data ** inst ** byte-compile and prepare package for lazy loading Found more than one class "atomicVector" in cache; using the first, from namespace 'Matrix' Also defined by 'Rmpfr' Found more than one class "atomicVector" in cache; using the first, from namespace 'Matrix' Also defined by 'Rmpfr' Found more than one class "atomicVector" in cache; using the first, from namespace 'Matrix' Also defined by 'Rmpfr' Found more than one class "atomicVector" in cache; using the first, from namespace 'Matrix' Also defined by 'Rmpfr' Found more than one class "atomicVector" in cache; using the first, from namespace 'Matrix' Also defined by 'Rmpfr' Found more than one class "atomicVector" in cache; using the first, from namespace 'Matrix' Also defined by 'Rmpfr' Found more than one class "atomicVector" in cache; using the first, from namespace 'Matrix' Also defined by 'Rmpfr' Found more than one class "atomicVector" in cache; using the first, from namespace 'Matrix' Also defined by 'Rmpfr' Found more than one class "atomicVector" in cache; using the first, from namespace 'Matrix' Also defined by 'Rmpfr' Found more than one class "atomicVector" in cache; using the first, from namespace 'Matrix' Also defined by 'Rmpfr' Found more than one class "atomicVector" in cache; using the first, from namespace 'Matrix' Also defined by 'Rmpfr' Found more than one class "atomicVector" in cache; using the first, from namespace 'Matrix' Also defined by 'Rmpfr' Warning: replacing previous import 'GenomicRanges::subtract' by 'magrittr::subtract' when loading 'YAPSA' ** help *** installing help indices ** building package indices ** installing vignettes ** testing if installed package can be loaded from temporary location Found more than one class "atomicVector" in cache; using the first, from namespace 'Matrix' Also defined by 'Rmpfr' Found more than one class "atomicVector" in cache; using the first, from namespace 'Matrix' Also defined by 'Rmpfr' Found more than one class "atomicVector" in cache; using the first, from namespace 'Matrix' Also defined by 'Rmpfr' Found more than one class "atomicVector" in cache; using the first, from namespace 'Matrix' Also defined by 'Rmpfr' Found more than one class "atomicVector" in cache; using the first, from namespace 'Matrix' Also defined by 'Rmpfr' Found more than one class "atomicVector" in cache; using the first, from namespace 'Matrix' Also defined by 'Rmpfr' Found more than one class "atomicVector" in cache; using the first, from namespace 'Matrix' Also defined by 'Rmpfr' Found more than one class "atomicVector" in cache; using the first, from namespace 'Matrix' Also defined by 'Rmpfr' Found more than one class "atomicVector" in cache; using the first, from namespace 'Matrix' Also defined by 'Rmpfr' Found more than one class "atomicVector" in cache; using the first, from namespace 'Matrix' Also defined by 'Rmpfr' Found more than one class "atomicVector" in cache; using the first, from namespace 'Matrix' Also defined by 'Rmpfr' Found more than one class "atomicVector" in cache; using the first, from namespace 'Matrix' Also defined by 'Rmpfr' Warning: replacing previous import 'GenomicRanges::subtract' by 'magrittr::subtract' when loading 'YAPSA' ** testing if installed package can be loaded from final location Found more than one class "atomicVector" in cache; using the first, from namespace 'Matrix' Also defined by 'Rmpfr' Found more than one class "atomicVector" in cache; using the first, from namespace 'Matrix' Also defined by 'Rmpfr' Found more than one class "atomicVector" in cache; using the first, from namespace 'Matrix' Also defined by 'Rmpfr' Found more than one class "atomicVector" in cache; using the first, from namespace 'Matrix' Also defined by 'Rmpfr' Found more than one class "atomicVector" in cache; using the first, from namespace 'Matrix' Also defined by 'Rmpfr' Found more than one class "atomicVector" in cache; using the first, from namespace 'Matrix' Also defined by 'Rmpfr' Found more than one class "atomicVector" in cache; using the first, from namespace 'Matrix' Also defined by 'Rmpfr' Found more than one class "atomicVector" in cache; using the first, from namespace 'Matrix' Also defined by 'Rmpfr' Found more than one class "atomicVector" in cache; using the first, from namespace 'Matrix' Also defined by 'Rmpfr' Found more than one class "atomicVector" in cache; using the first, from namespace 'Matrix' Also defined by 'Rmpfr' Found more than one class "atomicVector" in cache; using the first, from namespace 'Matrix' Also defined by 'Rmpfr' Found more than one class "atomicVector" in cache; using the first, from namespace 'Matrix' Also defined by 'Rmpfr' Warning: replacing previous import 'GenomicRanges::subtract' by 'magrittr::subtract' when loading 'YAPSA' ** testing if installed package keeps a record of temporary installation path * MD5 sums packaged installation of 'YAPSA' as YAPSA_1.23.0.zip * DONE (YAPSA)