Back to Multiple platform build/check report for BioC 3.17
ABCD[E]FGHIJKLMNOPQRSTUVWXYZ

This page was generated on 2023-01-27 11:09:26 -0500 (Fri, 27 Jan 2023).

HostnameOSArch (*)R versionInstalled pkgs
nebbiolo1Linux (Ubuntu 22.04.1 LTS)x86_64R Under development (unstable) (2023-01-10 r83596) -- "Unsuffered Consequences" 4465
palomino3Windows Server 2022 Datacenterx64R Under development (unstable) (2023-01-10 r83596 ucrt) -- "Unsuffered Consequences" 4246
merida1macOS 10.14.6 Mojavex86_64R Under development (unstable) (2023-01-10 r83596) -- "Unsuffered Consequences" 4269
Click on any hostname to see more info about the system (e.g. compilers)      (*) as reported by 'uname -p', except on Windows and Mac OS X

INSTALL results for EpiTxDb on merida1


To the developers/maintainers of the EpiTxDb package:
- Please allow up to 24 hours (and sometimes 48 hours) for your latest push to git@git.bioconductor.org:packages/EpiTxDb.git to
reflect on this report. See How and When does the builder pull? When will my changes propagate? for more information.
- Make sure to use the following settings in order to reproduce any error or warning you see on this page.

raw results

Package 618/2162HostnameOS / ArchINSTALLBUILDCHECKBUILD BIN
EpiTxDb 1.11.0  (landing page)
Felix G.M. Ernst
Snapshot Date: 2023-01-26 14:00:20 -0500 (Thu, 26 Jan 2023)
git_url: https://git.bioconductor.org/packages/EpiTxDb
git_branch: master
git_last_commit: aa28b39
git_last_commit_date: 2022-11-01 11:21:35 -0500 (Tue, 01 Nov 2022)
nebbiolo1Linux (Ubuntu 22.04.1 LTS) / x86_64  OK    OK    OK  UNNEEDED, same version is already published
palomino3Windows Server 2022 Datacenter / x64  OK    OK    OK    OK  UNNEEDED, same version is already published
merida1macOS 10.14.6 Mojave / x86_64  OK    OK    OK    OK  UNNEEDED, same version is already published

Summary

Package: EpiTxDb
Version: 1.11.0
Command: /Library/Frameworks/R.framework/Resources/bin/R CMD INSTALL EpiTxDb
StartedAt: 2023-01-26 15:32:46 -0500 (Thu, 26 Jan 2023)
EndedAt: 2023-01-26 15:34:57 -0500 (Thu, 26 Jan 2023)
EllapsedTime: 131.4 seconds
RetCode: 0
Status:   OK  

Command output

##############################################################################
##############################################################################
###
### Running command:
###
###   /Library/Frameworks/R.framework/Resources/bin/R CMD INSTALL EpiTxDb
###
##############################################################################
##############################################################################


* installing to library ‘/Library/Frameworks/R.framework/Versions/4.3/Resources/library’
* installing *source* package ‘EpiTxDb’ ...
** using staged installation
** R
** data
** inst
** byte-compile and prepare package for lazy loading
** help
*** installing help indices
** building package indices
** installing vignettes
** testing if installed package can be loaded from temporary location
** testing if installed package can be loaded from final location
** testing if installed package keeps a record of temporary installation path
* DONE (EpiTxDb)