Back to Multiple platform build/check report for BioC 3.16 |
|
This page was generated on 2022-07-07 11:07:54 -0400 (Thu, 07 Jul 2022).
Hostname | OS | Arch (*) | R version | Installed pkgs |
---|---|---|---|---|
nebbiolo2 | Linux (Ubuntu 20.04.4 LTS) | x86_64 | 4.2.0 Patched (2022-06-02 r82447) -- "Vigorous Calisthenics" | 4343 |
palomino4 | Windows Server 2022 Datacenter | x64 | 4.2.0 Patched (2022-06-02 r82447 ucrt) -- "Vigorous Calisthenics" | 4148 |
lconway | macOS 12.2.1 Monterey | x86_64 | 4.2.0 Patched (2022-05-29 r82424) -- "Vigorous Calisthenics" | 4160 |
kjohnson | macOS 12.4 Monterey | arm64 | 4.2.0 Patched (2022-06-09 r82473) -- "Vigorous Calisthenics" | 3115 |
Click on any hostname to see more info about the system (e.g. compilers) (*) as reported by 'uname -p', except on Windows and Mac OS X |
To the developers/maintainers of the MinimumDistance package: - Please allow up to 24 hours (and sometimes 48 hours) for your latest push to git@git.bioconductor.org:packages/MinimumDistance.git to reflect on this report. See How and When does the builder pull? When will my changes propagate? for more information. - Make sure to use the following settings in order to reproduce any error or warning you see on this page. |
Package 1179/2124 | Hostname | OS / Arch | INSTALL | BUILD | CHECK | BUILD BIN | ||||||||
MinimumDistance 1.41.0 (landing page) Robert Scharpf
| nebbiolo2 | Linux (Ubuntu 20.04.4 LTS) / x86_64 | OK | OK | WARNINGS | ![]() | ||||||||
palomino4 | Windows Server 2022 Datacenter / x64 | OK | OK | WARNINGS | OK | ![]() | ||||||||
lconway | macOS 12.2.1 Monterey / x86_64 | OK | OK | WARNINGS | OK | ![]() | ||||||||
kjohnson | macOS 12.4 Monterey / arm64 | ERROR | ERROR | skipped | skipped | |||||||||
Package: MinimumDistance |
Version: 1.41.0 |
Command: rm -rf MinimumDistance.buildbin-libdir && mkdir MinimumDistance.buildbin-libdir && F:\biocbuild\bbs-3.16-bioc\R\bin\R.exe CMD INSTALL --merge-multiarch --build --library=MinimumDistance.buildbin-libdir MinimumDistance_1.41.0.tar.gz |
StartedAt: 2022-07-07 07:59:21 -0400 (Thu, 07 Jul 2022) |
EndedAt: 2022-07-07 08:00:45 -0400 (Thu, 07 Jul 2022) |
EllapsedTime: 83.2 seconds |
RetCode: 0 |
Status: OK |
PackageFile: MinimumDistance_1.41.0.zip |
PackageFileSize: 3.506 MiB |
############################################################################## ############################################################################## ### ### Running command: ### ### rm -rf MinimumDistance.buildbin-libdir && mkdir MinimumDistance.buildbin-libdir && F:\biocbuild\bbs-3.16-bioc\R\bin\R.exe CMD INSTALL --merge-multiarch --build --library=MinimumDistance.buildbin-libdir MinimumDistance_1.41.0.tar.gz ### ############################################################################## ############################################################################## only one architecture so ignoring '--merge-multiarch' * installing *source* package 'MinimumDistance' ... ** using staged installation ** R ** data ** inst ** byte-compile and prepare package for lazy loading No methods found in package 'oligoClasses' for request: 'mean' when loading 'crlmm' Warning: replacing previous import 'ff::pattern' by 'grid::pattern' when loading 'MinimumDistance' Creating a new generic function for 'allNames' in package 'MinimumDistance' in method for 'coerce' with signature '"RangedDataCNV","GRanges"': no definition for class "RangedDataCNV" in method for 'todf' with signature 'object="TrioSet",rangeData="RangedData"': no definition for class "RangedData" in method for 'prune' with signature 'object="TrioSet",ranges="RangedDataCNV"': no definition for class "RangedDataCNV" in method for 'prune' with signature 'object="TrioSetList",ranges="RangedDataCNV"': no definition for class "RangedDataCNV" ** help *** installing help indices ** building package indices ** installing vignettes ** testing if installed package can be loaded from temporary location No methods found in package 'oligoClasses' for request: 'mean' when loading 'crlmm' Warning: replacing previous import 'ff::pattern' by 'grid::pattern' when loading 'MinimumDistance' ** testing if installed package can be loaded from final location No methods found in package 'oligoClasses' for request: 'mean' when loading 'crlmm' Warning: replacing previous import 'ff::pattern' by 'grid::pattern' when loading 'MinimumDistance' ** testing if installed package keeps a record of temporary installation path * MD5 sums packaged installation of 'MinimumDistance' as MinimumDistance_1.41.0.zip * DONE (MinimumDistance)