Back to Multiple platform build/check report for BioC 3.15
ABCDEF[G]HIJKLMNOPQRSTUVWXYZ

This page was generated on 2022-01-24 11:11:14 -0500 (Mon, 24 Jan 2022).

HostnameOSArch (*)R versionInstalled pkgs
nebbiolo1Linux (Ubuntu 20.04.4 LTS)x86_64R Under development (unstable) (2022-01-05 r81451) -- "Unsuffered Consequences" 4163
riesling1Windows Server 2019 Standardx64R Under development (unstable) (2021-11-21 r81221) -- "Unsuffered Consequences" 4058
palomino3Windows Server 2022 Datacenterx64R Under development (unstable) (2021-12-21 r81400 ucrt) -- "Unsuffered Consequences" 4000
merida1macOS 10.14.6 Mojavex86_64R Under development (unstable) (2022-01-05 r81451) -- "Unsuffered Consequences" 4117
Click on any hostname to see more info about the system (e.g. compilers)      (*) as reported by 'uname -p', except on Windows and Mac OS X

CHECK results for GUIDEseq on merida1


To the developers/maintainers of the GUIDEseq package:
- Please allow up to 24 hours (and sometimes 48 hours) for your latest push to git@git.bioconductor.org:packages/GUIDEseq.git to
reflect on this report. See How and When does the builder pull? When will my changes propagate? here for more information.
- Make sure to use the following settings in order to reproduce any error or warning you see on this page.

raw results

Package 839/2075HostnameOS / ArchINSTALLBUILDCHECKBUILD BIN
GUIDEseq 1.25.3  (landing page)
Lihua Julie Zhu
Snapshot Date: 2022-01-23 13:55:15 -0500 (Sun, 23 Jan 2022)
git_url: https://git.bioconductor.org/packages/GUIDEseq
git_branch: master
git_last_commit: cf81669
git_last_commit_date: 2021-11-30 23:05:27 -0500 (Tue, 30 Nov 2021)
nebbiolo1Linux (Ubuntu 20.04.4 LTS) / x86_64  OK    OK    OK  UNNEEDED, same version is already published
riesling1Windows Server 2019 Standard / x64  OK    OK    OK    OK  
palomino3Windows Server 2022 Datacenter / x64  OK    OK    OK    OK  NO, package depends on 'GenomicRanges' which is not available
merida1macOS 10.14.6 Mojave / x86_64  OK    OK    OK    OK  UNNEEDED, same version is already published

Summary

Package: GUIDEseq
Version: 1.25.3
Command: /Library/Frameworks/R.framework/Resources/bin/R CMD check --install=check:GUIDEseq.install-out.txt --library=/Library/Frameworks/R.framework/Resources/library --no-vignettes --timings GUIDEseq_1.25.3.tar.gz
StartedAt: 2022-01-24 01:39:08 -0500 (Mon, 24 Jan 2022)
EndedAt: 2022-01-24 01:48:28 -0500 (Mon, 24 Jan 2022)
EllapsedTime: 560.1 seconds
RetCode: 0
Status:   OK  
CheckDir: GUIDEseq.Rcheck
Warnings: 0

Command output

##############################################################################
##############################################################################
###
### Running command:
###
###   /Library/Frameworks/R.framework/Resources/bin/R CMD check --install=check:GUIDEseq.install-out.txt --library=/Library/Frameworks/R.framework/Resources/library --no-vignettes --timings GUIDEseq_1.25.3.tar.gz
###
##############################################################################
##############################################################################


* using log directory ‘/Users/biocbuild/bbs-3.15-bioc/meat/GUIDEseq.Rcheck’
* using R Under development (unstable) (2022-01-05 r81451)
* using platform: x86_64-apple-darwin17.0 (64-bit)
* using session charset: UTF-8
* using option ‘--no-vignettes’
* checking for file ‘GUIDEseq/DESCRIPTION’ ... OK
* checking extension type ... Package
* this is package ‘GUIDEseq’ version ‘1.25.3’
* package encoding: UTF-8
* checking package namespace information ... OK
* checking package dependencies ... OK
* checking if this is a source package ... OK
* checking if there is a namespace ... OK
* checking for hidden files and directories ... NOTE
Found the following hidden files and directories:
  .git_fetch_output.txt
  .git_merge_output.txt
These were most likely included in error. See section ‘Package
structure’ in the ‘Writing R Extensions’ manual.
* checking for portable file names ... OK
* checking for sufficient/correct file permissions ... OK
* checking whether package ‘GUIDEseq’ can be installed ... OK
* checking installed package size ... NOTE
  installed size is 10.9Mb
  sub-directories of 1Mb or more:
    extdata  10.5Mb
* checking package directory ... OK
* checking ‘build’ directory ... OK
* checking DESCRIPTION meta-information ... OK
* checking top-level files ... OK
* checking for left-over files ... OK
* checking index information ... OK
* checking package subdirectories ... OK
* checking R files for non-ASCII characters ... OK
* checking R files for syntax errors ... OK
* checking whether the package can be loaded ... OK
* checking whether the package can be loaded with stated dependencies ... OK
* checking whether the package can be unloaded cleanly ... OK
* checking whether the namespace can be loaded with stated dependencies ... OK
* checking whether the namespace can be unloaded cleanly ... OK
* checking dependencies in R code ... OK
* checking S3 generic/method consistency ... OK
* checking replacement functions ... OK
* checking foreign function calls ... OK
* checking R code for possible problems ... NOTE
annotateOffTargets: no visible binding for global variable
  'offTarget_Start'
annotateOffTargets: no visible global function definition for
  'seqlevelsStyle<-'
getPeaks: no visible binding for global variable 'adjusted.p.value'
getPeaks: no visible binding for global variable 'SNratio'
getPeaks.old: no visible global function definition for 'clusterExport'
getPeaks.old: no visible global function definition for 'parLapply'
getUniqueCleavageEvents: no visible binding for global variable
  'qwidth.first'
getUniqueCleavageEvents: no visible binding for global variable
  'qwidth.last'
getUniqueCleavageEvents: no visible binding for global variable
  'strand.last'
getUniqueCleavageEvents: no visible binding for global variable
  'strand.first'
getUniqueCleavageEvents: no visible binding for global variable
  'readName'
getUniqueCleavageEvents: no visible binding for global variable 'UMI'
importBEDAlignments: no visible global function definition for
  'parLapply'
offTargetAnalysisOfPeakRegions: no visible binding for global variable
  'thePeak'
offTargetAnalysisOfPeakRegions: no visible global function definition
  for 'parLapply'
offTargetAnalysisOfPeakRegions: no visible binding for global variable
  'gRNAPlusPAM'
offTargetAnalysisOfPeakRegions: no visible binding for global variable
  'offTarget'
Undefined global functions or variables:
  SNratio UMI adjusted.p.value clusterExport gRNAPlusPAM offTarget
  offTarget_Start parLapply qwidth.first qwidth.last readName
  seqlevelsStyle<- strand.first strand.last thePeak
* checking Rd files ... NOTE
prepare_Rd: annotateOffTargets.Rd:33-35: Dropping empty section \details
prepare_Rd: annotateOffTargets.Rd:43-45: Dropping empty section \references
prepare_Rd: createBarcodeFasta.Rd:42-43: Dropping empty section \value
prepare_Rd: createBarcodeFasta.Rd:44-46: Dropping empty section \references
prepare_Rd: getUsedBarcodes.Rd:39-41: Dropping empty section \references
* checking Rd metadata ... OK
* checking Rd cross-references ... OK
* checking for missing documentation entries ... OK
* checking for code/documentation mismatches ... OK
* checking Rd \usage sections ... OK
* checking Rd contents ... OK
* checking for unstated dependencies in examples ... OK
* checking contents of ‘data’ directory ... OK
* checking data for non-ASCII characters ... OK
* checking data for ASCII and uncompressed saves ... OK
* checking sizes of PDF files under ‘inst/doc’ ... OK
* checking files in ‘vignettes’ ... OK
* checking examples ... OK
Examples with CPU (user + system) or elapsed time > 5s
                     user system elapsed
PEtagAnalysis      17.730  0.651  18.423
GUIDEseqAnalysis   14.062  0.697  14.801
annotateOffTargets 10.646  0.296  10.968
* checking for unstated dependencies in vignettes ... OK
* checking package vignettes in ‘inst/doc’ ... OK
* checking running R code from vignettes ... SKIPPED
* checking re-building of vignette outputs ... SKIPPED
* checking PDF version of manual ... OK
* DONE

Status: 4 NOTEs
See
  ‘/Users/biocbuild/bbs-3.15-bioc/meat/GUIDEseq.Rcheck/00check.log’
for details.



Installation output

GUIDEseq.Rcheck/00install.out

##############################################################################
##############################################################################
###
### Running command:
###
###   /Library/Frameworks/R.framework/Resources/bin/R CMD INSTALL GUIDEseq
###
##############################################################################
##############################################################################


* installing to library ‘/Library/Frameworks/R.framework/Versions/4.2/Resources/library’
* installing *source* package ‘GUIDEseq’ ...
** using staged installation
** R
** data
** inst
** byte-compile and prepare package for lazy loading
** help
*** installing help indices
** building package indices
** installing vignettes
** testing if installed package can be loaded from temporary location
** testing if installed package can be loaded from final location
** testing if installed package keeps a record of temporary installation path
* DONE (GUIDEseq)

Tests output


Example timings

GUIDEseq.Rcheck/GUIDEseq-Ex.timings

nameusersystemelapsed
GUIDEseq-package0.0020.0000.002
GUIDEseqAnalysis14.062 0.69714.801
PEtagAnalysis17.730 0.65118.423
annotateOffTargets10.646 0.29610.968
combineOfftargets0.0380.0030.040
createBarcodeFasta0.0400.0010.041
getPeaks000
getUniqueCleavageEvents0.0010.0000.001
getUsedBarcodes0.0700.0010.072
mergePlusMinusPeaks0.0000.0000.001
offTargetAnalysisOfPeakRegions0.0020.0010.002
peaks.gr0.0470.0110.059
uniqueCleavageEvents0.0790.0110.091