Back to
Multiple platform build/check report for BioC 3.17
A
B
C
D
E
F
G
H
[
I
]
J