Back to Multiple platform build/check report for BioC 3.17
ABCDEFGHIJKLMNOPQR[S]TUVWXYZ

This page was generated on 2022-11-30 11:10:30 -0500 (Wed, 30 Nov 2022).

HostnameOSArch (*)R versionInstalled pkgs
nebbiolo1Linux (Ubuntu 22.04.1 LTS)x86_64R Under development (unstable) (2022-10-25 r83175) -- "Unsuffered Consequences" 4462
palomino3Windows Server 2022 Datacenterx64R Under development (unstable) (2022-10-11 r83083 ucrt) -- "Unsuffered Consequences" 4201
merida1macOS 10.14.6 Mojavex86_64R Under development (unstable) (2022-11-13 r83342) -- "Unsuffered Consequences" 4231
Click on any hostname to see more info about the system (e.g. compilers)      (*) as reported by 'uname -p', except on Windows and Mac OS X

INSTALL results for seqCAT on merida1


To the developers/maintainers of the seqCAT package:
- Please allow up to 24 hours (and sometimes 48 hours) for your latest push to git@git.bioconductor.org:packages/seqCAT.git to
reflect on this report. See How and When does the builder pull? When will my changes propagate? for more information.
- Make sure to use the following settings in order to reproduce any error or warning you see on this page.

raw results

Package 1820/2154HostnameOS / ArchINSTALLBUILDCHECKBUILD BIN
seqCAT 1.21.0  (landing page)
Erik Fasterius
Snapshot Date: 2022-11-29 14:00:14 -0500 (Tue, 29 Nov 2022)
git_url: https://git.bioconductor.org/packages/seqCAT
git_branch: master
git_last_commit: f2a5e1b
git_last_commit_date: 2022-11-01 11:16:23 -0500 (Tue, 01 Nov 2022)
nebbiolo1Linux (Ubuntu 22.04.1 LTS) / x86_64  OK    OK    OK  UNNEEDED, same version is already published
palomino3Windows Server 2022 Datacenter / x64  OK    OK    OK    OK  NO, package depends on 'GenomicRanges' which is not available
merida1macOS 10.14.6 Mojave / x86_64  OK    OK    OK    OK  NO, package depends on 'VariantAnnotation' which is not available

Summary

Package: seqCAT
Version: 1.21.0
Command: /Library/Frameworks/R.framework/Resources/bin/R CMD INSTALL seqCAT
StartedAt: 2022-11-29 16:13:06 -0500 (Tue, 29 Nov 2022)
EndedAt: 2022-11-29 16:15:08 -0500 (Tue, 29 Nov 2022)
EllapsedTime: 121.7 seconds
RetCode: 0
Status:   OK  

Command output

##############################################################################
##############################################################################
###
### Running command:
###
###   /Library/Frameworks/R.framework/Resources/bin/R CMD INSTALL seqCAT
###
##############################################################################
##############################################################################


* installing to library ‘/Library/Frameworks/R.framework/Versions/4.3/Resources/library’
* installing *source* package ‘seqCAT’ ...
** using staged installation
** R
** data
*** moving datasets to lazyload DB
** inst
** byte-compile and prepare package for lazy loading
** help
*** installing help indices
*** copying figures
** building package indices
** installing vignettes
** testing if installed package can be loaded from temporary location
** testing if installed package can be loaded from final location
** testing if installed package keeps a record of temporary installation path
* DONE (seqCAT)