Back to Multiple platform build/check report for BioC 3.17
ABCDEF[G]HIJKLMNOPQRSTUVWXYZ

This page was generated on 2023-02-01 11:09:20 -0500 (Wed, 01 Feb 2023).

HostnameOSArch (*)R versionInstalled pkgs
nebbiolo1Linux (Ubuntu 22.04.1 LTS)x86_64R Under development (unstable) (2023-01-10 r83596) -- "Unsuffered Consequences" 4483
palomino3Windows Server 2022 Datacenterx64R Under development (unstable) (2023-01-10 r83596 ucrt) -- "Unsuffered Consequences" 4249
merida1macOS 10.14.6 Mojavex86_64R Under development (unstable) (2023-01-10 r83596) -- "Unsuffered Consequences" 4272
Click on any hostname to see more info about the system (e.g. compilers)      (*) as reported by 'uname -p', except on Windows and Mac OS X

INSTALL results for GenomicRanges on merida1


To the developers/maintainers of the GenomicRanges package:
- Please allow up to 24 hours (and sometimes 48 hours) for your latest push to git@git.bioconductor.org:packages/GenomicRanges.git to
reflect on this report. See How and When does the builder pull? When will my changes propagate? for more information.
- Make sure to use the following settings in order to reproduce any error or warning you see on this page.

raw results

Package 780/2164HostnameOS / ArchINSTALLBUILDCHECKBUILD BIN
GenomicRanges 1.51.4  (landing page)
Hervé Pagès
Snapshot Date: 2023-01-31 14:00:20 -0500 (Tue, 31 Jan 2023)
git_url: https://git.bioconductor.org/packages/GenomicRanges
git_branch: master
git_last_commit: f1a44dc
git_last_commit_date: 2022-12-15 13:51:02 -0500 (Thu, 15 Dec 2022)
nebbiolo1Linux (Ubuntu 22.04.1 LTS) / x86_64  OK    OK    WARNINGS  UNNEEDED, same version is already published
palomino3Windows Server 2022 Datacenter / x64  OK    OK    WARNINGS    OK  UNNEEDED, same version is already published
merida1macOS 10.14.6 Mojave / x86_64  OK    OK    WARNINGS    OK  UNNEEDED, same version is already published

Summary

Package: GenomicRanges
Version: 1.51.4
Command: /Library/Frameworks/R.framework/Resources/bin/R CMD INSTALL GenomicRanges
StartedAt: 2023-01-31 15:11:57 -0500 (Tue, 31 Jan 2023)
EndedAt: 2023-01-31 15:12:30 -0500 (Tue, 31 Jan 2023)
EllapsedTime: 32.4 seconds
RetCode: 0
Status:   OK  

Command output

##############################################################################
##############################################################################
###
### Running command:
###
###   /Library/Frameworks/R.framework/Resources/bin/R CMD INSTALL GenomicRanges
###
##############################################################################
##############################################################################


* installing to library ‘/Library/Frameworks/R.framework/Versions/4.3/Resources/library’
* installing *source* package ‘GenomicRanges’ ...
** using staged installation
** libs
using C compiler: ‘Apple clang version 11.0.0 (clang-1100.0.33.17)’
using SDK: ‘’
clang -mmacosx-version-min=10.13 -I"/Library/Frameworks/R.framework/Resources/include" -DNDEBUG  -I'/Library/Frameworks/R.framework/Versions/4.3/Resources/library/S4Vectors/include' -I'/Library/Frameworks/R.framework/Versions/4.3/Resources/library/IRanges/include' -I/usr/local/include    -fPIC  -Wall -g -O2  -c IRanges_stubs.c -o IRanges_stubs.o
clang -mmacosx-version-min=10.13 -I"/Library/Frameworks/R.framework/Resources/include" -DNDEBUG  -I'/Library/Frameworks/R.framework/Versions/4.3/Resources/library/S4Vectors/include' -I'/Library/Frameworks/R.framework/Versions/4.3/Resources/library/IRanges/include' -I/usr/local/include    -fPIC  -Wall -g -O2  -c R_init_GenomicRanges.c -o R_init_GenomicRanges.o
clang -mmacosx-version-min=10.13 -I"/Library/Frameworks/R.framework/Resources/include" -DNDEBUG  -I'/Library/Frameworks/R.framework/Versions/4.3/Resources/library/S4Vectors/include' -I'/Library/Frameworks/R.framework/Versions/4.3/Resources/library/IRanges/include' -I/usr/local/include    -fPIC  -Wall -g -O2  -c S4Vectors_stubs.c -o S4Vectors_stubs.o
clang -mmacosx-version-min=10.13 -I"/Library/Frameworks/R.framework/Resources/include" -DNDEBUG  -I'/Library/Frameworks/R.framework/Versions/4.3/Resources/library/S4Vectors/include' -I'/Library/Frameworks/R.framework/Versions/4.3/Resources/library/IRanges/include' -I/usr/local/include    -fPIC  -Wall -g -O2  -c transcript_utils.c -o transcript_utils.o
clang -mmacosx-version-min=10.13 -dynamiclib -Wl,-headerpad_max_install_names -undefined dynamic_lookup -single_module -multiply_defined suppress -L/Library/Frameworks/R.framework/Resources/lib -L/usr/local/lib -o GenomicRanges.so IRanges_stubs.o R_init_GenomicRanges.o S4Vectors_stubs.o transcript_utils.o -F/Library/Frameworks/R.framework/.. -framework R -Wl,-framework -Wl,CoreFoundation
installing to /Library/Frameworks/R.framework/Versions/4.3/Resources/library/00LOCK-GenomicRanges/00new/GenomicRanges/libs
** R
** inst
** byte-compile and prepare package for lazy loading
** help
*** installing help indices
** building package indices
** installing vignettes
** testing if installed package can be loaded from temporary location
** checking absolute paths in shared objects and dynamic libraries
** testing if installed package can be loaded from final location
** testing if installed package keeps a record of temporary installation path
* DONE (GenomicRanges)