Back to Multiple platform build/check report for BioC 3.15
ABCDEFGHIJKL[M]NOPQRSTUVWXYZ

This page was generated on 2022-01-21 11:11:44 -0500 (Fri, 21 Jan 2022).

HostnameOSArch (*)R versionInstalled pkgs
nebbiolo1Linux (Ubuntu 20.04.4 LTS)x86_64R Under development (unstable) (2022-01-05 r81451) -- "Unsuffered Consequences" 4163
riesling1Windows Server 2019 Standardx64R Under development (unstable) (2021-11-21 r81221) -- "Unsuffered Consequences" 4058
palomino3Windows Server 2022 Datacenterx64R Under development (unstable) (2021-12-21 r81400 ucrt) -- "Unsuffered Consequences" 4000
merida1macOS 10.14.6 Mojavex86_64R Under development (unstable) (2022-01-05 r81451) -- "Unsuffered Consequences" 4117
Click on any hostname to see more info about the system (e.g. compilers)      (*) as reported by 'uname -p', except on Windows and Mac OS X

CHECK results for methInheritSim on merida1


To the developers/maintainers of the methInheritSim package:
- Please allow up to 24 hours (and sometimes 48 hours) for your latest push to git@git.bioconductor.org:packages/methInheritSim.git to
reflect on this report. See How and When does the builder pull? When will my changes propagate? here for more information.
- Make sure to use the following settings in order to reproduce any error or warning you see on this page.

raw results

Package 1109/2075HostnameOS / ArchINSTALLBUILDCHECKBUILD BIN
methInheritSim 1.17.1  (landing page)
Pascal Belleau
Snapshot Date: 2022-01-20 13:55:17 -0500 (Thu, 20 Jan 2022)
git_url: https://git.bioconductor.org/packages/methInheritSim
git_branch: master
git_last_commit: ea580fb
git_last_commit_date: 2021-11-21 00:32:40 -0500 (Sun, 21 Nov 2021)
nebbiolo1Linux (Ubuntu 20.04.4 LTS) / x86_64  OK    OK    OK  UNNEEDED, same version is already published
riesling1Windows Server 2019 Standard / x64  OK    OK    OK    OK  
palomino3Windows Server 2022 Datacenter / x64  OK    OK    OK    OK  NO, package depends on 'methylKit' which is not available
merida1macOS 10.14.6 Mojave / x86_64  OK    OK    OK    OK  UNNEEDED, same version is already published

Summary

Package: methInheritSim
Version: 1.17.1
Command: /Library/Frameworks/R.framework/Resources/bin/R CMD check --install=check:methInheritSim.install-out.txt --library=/Library/Frameworks/R.framework/Resources/library --no-vignettes --timings methInheritSim_1.17.1.tar.gz
StartedAt: 2022-01-21 02:42:52 -0500 (Fri, 21 Jan 2022)
EndedAt: 2022-01-21 02:50:42 -0500 (Fri, 21 Jan 2022)
EllapsedTime: 469.9 seconds
RetCode: 0
Status:   OK  
CheckDir: methInheritSim.Rcheck
Warnings: 0

Command output

##############################################################################
##############################################################################
###
### Running command:
###
###   /Library/Frameworks/R.framework/Resources/bin/R CMD check --install=check:methInheritSim.install-out.txt --library=/Library/Frameworks/R.framework/Resources/library --no-vignettes --timings methInheritSim_1.17.1.tar.gz
###
##############################################################################
##############################################################################


* using log directory ‘/Users/biocbuild/bbs-3.15-bioc/meat/methInheritSim.Rcheck’
* using R Under development (unstable) (2022-01-05 r81451)
* using platform: x86_64-apple-darwin17.0 (64-bit)
* using session charset: UTF-8
* using option ‘--no-vignettes’
* checking for file ‘methInheritSim/DESCRIPTION’ ... OK
* checking extension type ... Package
* this is package ‘methInheritSim’ version ‘1.17.1’
* package encoding: UTF-8
* checking package namespace information ... OK
* checking package dependencies ... OK
* checking if this is a source package ... OK
* checking if there is a namespace ... OK
* checking for hidden files and directories ... NOTE
Found the following hidden files and directories:
  .git_fetch_output.txt
  .git_merge_output.txt
  .travis.yml
These were most likely included in error. See section ‘Package
structure’ in the ‘Writing R Extensions’ manual.
* checking for portable file names ... OK
* checking for sufficient/correct file permissions ... OK
* checking whether package ‘methInheritSim’ can be installed ... OK
* checking installed package size ... OK
* checking package directory ... OK
* checking ‘build’ directory ... OK
* checking DESCRIPTION meta-information ... OK
* checking top-level files ... OK
* checking for left-over files ... OK
* checking index information ... OK
* checking package subdirectories ... OK
* checking R files for non-ASCII characters ... OK
* checking R files for syntax errors ... OK
* checking whether the package can be loaded ... OK
* checking whether the package can be loaded with stated dependencies ... OK
* checking whether the package can be unloaded cleanly ... OK
* checking whether the namespace can be loaded with stated dependencies ... OK
* checking whether the namespace can be unloaded cleanly ... OK
* checking dependencies in R code ... OK
* checking S3 generic/method consistency ... OK
* checking replacement functions ... OK
* checking foreign function calls ... OK
* checking R code for possible problems ... OK
* checking Rd files ... OK
* checking Rd metadata ... OK
* checking Rd cross-references ... OK
* checking for missing documentation entries ... OK
* checking for code/documentation mismatches ... OK
* checking Rd \usage sections ... OK
* checking Rd contents ... OK
* checking for unstated dependencies in examples ... OK
* checking contents of ‘data’ directory ... OK
* checking data for non-ASCII characters ... OK
* checking data for ASCII and uncompressed saves ... OK
* checking files in ‘vignettes’ ... OK
* checking examples ... OK
Examples with CPU (user + system) or elapsed time > 5s
                         user system elapsed
samplesForChrSynthetic 20.644  0.122  21.392
runSim                  9.888  0.065  10.074
* checking for unstated dependencies in ‘tests’ ... OK
* checking tests ...
  Running ‘runTests.R’
 OK
* checking for unstated dependencies in vignettes ... OK
* checking package vignettes in ‘inst/doc’ ... OK
* checking running R code from vignettes ... SKIPPED
* checking re-building of vignette outputs ... SKIPPED
* checking PDF version of manual ... OK
* DONE

Status: 1 NOTE
See
  ‘/Users/biocbuild/bbs-3.15-bioc/meat/methInheritSim.Rcheck/00check.log’
for details.



Installation output

methInheritSim.Rcheck/00install.out

##############################################################################
##############################################################################
###
### Running command:
###
###   /Library/Frameworks/R.framework/Resources/bin/R CMD INSTALL methInheritSim
###
##############################################################################
##############################################################################


* installing to library ‘/Library/Frameworks/R.framework/Versions/4.2/Resources/library’
* installing *source* package ‘methInheritSim’ ...
** using staged installation
** R
** data
** inst
** byte-compile and prepare package for lazy loading
** help
*** installing help indices
** building package indices
** installing vignettes
** testing if installed package can be loaded from temporary location
** testing if installed package can be loaded from final location
** testing if installed package keeps a record of temporary installation path
* DONE (methInheritSim)

Tests output

methInheritSim.Rcheck/tests/runTests.Rout


R Under development (unstable) (2022-01-05 r81451) -- "Unsuffered Consequences"
Copyright (C) 2022 The R Foundation for Statistical Computing
Platform: x86_64-apple-darwin17.0 (64-bit)

R is free software and comes with ABSOLUTELY NO WARRANTY.
You are welcome to redistribute it under certain conditions.
Type 'license()' or 'licence()' for distribution details.

R is a collaborative project with many contributors.
Type 'contributors()' for more information and
'citation()' on how to cite R or R packages in publications.

Type 'demo()' for some demos, 'help()' for on-line help, or
'help.start()' for an HTML browser interface to help.
Type 'q()' to quit R.

> ## Run all tests presnt in the package
> BiocGenerics:::testPackage("methInheritSim")
Loading required package: stats4
Loading required package: BiocGenerics

Attaching package: 'BiocGenerics'

The following objects are masked from 'package:stats':

    IQR, mad, sd, var, xtabs

The following objects are masked from 'package:base':

    Filter, Find, Map, Position, Reduce, anyDuplicated, append,
    as.data.frame, basename, cbind, colnames, dirname, do.call,
    duplicated, eval, evalq, get, grep, grepl, intersect, is.unsorted,
    lapply, mapply, match, mget, order, paste, pmax, pmax.int, pmin,
    pmin.int, rank, rbind, rownames, sapply, setdiff, sort, table,
    tapply, union, unique, unsplit, which.max, which.min

Loading required package: S4Vectors

Attaching package: 'S4Vectors'

The following objects are masked from 'package:base':

    I, expand.grid, unname

Loading required package: IRanges
Loading required package: GenomeInfoDb
uniting...
two groups detected:
 will calculate methylation difference as the difference of
treatment (group: 1) - control (group: 0)
uniting...
two groups detected:
 will calculate methylation difference as the difference of
treatment (group: 1) - control (group: 0)
uniting...
two groups detected:
 will calculate methylation difference as the difference of
treatment (group: 1) - control (group: 0)
uniting...
two groups detected:
 will calculate methylation difference as the difference of
treatment (group: 1) - control (group: 0)
uniting...
two groups detected:
 will calculate methylation difference as the difference of
treatment (group: 1) - control (group: 0)
uniting...
two groups detected:
 will calculate methylation difference as the difference of
treatment (group: 1) - control (group: 0)
uniting...
two groups detected:
 will calculate methylation difference as the difference of
treatment (group: 1) - control (group: 0)
uniting...
two groups detected:
 will calculate methylation difference as the difference of
treatment (group: 1) - control (group: 0)
uniting...
two groups detected:
 will calculate methylation difference as the difference of
treatment (group: 1) - control (group: 0)
uniting...
two groups detected:
 will calculate methylation difference as the difference of
treatment (group: 1) - control (group: 0)
uniting...
two groups detected:
 will calculate methylation difference as the difference of
treatment (group: 1) - control (group: 0)


RUNIT TEST PROTOCOL -- Fri Jan 21 02:50:32 2022 
*********************************************** 
Number of test functions: 104 
Number of errors: 0 
Number of failures: 0 

 
1 Test Suite : 
methInheritSim RUnit Tests - 104 test functions, 0 errors, 0 failures
Number of test functions: 104 
Number of errors: 0 
Number of failures: 0 
> 
> proc.time()
   user  system elapsed 
 47.053   1.049  48.156 

Example timings

methInheritSim.Rcheck/methInheritSim-Ex.timings

nameusersystemelapsed
calculateNbDiffCase0.0030.0010.003
createSampleID0.0010.0020.002
dataSimExample0.1460.0200.166
estBetaAlpha000
estBetaBeta0.0000.0000.001
fixSeed0.0010.0000.001
getDiffCase0.0010.0010.001
getDiffMeth0.1910.0270.219
getSim1.0150.1001.118
getSyntheticChr0.3340.0390.373
runOnEachSynCHR4.4290.0904.528
runSim 9.888 0.06510.074
samplesForChrSynthetic20.644 0.12221.392
saveData0.0000.0000.001
simEachGeneration0.9280.0070.935
simInheritance1.5520.0071.562
testIfAlreadyDone0.0010.0000.001
validateRunSimDoubleParameters000
validateRunSimIntegerParameters0.0000.0010.001
validateRunSimLogicalParameters0.0560.0020.058
validateRunSimOtherParameters0.0570.0020.059
validateRunSimParameters0.0590.0020.061