Back to Multiple platform build/check report for BioC 3.17
ABC[D]EFGHIJKLMNOPQRSTUVWXYZ

This page was generated on 2022-12-02 11:09:12 -0500 (Fri, 02 Dec 2022).

HostnameOSArch (*)R versionInstalled pkgs
nebbiolo1Linux (Ubuntu 22.04.1 LTS)x86_64R Under development (unstable) (2022-11-30 r83393) -- "Unsuffered Consequences" 4210
palomino3Windows Server 2022 Datacenterx64R Under development (unstable) (2022-11-30 r83393 ucrt) -- "Unsuffered Consequences" 4122
merida1macOS 10.14.6 Mojavex86_64R Under development (unstable) (2022-11-30 r83393) -- "Unsuffered Consequences" 4188
Click on any hostname to see more info about the system (e.g. compilers)      (*) as reported by 'uname -p', except on Windows and Mac OS X

INSTALL results for deepSNV on merida1


To the developers/maintainers of the deepSNV package:
- Please allow up to 24 hours (and sometimes 48 hours) for your latest push to git@git.bioconductor.org:packages/deepSNV.git to
reflect on this report. See How and When does the builder pull? When will my changes propagate? for more information.
- Make sure to use the following settings in order to reproduce any error or warning you see on this page.

raw results

Package 486/2155HostnameOS / ArchINSTALLBUILDCHECKBUILD BIN
deepSNV 1.45.0  (landing page)
Moritz Gerstung
Snapshot Date: 2022-12-01 14:00:17 -0500 (Thu, 01 Dec 2022)
git_url: https://git.bioconductor.org/packages/deepSNV
git_branch: master
git_last_commit: 4241cbc
git_last_commit_date: 2022-11-01 11:06:40 -0500 (Tue, 01 Nov 2022)
nebbiolo1Linux (Ubuntu 22.04.1 LTS) / x86_64  OK    ERROR  skipped
palomino3Windows Server 2022 Datacenter / x64  OK    ERROR  skippedskipped
merida1macOS 10.14.6 Mojave / x86_64  OK    ERROR  skippedskipped

Summary

Package: deepSNV
Version: 1.45.0
Command: /Library/Frameworks/R.framework/Resources/bin/R CMD INSTALL deepSNV
StartedAt: 2022-12-01 16:17:42 -0500 (Thu, 01 Dec 2022)
EndedAt: 2022-12-01 16:20:04 -0500 (Thu, 01 Dec 2022)
EllapsedTime: 142.6 seconds
RetCode: 0
Status:   OK  

Command output

##############################################################################
##############################################################################
###
### Running command:
###
###   /Library/Frameworks/R.framework/Resources/bin/R CMD INSTALL deepSNV
###
##############################################################################
##############################################################################


* installing to library ‘/Library/Frameworks/R.framework/Versions/4.3/Resources/library’
* installing *source* package ‘deepSNV’ ...
** using staged installation
** libs
clang++ -mmacosx-version-min=10.13 -std=gnu++14 -I"/Library/Frameworks/R.framework/Resources/include" -DNDEBUG -D_FILE_OFFSET_BITS=64 -I'/Library/Frameworks/R.framework/Versions/4.3/Resources/library/Rhtslib/include' -I/usr/local/include    -fPIC  -Wall -g -O2  -c bam2R.cpp -o bam2R.o
clang -mmacosx-version-min=10.13 -I"/Library/Frameworks/R.framework/Resources/include" -DNDEBUG -D_FILE_OFFSET_BITS=64 -I'/Library/Frameworks/R.framework/Versions/4.3/Resources/library/Rhtslib/include' -I/usr/local/include    -fPIC  -Wall -g -O2  -c betabinom.c -o betabinom.o
betabinom.c:27:9: warning: unused variable 'log' [-Wunused-variable]
        int i, log=0;
               ^
1 warning generated.
clang++ -mmacosx-version-min=10.13 -std=gnu++14 -dynamiclib -Wl,-headerpad_max_install_names -undefined dynamic_lookup -single_module -multiply_defined suppress -L/Library/Frameworks/R.framework/Resources/lib -L/usr/local/lib -o deepSNV.so bam2R.o betabinom.o /Library/Frameworks/R.framework/Versions/4.3/Resources/library/Rhtslib/usrlib/libhts.a -lcurl -F/Library/Frameworks/R.framework/.. -framework R -Wl,-framework -Wl,CoreFoundation
installing to /Library/Frameworks/R.framework/Versions/4.3/Resources/library/00LOCK-deepSNV/00new/deepSNV/libs
** R
** data
** inst
** byte-compile and prepare package for lazy loading
** help
*** installing help indices
** building package indices
** installing vignettes
** testing if installed package can be loaded from temporary location
** checking absolute paths in shared objects and dynamic libraries
** testing if installed package can be loaded from final location
** testing if installed package keeps a record of temporary installation path
* DONE (deepSNV)