Back to Multiple platform build/check report for BioC 3.15
A[B]CDEFGHIJKLMNOPQRSTUVWXYZ

This page was generated on 2022-01-25 11:10:34 -0500 (Tue, 25 Jan 2022).

HostnameOSArch (*)R versionInstalled pkgs
nebbiolo1Linux (Ubuntu 20.04.4 LTS)x86_64R Under development (unstable) (2022-01-05 r81451) -- "Unsuffered Consequences" 4164
riesling1Windows Server 2019 Standardx64R Under development (unstable) (2021-11-21 r81221) -- "Unsuffered Consequences" 4059
palomino3Windows Server 2022 Datacenterx64R Under development (unstable) (2021-12-21 r81400 ucrt) -- "Unsuffered Consequences" 4001
merida1macOS 10.14.6 Mojavex86_64R Under development (unstable) (2022-01-05 r81451) -- "Unsuffered Consequences" 4118
Click on any hostname to see more info about the system (e.g. compilers)      (*) as reported by 'uname -p', except on Windows and Mac OS X

BUILD BIN results for BioTIP on merida1


To the developers/maintainers of the BioTIP package:
- Please allow up to 24 hours (and sometimes 48 hours) for your latest push to git@git.bioconductor.org:packages/BioTIP.git to
reflect on this report. See How and When does the builder pull? When will my changes propagate? here for more information.
- Make sure to use the following settings in order to reproduce any error or warning you see on this page.

raw results

Package 191/2075HostnameOS / ArchINSTALLBUILDCHECKBUILD BIN
BioTIP 1.9.1  (landing page)
Yuxi (Jennifer) Sun , Zhezhen Wang , and X Holly Yang
Snapshot Date: 2022-01-24 13:55:18 -0500 (Mon, 24 Jan 2022)
git_url: https://git.bioconductor.org/packages/BioTIP
git_branch: master
git_last_commit: a9b0ccc
git_last_commit_date: 2021-11-17 15:20:20 -0500 (Wed, 17 Nov 2021)
nebbiolo1Linux (Ubuntu 20.04.4 LTS) / x86_64  OK    OK    WARNINGS  UNNEEDED, same version is already published
riesling1Windows Server 2019 Standard / x64  OK    OK    WARNINGS    OK  
palomino3Windows Server 2022 Datacenter / x64  OK    OK    WARNINGS    OK  NO, package depends on 'GenomicRanges' which is not available
merida1macOS 10.14.6 Mojave / x86_64  OK    OK    WARNINGS    OK  UNNEEDED, same version is already published

Summary

Package: BioTIP
Version: 1.9.1
Command: rm -rf BioTIP.buildbin-libdir && mkdir BioTIP.buildbin-libdir && /Users/biocbuild/BBS/utils/build-universal.sh BioTIP_1.9.1.tar.gz /Library/Frameworks/R.framework/Resources/bin/R BioTIP.buildbin-libdir
StartedAt: 2022-01-25 07:35:49 -0500 (Tue, 25 Jan 2022)
EndedAt: 2022-01-25 07:36:16 -0500 (Tue, 25 Jan 2022)
EllapsedTime: 27.0 seconds
RetCode: 0
Status:   OK  
PackageFile: BioTIP_1.9.1.tgz
PackageFileSize: 6.69 MiB

Command output

##############################################################################
##############################################################################
###
### Running command:
###
###   rm -rf BioTIP.buildbin-libdir && mkdir BioTIP.buildbin-libdir && /Users/biocbuild/BBS/utils/build-universal.sh BioTIP_1.9.1.tar.gz /Library/Frameworks/R.framework/Resources/bin/R BioTIP.buildbin-libdir
###
##############################################################################
##############################################################################


>>>>>>> 
>>>>>>> INSTALLATION WITH 'R CMD INSTALL --preclean --no-multiarch --library=BioTIP.buildbin-libdir BioTIP_1.9.1.tar.gz'
>>>>>>> 

* installing *source* package ‘BioTIP’ ...
** using staged installation
** R
** data
*** moving datasets to lazyload DB
** inst
** byte-compile and prepare package for lazy loading
** help
*** installing help indices
** building package indices
** installing vignettes
** testing if installed package can be loaded from temporary location
** testing if installed package can be loaded from final location
** testing if installed package keeps a record of temporary installation path
* DONE (BioTIP)