Back to Multiple platform build/check report for BioC 3.17
[A]BCDEFGHIJKLMNOPQRSTUVWXYZ

This page was generated on 2022-12-06 11:08:50 -0500 (Tue, 06 Dec 2022).

HostnameOSArch (*)R versionInstalled pkgs
nebbiolo1Linux (Ubuntu 22.04.1 LTS)x86_64R Under development (unstable) (2022-11-30 r83393) -- "Unsuffered Consequences" 4277
palomino3Windows Server 2022 Datacenterx64R Under development (unstable) (2022-11-30 r83393 ucrt) -- "Unsuffered Consequences" 4193
merida1macOS 10.14.6 Mojavex86_64R Under development (unstable) (2022-11-30 r83393) -- "Unsuffered Consequences" 4236
Click on any hostname to see more info about the system (e.g. compilers)      (*) as reported by 'uname -p', except on Windows and Mac OS X

BUILD results for ALDEx2 on merida1


To the developers/maintainers of the ALDEx2 package:
- Please allow up to 24 hours (and sometimes 48 hours) for your latest push to git@git.bioconductor.org:packages/ALDEx2.git to
reflect on this report. See How and When does the builder pull? When will my changes propagate? for more information.
- Make sure to use the following settings in order to reproduce any error or warning you see on this page.

raw results

Package 37/2155HostnameOS / ArchINSTALLBUILDCHECKBUILD BIN
ALDEx2 1.31.0  (landing page)
Greg Gloor
Snapshot Date: 2022-12-05 14:00:11 -0500 (Mon, 05 Dec 2022)
git_url: https://git.bioconductor.org/packages/ALDEx2
git_branch: master
git_last_commit: eba0542
git_last_commit_date: 2022-11-01 11:10:23 -0500 (Tue, 01 Nov 2022)
nebbiolo1Linux (Ubuntu 22.04.1 LTS) / x86_64  OK    OK    WARNINGS  UNNEEDED, same version is already published
palomino3Windows Server 2022 Datacenter / x64  OK    OK    WARNINGS    OK  NO, package depends on 'GenomicRanges' which is not available
merida1macOS 10.14.6 Mojave / x86_64  OK    OK    WARNINGS    OK  NO, package depends on 'BiocParallel' which is not available

Summary

Package: ALDEx2
Version: 1.31.0
Command: /Library/Frameworks/R.framework/Resources/bin/R CMD build --keep-empty-dirs --no-resave-data ALDEx2
StartedAt: 2022-12-05 16:33:58 -0500 (Mon, 05 Dec 2022)
EndedAt: 2022-12-05 16:36:00 -0500 (Mon, 05 Dec 2022)
EllapsedTime: 121.6 seconds
RetCode: 0
Status:   OK  
PackageFile: ALDEx2_1.31.0.tar.gz
PackageFileSize: 1005 KiB

Command output

##############################################################################
##############################################################################
###
### Running command:
###
###   /Library/Frameworks/R.framework/Resources/bin/R CMD build --keep-empty-dirs --no-resave-data ALDEx2
###
##############################################################################
##############################################################################


* checking for file ‘ALDEx2/DESCRIPTION’ ... OK
* preparing ‘ALDEx2’:
* checking DESCRIPTION meta-information ... OK
* installing the package to build vignettes
* creating vignettes ... OK
* checking for LF line-endings in source and make files and shell scripts
* checking for empty or unneeded directories
* looking to see if a ‘data/datalist’ file should be added
* building ‘ALDEx2_1.31.0.tar.gz’