Back to Multiple platform build/check report for BioC 3.17
ABCDEFGHIJKLMNOPQ[R]STUVWXYZ

This page was generated on 2023-01-28 11:09:40 -0500 (Sat, 28 Jan 2023).

HostnameOSArch (*)R versionInstalled pkgs
nebbiolo1Linux (Ubuntu 22.04.1 LTS)x86_64R Under development (unstable) (2023-01-10 r83596) -- "Unsuffered Consequences" 4465
palomino3Windows Server 2022 Datacenterx64R Under development (unstable) (2023-01-10 r83596 ucrt) -- "Unsuffered Consequences" 4246
merida1macOS 10.14.6 Mojavex86_64R Under development (unstable) (2023-01-10 r83596) -- "Unsuffered Consequences" 4269
Click on any hostname to see more info about the system (e.g. compilers)      (*) as reported by 'uname -p', except on Windows and Mac OS X

BUILD BIN results for Rhisat2 on merida1


To the developers/maintainers of the Rhisat2 package:
- Please allow up to 24 hours (and sometimes 48 hours) for your latest push to git@git.bioconductor.org:packages/Rhisat2.git to
reflect on this report. See How and When does the builder pull? When will my changes propagate? for more information.
- Make sure to use the following settings in order to reproduce any error or warning you see on this page.

raw results

Package 1660/2162HostnameOS / ArchINSTALLBUILDCHECKBUILD BIN
Rhisat2 1.15.0  (landing page)
Charlotte Soneson
Snapshot Date: 2023-01-27 14:00:19 -0500 (Fri, 27 Jan 2023)
git_url: https://git.bioconductor.org/packages/Rhisat2
git_branch: master
git_last_commit: c237dc8
git_last_commit_date: 2022-11-01 11:19:06 -0500 (Tue, 01 Nov 2022)
nebbiolo1Linux (Ubuntu 22.04.1 LTS) / x86_64  OK    OK    WARNINGS  UNNEEDED, same version is already published
palomino3Windows Server 2022 Datacenter / x64  OK    OK    WARNINGS    NA  
merida1macOS 10.14.6 Mojave / x86_64  OK    OK    WARNINGS    OK  UNNEEDED, same version is already published

Summary

Package: Rhisat2
Version: 1.15.0
Command: rm -rf Rhisat2.buildbin-libdir && mkdir Rhisat2.buildbin-libdir && /Users/biocbuild/BBS/utils/build-universal.sh Rhisat2_1.15.0.tar.gz /Library/Frameworks/R.framework/Resources/bin/R Rhisat2.buildbin-libdir
StartedAt: 2023-01-28 09:51:44 -0500 (Sat, 28 Jan 2023)
EndedAt: 2023-01-28 10:00:12 -0500 (Sat, 28 Jan 2023)
EllapsedTime: 508.4 seconds
RetCode: 0
Status:   OK  
PackageFile: Rhisat2_1.15.0.tgz
PackageFileSize: 1.218 MiB

Command output

##############################################################################
##############################################################################
###
### Running command:
###
###   rm -rf Rhisat2.buildbin-libdir && mkdir Rhisat2.buildbin-libdir && /Users/biocbuild/BBS/utils/build-universal.sh Rhisat2_1.15.0.tar.gz /Library/Frameworks/R.framework/Resources/bin/R Rhisat2.buildbin-libdir
###
##############################################################################
##############################################################################


>>>>>>> 
>>>>>>> INSTALLATION WITH 'R CMD INSTALL --preclean --no-multiarch --library=Rhisat2.buildbin-libdir Rhisat2_1.15.0.tar.gz'
>>>>>>> 

* installing *source* package ‘Rhisat2’ ...
** using staged installation
rm -f hisat2-build-s hisat2-align-s  \
	hisat2-build-s.exe hisat2-align-s.exe \
	hisat2-src.zip hisat2-bin.zip
rm -f core.* .tmp.head
rm -rf *.dSYM
rm -rf .ht2lib-obj*
rm -f libhisat2lib*.a libhisat2lib*.so
rm -f *.so
rm -f ../inst/hisat2 ../inst/hisat2-build
** libs
/usr/bin/g++ -O3 -m64 -msse2 -funroll-loops -g3 -DCOMPILER_OPTIONS="\"-O3 -m64 -msse2 -funroll-loops -g3 -std=c++11\"" -std=c++11 \
	-fno-strict-aliasing -DHISAT2_VERSION="\"2.2.1\"" -DBUILD_HOST="\"merida1.bioconductor.org\"" -DBUILD_TIME="\"Sat Jan 28 09:51:51 EST 2023\"" -DCOMPILER_VERSION="\"`/usr/bin/g++ -v 2>&1 | tail -1`\"" -D_LARGEFILE_SOURCE -D_FILE_OFFSET_BITS=64 -D_GNU_SOURCE  -DBOWTIE_MM  -DUSESIMDE -DBOWTIE2 -DNDEBUG -Wall -DMASSIVE_DATA_RLCSA \
	 -I. -I third_party \
	-o hisat2-build-s hisat2_build.cpp \
	ccnt_lut.cpp ref_read.cpp alphabet.cpp shmem.cpp edit.cpp gfm.cpp reference.cpp ds.cpp multikey_qsort.cpp limit.cpp random_source.cpp tinythread.cpp diff_sample.cpp hisat2_build_main.cpp \
	-lpthread 
In file included from hisat2_build.cpp:35:
./gfm.h:1185:3: warning: 'auto_ptr<std::__1::basic_stringstream<char, std::__1::char_traits<char>, std::__1::allocator<char> > >' is deprecated [-Wdeprecated-declarations]
                auto_ptr<stringstream> ss(new stringstream());
                ^
/Library/Developer/CommandLineTools/usr/bin/../include/c++/v1/memory:2080:28: note: 'auto_ptr<std::__1::basic_stringstream<char, std::__1::char_traits<char>, std::__1::allocator<char> > >' has been explicitly marked deprecated here
class _LIBCPP_TEMPLATE_VIS _LIBCPP_DEPRECATED_IN_CXX11 auto_ptr
                           ^
/Library/Developer/CommandLineTools/usr/bin/../include/c++/v1/__config:1101:39: note: expanded from macro '_LIBCPP_DEPRECATED_IN_CXX11'
#  define _LIBCPP_DEPRECATED_IN_CXX11 _LIBCPP_DEPRECATED
                                      ^
/Library/Developer/CommandLineTools/usr/bin/../include/c++/v1/__config:1090:48: note: expanded from macro '_LIBCPP_DEPRECATED'
#    define _LIBCPP_DEPRECATED __attribute__ ((deprecated))
                                               ^
In file included from hisat2_build.cpp:35:
./gfm.h:1189:3: warning: 'auto_ptr<FileBuf>' is deprecated [-Wdeprecated-declarations]
                auto_ptr<FileBuf> fb(new FileBuf(ss.get()));
                ^
/Library/Developer/CommandLineTools/usr/bin/../include/c++/v1/memory:2080:28: note: 'auto_ptr<FileBuf>' has been explicitly marked deprecated here
class _LIBCPP_TEMPLATE_VIS _LIBCPP_DEPRECATED_IN_CXX11 auto_ptr
                           ^
/Library/Developer/CommandLineTools/usr/bin/../include/c++/v1/__config:1101:39: note: expanded from macro '_LIBCPP_DEPRECATED_IN_CXX11'
#  define _LIBCPP_DEPRECATED_IN_CXX11 _LIBCPP_DEPRECATED
                                      ^
/Library/Developer/CommandLineTools/usr/bin/../include/c++/v1/__config:1090:48: note: expanded from macro '_LIBCPP_DEPRECATED'
#    define _LIBCPP_DEPRECATED __attribute__ ((deprecated))
                                               ^
2 warnings generated.
In file included from edit.cpp:21:
In file included from ./edit.h:30:
In file included from ./splice_site.h:34:
./gfm.h:1185:3: warning: 'auto_ptr<std::__1::basic_stringstream<char, std::__1::char_traits<char>, std::__1::allocator<char> > >' is deprecated [-Wdeprecated-declarations]
                auto_ptr<stringstream> ss(new stringstream());
                ^
/Library/Developer/CommandLineTools/usr/bin/../include/c++/v1/memory:2080:28: note: 'auto_ptr<std::__1::basic_stringstream<char, std::__1::char_traits<char>, std::__1::allocator<char> > >' has been explicitly marked deprecated here
class _LIBCPP_TEMPLATE_VIS _LIBCPP_DEPRECATED_IN_CXX11 auto_ptr
                           ^
/Library/Developer/CommandLineTools/usr/bin/../include/c++/v1/__config:1101:39: note: expanded from macro '_LIBCPP_DEPRECATED_IN_CXX11'
#  define _LIBCPP_DEPRECATED_IN_CXX11 _LIBCPP_DEPRECATED
                                      ^
/Library/Developer/CommandLineTools/usr/bin/../include/c++/v1/__config:1090:48: note: expanded from macro '_LIBCPP_DEPRECATED'
#    define _LIBCPP_DEPRECATED __attribute__ ((deprecated))
                                               ^
In file included from edit.cpp:21:
In file included from ./edit.h:30:
In file included from ./splice_site.h:34:
./gfm.h:1189:3: warning: 'auto_ptr<FileBuf>' is deprecated [-Wdeprecated-declarations]
                auto_ptr<FileBuf> fb(new FileBuf(ss.get()));
                ^
/Library/Developer/CommandLineTools/usr/bin/../include/c++/v1/memory:2080:28: note: 'auto_ptr<FileBuf>' has been explicitly marked deprecated here
class _LIBCPP_TEMPLATE_VIS _LIBCPP_DEPRECATED_IN_CXX11 auto_ptr
                           ^
/Library/Developer/CommandLineTools/usr/bin/../include/c++/v1/__config:1101:39: note: expanded from macro '_LIBCPP_DEPRECATED_IN_CXX11'
#  define _LIBCPP_DEPRECATED_IN_CXX11 _LIBCPP_DEPRECATED
                                      ^
/Library/Developer/CommandLineTools/usr/bin/../include/c++/v1/__config:1090:48: note: expanded from macro '_LIBCPP_DEPRECATED'
#    define _LIBCPP_DEPRECATED __attribute__ ((deprecated))
                                               ^
2 warnings generated.
In file included from gfm.cpp:21:
./gfm.h:1185:3: warning: 'auto_ptr<std::__1::basic_stringstream<char, std::__1::char_traits<char>, std::__1::allocator<char> > >' is deprecated [-Wdeprecated-declarations]
                auto_ptr<stringstream> ss(new stringstream());
                ^
/Library/Developer/CommandLineTools/usr/bin/../include/c++/v1/memory:2080:28: note: 'auto_ptr<std::__1::basic_stringstream<char, std::__1::char_traits<char>, std::__1::allocator<char> > >' has been explicitly marked deprecated here
class _LIBCPP_TEMPLATE_VIS _LIBCPP_DEPRECATED_IN_CXX11 auto_ptr
                           ^
/Library/Developer/CommandLineTools/usr/bin/../include/c++/v1/__config:1101:39: note: expanded from macro '_LIBCPP_DEPRECATED_IN_CXX11'
#  define _LIBCPP_DEPRECATED_IN_CXX11 _LIBCPP_DEPRECATED
                                      ^
/Library/Developer/CommandLineTools/usr/bin/../include/c++/v1/__config:1090:48: note: expanded from macro '_LIBCPP_DEPRECATED'
#    define _LIBCPP_DEPRECATED __attribute__ ((deprecated))
                                               ^
In file included from gfm.cpp:21:
./gfm.h:1189:3: warning: 'auto_ptr<FileBuf>' is deprecated [-Wdeprecated-declarations]
                auto_ptr<FileBuf> fb(new FileBuf(ss.get()));
                ^
/Library/Developer/CommandLineTools/usr/bin/../include/c++/v1/memory:2080:28: note: 'auto_ptr<FileBuf>' has been explicitly marked deprecated here
class _LIBCPP_TEMPLATE_VIS _LIBCPP_DEPRECATED_IN_CXX11 auto_ptr
                           ^
/Library/Developer/CommandLineTools/usr/bin/../include/c++/v1/__config:1101:39: note: expanded from macro '_LIBCPP_DEPRECATED_IN_CXX11'
#  define _LIBCPP_DEPRECATED_IN_CXX11 _LIBCPP_DEPRECATED
                                      ^
/Library/Developer/CommandLineTools/usr/bin/../include/c++/v1/__config:1090:48: note: expanded from macro '_LIBCPP_DEPRECATED'
#    define _LIBCPP_DEPRECATED __attribute__ ((deprecated))
                                               ^
2 warnings generated.
/usr/bin/g++ -O3 -m64 -msse2 -funroll-loops -g3 -DCOMPILER_OPTIONS="\"-O3 -m64 -msse2 -funroll-loops -g3 -std=c++11\"" -std=c++11 \
	-fno-strict-aliasing -DHISAT2_VERSION="\"2.2.1\"" -DBUILD_HOST="\"merida1.bioconductor.org\"" -DBUILD_TIME="\"Sat Jan 28 09:53:45 EST 2023\"" -DCOMPILER_VERSION="\"`/usr/bin/g++ -v 2>&1 | tail -1`\"" -D_LARGEFILE_SOURCE -D_FILE_OFFSET_BITS=64 -D_GNU_SOURCE  -DBOWTIE_MM  -DUSESIMDE  -DBOWTIE2 -DNDEBUG -Wall \
	 -I. -I third_party  \
	-o hisat2-align-s hisat2.cpp \
	ccnt_lut.cpp ref_read.cpp alphabet.cpp shmem.cpp edit.cpp gfm.cpp reference.cpp ds.cpp multikey_qsort.cpp limit.cpp random_source.cpp tinythread.cpp qual.cpp pat.cpp read_qseq.cpp aligner_seed_policy.cpp aligner_seed.cpp aligner_seed2.cpp aligner_sw.cpp aligner_sw_driver.cpp aligner_cache.cpp aligner_result.cpp ref_coord.cpp mask.cpp pe.cpp aln_sink.cpp dp_framer.cpp scoring.cpp presets.cpp unique.cpp simple_func.cpp random_util.cpp aligner_bt.cpp sse_util.cpp aligner_swsse.cpp outq.cpp aligner_swsse_loc_i16.cpp aligner_swsse_ee_i16.cpp aligner_swsse_loc_u8.cpp aligner_swsse_ee_u8.cpp aligner_driver.cpp splice_site.cpp hisat2_main.cpp \
	-lpthread  
In file included from hisat2.cpp:33:
In file included from ./hgfm.h:24:
./gfm.h:1185:3: warning: 'auto_ptr<std::__1::basic_stringstream<char, std::__1::char_traits<char>, std::__1::allocator<char> > >' is deprecated [-Wdeprecated-declarations]
                auto_ptr<stringstream> ss(new stringstream());
                ^
/Library/Developer/CommandLineTools/usr/bin/../include/c++/v1/memory:2080:28: note: 'auto_ptr<std::__1::basic_stringstream<char, std::__1::char_traits<char>, std::__1::allocator<char> > >' has been explicitly marked deprecated here
class _LIBCPP_TEMPLATE_VIS _LIBCPP_DEPRECATED_IN_CXX11 auto_ptr
                           ^
/Library/Developer/CommandLineTools/usr/bin/../include/c++/v1/__config:1101:39: note: expanded from macro '_LIBCPP_DEPRECATED_IN_CXX11'
#  define _LIBCPP_DEPRECATED_IN_CXX11 _LIBCPP_DEPRECATED
                                      ^
/Library/Developer/CommandLineTools/usr/bin/../include/c++/v1/__config:1090:48: note: expanded from macro '_LIBCPP_DEPRECATED'
#    define _LIBCPP_DEPRECATED __attribute__ ((deprecated))
                                               ^
In file included from hisat2.cpp:33:
In file included from ./hgfm.h:24:
./gfm.h:1189:3: warning: 'auto_ptr<FileBuf>' is deprecated [-Wdeprecated-declarations]
                auto_ptr<FileBuf> fb(new FileBuf(ss.get()));
                ^
/Library/Developer/CommandLineTools/usr/bin/../include/c++/v1/memory:2080:28: note: 'auto_ptr<FileBuf>' has been explicitly marked deprecated here
class _LIBCPP_TEMPLATE_VIS _LIBCPP_DEPRECATED_IN_CXX11 auto_ptr
                           ^
/Library/Developer/CommandLineTools/usr/bin/../include/c++/v1/__config:1101:39: note: expanded from macro '_LIBCPP_DEPRECATED_IN_CXX11'
#  define _LIBCPP_DEPRECATED_IN_CXX11 _LIBCPP_DEPRECATED
                                      ^
/Library/Developer/CommandLineTools/usr/bin/../include/c++/v1/__config:1090:48: note: expanded from macro '_LIBCPP_DEPRECATED'
#    define _LIBCPP_DEPRECATED __attribute__ ((deprecated))
                                               ^
hisat2.cpp:1823:2: warning: 'auto_ptr<Presets>' is deprecated [-Wdeprecated-declarations]
        auto_ptr<Presets> presets(new PresetsV0());
        ^
/Library/Developer/CommandLineTools/usr/bin/../include/c++/v1/memory:2080:28: note: 'auto_ptr<Presets>' has been explicitly marked deprecated here
class _LIBCPP_TEMPLATE_VIS _LIBCPP_DEPRECATED_IN_CXX11 auto_ptr
                           ^
/Library/Developer/CommandLineTools/usr/bin/../include/c++/v1/__config:1101:39: note: expanded from macro '_LIBCPP_DEPRECATED_IN_CXX11'
#  define _LIBCPP_DEPRECATED_IN_CXX11 _LIBCPP_DEPRECATED
                                      ^
/Library/Developer/CommandLineTools/usr/bin/../include/c++/v1/__config:1090:48: note: expanded from macro '_LIBCPP_DEPRECATED'
#    define _LIBCPP_DEPRECATED __attribute__ ((deprecated))
                                               ^
hisat2.cpp:3167:2: warning: 'auto_ptr<PatternSourcePerThreadFactory>' is deprecated [-Wdeprecated-declarations]
        auto_ptr<PatternSourcePerThreadFactory> patsrcFact(createPatsrcFactory(patsrc, tid));
        ^
/Library/Developer/CommandLineTools/usr/bin/../include/c++/v1/memory:2080:28: note: 'auto_ptr<PatternSourcePerThreadFactory>' has been explicitly marked deprecated here
class _LIBCPP_TEMPLATE_VIS _LIBCPP_DEPRECATED_IN_CXX11 auto_ptr
                           ^
/Library/Developer/CommandLineTools/usr/bin/../include/c++/v1/__config:1101:39: note: expanded from macro '_LIBCPP_DEPRECATED_IN_CXX11'
#  define _LIBCPP_DEPRECATED_IN_CXX11 _LIBCPP_DEPRECATED
                                      ^
/Library/Developer/CommandLineTools/usr/bin/../include/c++/v1/__config:1090:48: note: expanded from macro '_LIBCPP_DEPRECATED'
#    define _LIBCPP_DEPRECATED __attribute__ ((deprecated))
                                               ^
hisat2.cpp:3168:2: warning: 'auto_ptr<PatternSourcePerThread>' is deprecated [-Wdeprecated-declarations]
        auto_ptr<PatternSourcePerThread> ps(patsrcFact->create());
        ^
/Library/Developer/CommandLineTools/usr/bin/../include/c++/v1/memory:2080:28: note: 'auto_ptr<PatternSourcePerThread>' has been explicitly marked deprecated here
class _LIBCPP_TEMPLATE_VIS _LIBCPP_DEPRECATED_IN_CXX11 auto_ptr
                           ^
/Library/Developer/CommandLineTools/usr/bin/../include/c++/v1/__config:1101:39: note: expanded from macro '_LIBCPP_DEPRECATED_IN_CXX11'
#  define _LIBCPP_DEPRECATED_IN_CXX11 _LIBCPP_DEPRECATED
                                      ^
/Library/Developer/CommandLineTools/usr/bin/../include/c++/v1/__config:1090:48: note: expanded from macro '_LIBCPP_DEPRECATED'
#    define _LIBCPP_DEPRECATED __attribute__ ((deprecated))
                                               ^
hisat2.cpp:3189:2: warning: 'auto_ptr<Mapq>' is deprecated [-Wdeprecated-declarations]
        auto_ptr<Mapq> bmapq(new_mapq(mapqv, scoreMin, sc));
        ^
/Library/Developer/CommandLineTools/usr/bin/../include/c++/v1/memory:2080:28: note: 'auto_ptr<Mapq>' has been explicitly marked deprecated here
class _LIBCPP_TEMPLATE_VIS _LIBCPP_DEPRECATED_IN_CXX11 auto_ptr
                           ^
/Library/Developer/CommandLineTools/usr/bin/../include/c++/v1/__config:1101:39: note: expanded from macro '_LIBCPP_DEPRECATED_IN_CXX11'
#  define _LIBCPP_DEPRECATED_IN_CXX11 _LIBCPP_DEPRECATED
                                      ^
/Library/Developer/CommandLineTools/usr/bin/../include/c++/v1/__config:1090:48: note: expanded from macro '_LIBCPP_DEPRECATED'
#    define _LIBCPP_DEPRECATED __attribute__ ((deprecated))
                                               ^
hisat2.cpp:4035:9: warning: 'auto_ptr<BitPairReference>' is deprecated [-Wdeprecated-declarations]
        auto_ptr<BitPairReference> refs(
        ^
/Library/Developer/CommandLineTools/usr/bin/../include/c++/v1/memory:2080:28: note: 'auto_ptr<BitPairReference>' has been explicitly marked deprecated here
class _LIBCPP_TEMPLATE_VIS _LIBCPP_DEPRECATED_IN_CXX11 auto_ptr
                           ^
/Library/Developer/CommandLineTools/usr/bin/../include/c++/v1/__config:1101:39: note: expanded from macro '_LIBCPP_DEPRECATED_IN_CXX11'
#  define _LIBCPP_DEPRECATED_IN_CXX11 _LIBCPP_DEPRECATED
                                      ^
/Library/Developer/CommandLineTools/usr/bin/../include/c++/v1/__config:1090:48: note: expanded from macro '_LIBCPP_DEPRECATED'
#    define _LIBCPP_DEPRECATED __attribute__ ((deprecated))
                                               ^
7 warnings generated.
In file included from edit.cpp:21:
In file included from ./edit.h:30:
In file included from ./splice_site.h:34:
./gfm.h:1185:3: warning: 'auto_ptr<std::__1::basic_stringstream<char, std::__1::char_traits<char>, std::__1::allocator<char> > >' is deprecated [-Wdeprecated-declarations]
                auto_ptr<stringstream> ss(new stringstream());
                ^
/Library/Developer/CommandLineTools/usr/bin/../include/c++/v1/memory:2080:28: note: 'auto_ptr<std::__1::basic_stringstream<char, std::__1::char_traits<char>, std::__1::allocator<char> > >' has been explicitly marked deprecated here
class _LIBCPP_TEMPLATE_VIS _LIBCPP_DEPRECATED_IN_CXX11 auto_ptr
                           ^
/Library/Developer/CommandLineTools/usr/bin/../include/c++/v1/__config:1101:39: note: expanded from macro '_LIBCPP_DEPRECATED_IN_CXX11'
#  define _LIBCPP_DEPRECATED_IN_CXX11 _LIBCPP_DEPRECATED
                                      ^
/Library/Developer/CommandLineTools/usr/bin/../include/c++/v1/__config:1090:48: note: expanded from macro '_LIBCPP_DEPRECATED'
#    define _LIBCPP_DEPRECATED __attribute__ ((deprecated))
                                               ^
In file included from edit.cpp:21:
In file included from ./edit.h:30:
In file included from ./splice_site.h:34:
./gfm.h:1189:3: warning: 'auto_ptr<FileBuf>' is deprecated [-Wdeprecated-declarations]
                auto_ptr<FileBuf> fb(new FileBuf(ss.get()));
                ^
/Library/Developer/CommandLineTools/usr/bin/../include/c++/v1/memory:2080:28: note: 'auto_ptr<FileBuf>' has been explicitly marked deprecated here
class _LIBCPP_TEMPLATE_VIS _LIBCPP_DEPRECATED_IN_CXX11 auto_ptr
                           ^
/Library/Developer/CommandLineTools/usr/bin/../include/c++/v1/__config:1101:39: note: expanded from macro '_LIBCPP_DEPRECATED_IN_CXX11'
#  define _LIBCPP_DEPRECATED_IN_CXX11 _LIBCPP_DEPRECATED
                                      ^
/Library/Developer/CommandLineTools/usr/bin/../include/c++/v1/__config:1090:48: note: expanded from macro '_LIBCPP_DEPRECATED'
#    define _LIBCPP_DEPRECATED __attribute__ ((deprecated))
                                               ^
2 warnings generated.
In file included from gfm.cpp:21:
./gfm.h:1185:3: warning: 'auto_ptr<std::__1::basic_stringstream<char, std::__1::char_traits<char>, std::__1::allocator<char> > >' is deprecated [-Wdeprecated-declarations]
                auto_ptr<stringstream> ss(new stringstream());
                ^
/Library/Developer/CommandLineTools/usr/bin/../include/c++/v1/memory:2080:28: note: 'auto_ptr<std::__1::basic_stringstream<char, std::__1::char_traits<char>, std::__1::allocator<char> > >' has been explicitly marked deprecated here
class _LIBCPP_TEMPLATE_VIS _LIBCPP_DEPRECATED_IN_CXX11 auto_ptr
                           ^
/Library/Developer/CommandLineTools/usr/bin/../include/c++/v1/__config:1101:39: note: expanded from macro '_LIBCPP_DEPRECATED_IN_CXX11'
#  define _LIBCPP_DEPRECATED_IN_CXX11 _LIBCPP_DEPRECATED
                                      ^
/Library/Developer/CommandLineTools/usr/bin/../include/c++/v1/__config:1090:48: note: expanded from macro '_LIBCPP_DEPRECATED'
#    define _LIBCPP_DEPRECATED __attribute__ ((deprecated))
                                               ^
In file included from gfm.cpp:21:
./gfm.h:1189:3: warning: 'auto_ptr<FileBuf>' is deprecated [-Wdeprecated-declarations]
                auto_ptr<FileBuf> fb(new FileBuf(ss.get()));
                ^
/Library/Developer/CommandLineTools/usr/bin/../include/c++/v1/memory:2080:28: note: 'auto_ptr<FileBuf>' has been explicitly marked deprecated here
class _LIBCPP_TEMPLATE_VIS _LIBCPP_DEPRECATED_IN_CXX11 auto_ptr
                           ^
/Library/Developer/CommandLineTools/usr/bin/../include/c++/v1/__config:1101:39: note: expanded from macro '_LIBCPP_DEPRECATED_IN_CXX11'
#  define _LIBCPP_DEPRECATED_IN_CXX11 _LIBCPP_DEPRECATED
                                      ^
/Library/Developer/CommandLineTools/usr/bin/../include/c++/v1/__config:1090:48: note: expanded from macro '_LIBCPP_DEPRECATED'
#    define _LIBCPP_DEPRECATED __attribute__ ((deprecated))
                                               ^
2 warnings generated.
In file included from aligner_seed.cpp:21:
In file included from ./aligner_seed.h:30:
In file included from ./edit.h:30:
In file included from ./splice_site.h:34:
./gfm.h:1185:3: warning: 'auto_ptr<std::__1::basic_stringstream<char, std::__1::char_traits<char>, std::__1::allocator<char> > >' is deprecated [-Wdeprecated-declarations]
                auto_ptr<stringstream> ss(new stringstream());
                ^
/Library/Developer/CommandLineTools/usr/bin/../include/c++/v1/memory:2080:28: note: 'auto_ptr<std::__1::basic_stringstream<char, std::__1::char_traits<char>, std::__1::allocator<char> > >' has been explicitly marked deprecated here
class _LIBCPP_TEMPLATE_VIS _LIBCPP_DEPRECATED_IN_CXX11 auto_ptr
                           ^
/Library/Developer/CommandLineTools/usr/bin/../include/c++/v1/__config:1101:39: note: expanded from macro '_LIBCPP_DEPRECATED_IN_CXX11'
#  define _LIBCPP_DEPRECATED_IN_CXX11 _LIBCPP_DEPRECATED
                                      ^
/Library/Developer/CommandLineTools/usr/bin/../include/c++/v1/__config:1090:48: note: expanded from macro '_LIBCPP_DEPRECATED'
#    define _LIBCPP_DEPRECATED __attribute__ ((deprecated))
                                               ^
In file included from aligner_seed.cpp:21:
In file included from ./aligner_seed.h:30:
In file included from ./edit.h:30:
In file included from ./splice_site.h:34:
./gfm.h:1189:3: warning: 'auto_ptr<FileBuf>' is deprecated [-Wdeprecated-declarations]
                auto_ptr<FileBuf> fb(new FileBuf(ss.get()));
                ^
/Library/Developer/CommandLineTools/usr/bin/../include/c++/v1/memory:2080:28: note: 'auto_ptr<FileBuf>' has been explicitly marked deprecated here
class _LIBCPP_TEMPLATE_VIS _LIBCPP_DEPRECATED_IN_CXX11 auto_ptr
                           ^
/Library/Developer/CommandLineTools/usr/bin/../include/c++/v1/__config:1101:39: note: expanded from macro '_LIBCPP_DEPRECATED_IN_CXX11'
#  define _LIBCPP_DEPRECATED_IN_CXX11 _LIBCPP_DEPRECATED
                                      ^
/Library/Developer/CommandLineTools/usr/bin/../include/c++/v1/__config:1090:48: note: expanded from macro '_LIBCPP_DEPRECATED'
#    define _LIBCPP_DEPRECATED __attribute__ ((deprecated))
                                               ^
2 warnings generated.
In file included from aligner_seed2.cpp:22:
In file included from ./aligner_seed2.h:102:
In file included from ./aligner_result.h:30:
In file included from ./edit.h:30:
In file included from ./splice_site.h:34:
./gfm.h:1185:3: warning: 'auto_ptr<std::__1::basic_stringstream<char, std::__1::char_traits<char>, std::__1::allocator<char> > >' is deprecated [-Wdeprecated-declarations]
                auto_ptr<stringstream> ss(new stringstream());
                ^
/Library/Developer/CommandLineTools/usr/bin/../include/c++/v1/memory:2080:28: note: 'auto_ptr<std::__1::basic_stringstream<char, std::__1::char_traits<char>, std::__1::allocator<char> > >' has been explicitly marked deprecated here
class _LIBCPP_TEMPLATE_VIS _LIBCPP_DEPRECATED_IN_CXX11 auto_ptr
                           ^
/Library/Developer/CommandLineTools/usr/bin/../include/c++/v1/__config:1101:39: note: expanded from macro '_LIBCPP_DEPRECATED_IN_CXX11'
#  define _LIBCPP_DEPRECATED_IN_CXX11 _LIBCPP_DEPRECATED
                                      ^
/Library/Developer/CommandLineTools/usr/bin/../include/c++/v1/__config:1090:48: note: expanded from macro '_LIBCPP_DEPRECATED'
#    define _LIBCPP_DEPRECATED __attribute__ ((deprecated))
                                               ^
In file included from aligner_seed2.cpp:22:
In file included from ./aligner_seed2.h:102:
In file included from ./aligner_result.h:30:
In file included from ./edit.h:30:
In file included from ./splice_site.h:34:
./gfm.h:1189:3: warning: 'auto_ptr<FileBuf>' is deprecated [-Wdeprecated-declarations]
                auto_ptr<FileBuf> fb(new FileBuf(ss.get()));
                ^
/Library/Developer/CommandLineTools/usr/bin/../include/c++/v1/memory:2080:28: note: 'auto_ptr<FileBuf>' has been explicitly marked deprecated here
class _LIBCPP_TEMPLATE_VIS _LIBCPP_DEPRECATED_IN_CXX11 auto_ptr
                           ^
/Library/Developer/CommandLineTools/usr/bin/../include/c++/v1/__config:1101:39: note: expanded from macro '_LIBCPP_DEPRECATED_IN_CXX11'
#  define _LIBCPP_DEPRECATED_IN_CXX11 _LIBCPP_DEPRECATED
                                      ^
/Library/Developer/CommandLineTools/usr/bin/../include/c++/v1/__config:1090:48: note: expanded from macro '_LIBCPP_DEPRECATED'
#    define _LIBCPP_DEPRECATED __attribute__ ((deprecated))
                                               ^
2 warnings generated.
In file included from aligner_sw.cpp:25:
In file included from ./aligner_sw.h:80:
In file included from ./aligner_sw_common.h:23:
In file included from ./aligner_result.h:30:
In file included from ./edit.h:30:
In file included from ./splice_site.h:34:
./gfm.h:1185:3: warning: 'auto_ptr<std::__1::basic_stringstream<char, std::__1::char_traits<char>, std::__1::allocator<char> > >' is deprecated [-Wdeprecated-declarations]
                auto_ptr<stringstream> ss(new stringstream());
                ^
/Library/Developer/CommandLineTools/usr/bin/../include/c++/v1/memory:2080:28: note: 'auto_ptr<std::__1::basic_stringstream<char, std::__1::char_traits<char>, std::__1::allocator<char> > >' has been explicitly marked deprecated here
class _LIBCPP_TEMPLATE_VIS _LIBCPP_DEPRECATED_IN_CXX11 auto_ptr
                           ^
/Library/Developer/CommandLineTools/usr/bin/../include/c++/v1/__config:1101:39: note: expanded from macro '_LIBCPP_DEPRECATED_IN_CXX11'
#  define _LIBCPP_DEPRECATED_IN_CXX11 _LIBCPP_DEPRECATED
                                      ^
/Library/Developer/CommandLineTools/usr/bin/../include/c++/v1/__config:1090:48: note: expanded from macro '_LIBCPP_DEPRECATED'
#    define _LIBCPP_DEPRECATED __attribute__ ((deprecated))
                                               ^
In file included from aligner_sw.cpp:25:
In file included from ./aligner_sw.h:80:
In file included from ./aligner_sw_common.h:23:
In file included from ./aligner_result.h:30:
In file included from ./edit.h:30:
In file included from ./splice_site.h:34:
./gfm.h:1189:3: warning: 'auto_ptr<FileBuf>' is deprecated [-Wdeprecated-declarations]
                auto_ptr<FileBuf> fb(new FileBuf(ss.get()));
                ^
/Library/Developer/CommandLineTools/usr/bin/../include/c++/v1/memory:2080:28: note: 'auto_ptr<FileBuf>' has been explicitly marked deprecated here
class _LIBCPP_TEMPLATE_VIS _LIBCPP_DEPRECATED_IN_CXX11 auto_ptr
                           ^
/Library/Developer/CommandLineTools/usr/bin/../include/c++/v1/__config:1101:39: note: expanded from macro '_LIBCPP_DEPRECATED_IN_CXX11'
#  define _LIBCPP_DEPRECATED_IN_CXX11 _LIBCPP_DEPRECATED
                                      ^
/Library/Developer/CommandLineTools/usr/bin/../include/c++/v1/__config:1090:48: note: expanded from macro '_LIBCPP_DEPRECATED'
#    define _LIBCPP_DEPRECATED __attribute__ ((deprecated))
                                               ^
2 warnings generated.
In file included from aligner_result.cpp:22:
In file included from ./aligner_result.h:30:
In file included from ./edit.h:30:
In file included from ./splice_site.h:34:
./gfm.h:1185:3: warning: 'auto_ptr<std::__1::basic_stringstream<char, std::__1::char_traits<char>, std::__1::allocator<char> > >' is deprecated [-Wdeprecated-declarations]
                auto_ptr<stringstream> ss(new stringstream());
                ^
/Library/Developer/CommandLineTools/usr/bin/../include/c++/v1/memory:2080:28: note: 'auto_ptr<std::__1::basic_stringstream<char, std::__1::char_traits<char>, std::__1::allocator<char> > >' has been explicitly marked deprecated here
class _LIBCPP_TEMPLATE_VIS _LIBCPP_DEPRECATED_IN_CXX11 auto_ptr
                           ^
/Library/Developer/CommandLineTools/usr/bin/../include/c++/v1/__config:1101:39: note: expanded from macro '_LIBCPP_DEPRECATED_IN_CXX11'
#  define _LIBCPP_DEPRECATED_IN_CXX11 _LIBCPP_DEPRECATED
                                      ^
/Library/Developer/CommandLineTools/usr/bin/../include/c++/v1/__config:1090:48: note: expanded from macro '_LIBCPP_DEPRECATED'
#    define _LIBCPP_DEPRECATED __attribute__ ((deprecated))
                                               ^
In file included from aligner_result.cpp:22:
In file included from ./aligner_result.h:30:
In file included from ./edit.h:30:
In file included from ./splice_site.h:34:
./gfm.h:1189:3: warning: 'auto_ptr<FileBuf>' is deprecated [-Wdeprecated-declarations]
                auto_ptr<FileBuf> fb(new FileBuf(ss.get()));
                ^
/Library/Developer/CommandLineTools/usr/bin/../include/c++/v1/memory:2080:28: note: 'auto_ptr<FileBuf>' has been explicitly marked deprecated here
class _LIBCPP_TEMPLATE_VIS _LIBCPP_DEPRECATED_IN_CXX11 auto_ptr
                           ^
/Library/Developer/CommandLineTools/usr/bin/../include/c++/v1/__config:1101:39: note: expanded from macro '_LIBCPP_DEPRECATED_IN_CXX11'
#  define _LIBCPP_DEPRECATED_IN_CXX11 _LIBCPP_DEPRECATED
                                      ^
/Library/Developer/CommandLineTools/usr/bin/../include/c++/v1/__config:1090:48: note: expanded from macro '_LIBCPP_DEPRECATED'
#    define _LIBCPP_DEPRECATED __attribute__ ((deprecated))
                                               ^
2 warnings generated.
In file included from aln_sink.cpp:22:
In file included from ./aln_sink.h:25:
In file included from ./unique.h:38:
In file included from ./aligner_result.h:30:
In file included from ./edit.h:30:
In file included from ./splice_site.h:34:
./gfm.h:1185:3: warning: 'auto_ptr<std::__1::basic_stringstream<char, std::__1::char_traits<char>, std::__1::allocator<char> > >' is deprecated [-Wdeprecated-declarations]
                auto_ptr<stringstream> ss(new stringstream());
                ^
/Library/Developer/CommandLineTools/usr/bin/../include/c++/v1/memory:2080:28: note: 'auto_ptr<std::__1::basic_stringstream<char, std::__1::char_traits<char>, std::__1::allocator<char> > >' has been explicitly marked deprecated here
class _LIBCPP_TEMPLATE_VIS _LIBCPP_DEPRECATED_IN_CXX11 auto_ptr
                           ^
/Library/Developer/CommandLineTools/usr/bin/../include/c++/v1/__config:1101:39: note: expanded from macro '_LIBCPP_DEPRECATED_IN_CXX11'
#  define _LIBCPP_DEPRECATED_IN_CXX11 _LIBCPP_DEPRECATED
                                      ^
/Library/Developer/CommandLineTools/usr/bin/../include/c++/v1/__config:1090:48: note: expanded from macro '_LIBCPP_DEPRECATED'
#    define _LIBCPP_DEPRECATED __attribute__ ((deprecated))
                                               ^
In file included from aln_sink.cpp:22:
In file included from ./aln_sink.h:25:
In file included from ./unique.h:38:
In file included from ./aligner_result.h:30:
In file included from ./edit.h:30:
In file included from ./splice_site.h:34:
./gfm.h:1189:3: warning: 'auto_ptr<FileBuf>' is deprecated [-Wdeprecated-declarations]
                auto_ptr<FileBuf> fb(new FileBuf(ss.get()));
                ^
/Library/Developer/CommandLineTools/usr/bin/../include/c++/v1/memory:2080:28: note: 'auto_ptr<FileBuf>' has been explicitly marked deprecated here
class _LIBCPP_TEMPLATE_VIS _LIBCPP_DEPRECATED_IN_CXX11 auto_ptr
                           ^
/Library/Developer/CommandLineTools/usr/bin/../include/c++/v1/__config:1101:39: note: expanded from macro '_LIBCPP_DEPRECATED_IN_CXX11'
#  define _LIBCPP_DEPRECATED_IN_CXX11 _LIBCPP_DEPRECATED
                                      ^
/Library/Developer/CommandLineTools/usr/bin/../include/c++/v1/__config:1090:48: note: expanded from macro '_LIBCPP_DEPRECATED'
#    define _LIBCPP_DEPRECATED __attribute__ ((deprecated))
                                               ^
2 warnings generated.
In file included from unique.cpp:20:
In file included from ./unique.h:38:
In file included from ./aligner_result.h:30:
In file included from ./edit.h:30:
In file included from ./splice_site.h:34:
./gfm.h:1185:3: warning: 'auto_ptr<std::__1::basic_stringstream<char, std::__1::char_traits<char>, std::__1::allocator<char> > >' is deprecated [-Wdeprecated-declarations]
                auto_ptr<stringstream> ss(new stringstream());
                ^
/Library/Developer/CommandLineTools/usr/bin/../include/c++/v1/memory:2080:28: note: 'auto_ptr<std::__1::basic_stringstream<char, std::__1::char_traits<char>, std::__1::allocator<char> > >' has been explicitly marked deprecated here
class _LIBCPP_TEMPLATE_VIS _LIBCPP_DEPRECATED_IN_CXX11 auto_ptr
                           ^
/Library/Developer/CommandLineTools/usr/bin/../include/c++/v1/__config:1101:39: note: expanded from macro '_LIBCPP_DEPRECATED_IN_CXX11'
#  define _LIBCPP_DEPRECATED_IN_CXX11 _LIBCPP_DEPRECATED
                                      ^
/Library/Developer/CommandLineTools/usr/bin/../include/c++/v1/__config:1090:48: note: expanded from macro '_LIBCPP_DEPRECATED'
#    define _LIBCPP_DEPRECATED __attribute__ ((deprecated))
                                               ^
In file included from unique.cpp:20:
In file included from ./unique.h:38:
In file included from ./aligner_result.h:30:
In file included from ./edit.h:30:
In file included from ./splice_site.h:34:
./gfm.h:1189:3: warning: 'auto_ptr<FileBuf>' is deprecated [-Wdeprecated-declarations]
                auto_ptr<FileBuf> fb(new FileBuf(ss.get()));
                ^
/Library/Developer/CommandLineTools/usr/bin/../include/c++/v1/memory:2080:28: note: 'auto_ptr<FileBuf>' has been explicitly marked deprecated here
class _LIBCPP_TEMPLATE_VIS _LIBCPP_DEPRECATED_IN_CXX11 auto_ptr
                           ^
/Library/Developer/CommandLineTools/usr/bin/../include/c++/v1/__config:1101:39: note: expanded from macro '_LIBCPP_DEPRECATED_IN_CXX11'
#  define _LIBCPP_DEPRECATED_IN_CXX11 _LIBCPP_DEPRECATED
                                      ^
/Library/Developer/CommandLineTools/usr/bin/../include/c++/v1/__config:1090:48: note: expanded from macro '_LIBCPP_DEPRECATED'
#    define _LIBCPP_DEPRECATED __attribute__ ((deprecated))
                                               ^
2 warnings generated.
In file included from aligner_bt.cpp:20:
In file included from ./aligner_bt.h:25:
In file included from ./aligner_sw_common.h:23:
In file included from ./aligner_result.h:30:
In file included from ./edit.h:30:
In file included from ./splice_site.h:34:
./gfm.h:1185:3: warning: 'auto_ptr<std::__1::basic_stringstream<char, std::__1::char_traits<char>, std::__1::allocator<char> > >' is deprecated [-Wdeprecated-declarations]
                auto_ptr<stringstream> ss(new stringstream());
                ^
/Library/Developer/CommandLineTools/usr/bin/../include/c++/v1/memory:2080:28: note: 'auto_ptr<std::__1::basic_stringstream<char, std::__1::char_traits<char>, std::__1::allocator<char> > >' has been explicitly marked deprecated here
class _LIBCPP_TEMPLATE_VIS _LIBCPP_DEPRECATED_IN_CXX11 auto_ptr
                           ^
/Library/Developer/CommandLineTools/usr/bin/../include/c++/v1/__config:1101:39: note: expanded from macro '_LIBCPP_DEPRECATED_IN_CXX11'
#  define _LIBCPP_DEPRECATED_IN_CXX11 _LIBCPP_DEPRECATED
                                      ^
/Library/Developer/CommandLineTools/usr/bin/../include/c++/v1/__config:1090:48: note: expanded from macro '_LIBCPP_DEPRECATED'
#    define _LIBCPP_DEPRECATED __attribute__ ((deprecated))
                                               ^
In file included from aligner_bt.cpp:20:
In file included from ./aligner_bt.h:25:
In file included from ./aligner_sw_common.h:23:
In file included from ./aligner_result.h:30:
In file included from ./edit.h:30:
In file included from ./splice_site.h:34:
./gfm.h:1189:3: warning: 'auto_ptr<FileBuf>' is deprecated [-Wdeprecated-declarations]
                auto_ptr<FileBuf> fb(new FileBuf(ss.get()));
                ^
/Library/Developer/CommandLineTools/usr/bin/../include/c++/v1/memory:2080:28: note: 'auto_ptr<FileBuf>' has been explicitly marked deprecated here
class _LIBCPP_TEMPLATE_VIS _LIBCPP_DEPRECATED_IN_CXX11 auto_ptr
                           ^
/Library/Developer/CommandLineTools/usr/bin/../include/c++/v1/__config:1101:39: note: expanded from macro '_LIBCPP_DEPRECATED_IN_CXX11'
#  define _LIBCPP_DEPRECATED_IN_CXX11 _LIBCPP_DEPRECATED
                                      ^
/Library/Developer/CommandLineTools/usr/bin/../include/c++/v1/__config:1090:48: note: expanded from macro '_LIBCPP_DEPRECATED'
#    define _LIBCPP_DEPRECATED __attribute__ ((deprecated))
                                               ^
2 warnings generated.
In file included from aligner_swsse.cpp:21:
In file included from ./aligner_sw_common.h:23:
In file included from ./aligner_result.h:30:
In file included from ./edit.h:30:
In file included from ./splice_site.h:34:
./gfm.h:1185:3: warning: 'auto_ptr<std::__1::basic_stringstream<char, std::__1::char_traits<char>, std::__1::allocator<char> > >' is deprecated [-Wdeprecated-declarations]
                auto_ptr<stringstream> ss(new stringstream());
                ^
/Library/Developer/CommandLineTools/usr/bin/../include/c++/v1/memory:2080:28: note: 'auto_ptr<std::__1::basic_stringstream<char, std::__1::char_traits<char>, std::__1::allocator<char> > >' has been explicitly marked deprecated here
class _LIBCPP_TEMPLATE_VIS _LIBCPP_DEPRECATED_IN_CXX11 auto_ptr
                           ^
/Library/Developer/CommandLineTools/usr/bin/../include/c++/v1/__config:1101:39: note: expanded from macro '_LIBCPP_DEPRECATED_IN_CXX11'
#  define _LIBCPP_DEPRECATED_IN_CXX11 _LIBCPP_DEPRECATED
                                      ^
/Library/Developer/CommandLineTools/usr/bin/../include/c++/v1/__config:1090:48: note: expanded from macro '_LIBCPP_DEPRECATED'
#    define _LIBCPP_DEPRECATED __attribute__ ((deprecated))
                                               ^
In file included from aligner_swsse.cpp:21:
In file included from ./aligner_sw_common.h:23:
In file included from ./aligner_result.h:30:
In file included from ./edit.h:30:
In file included from ./splice_site.h:34:
./gfm.h:1189:3: warning: 'auto_ptr<FileBuf>' is deprecated [-Wdeprecated-declarations]
                auto_ptr<FileBuf> fb(new FileBuf(ss.get()));
                ^
/Library/Developer/CommandLineTools/usr/bin/../include/c++/v1/memory:2080:28: note: 'auto_ptr<FileBuf>' has been explicitly marked deprecated here
class _LIBCPP_TEMPLATE_VIS _LIBCPP_DEPRECATED_IN_CXX11 auto_ptr
                           ^
/Library/Developer/CommandLineTools/usr/bin/../include/c++/v1/__config:1101:39: note: expanded from macro '_LIBCPP_DEPRECATED_IN_CXX11'
#  define _LIBCPP_DEPRECATED_IN_CXX11 _LIBCPP_DEPRECATED
                                      ^
/Library/Developer/CommandLineTools/usr/bin/../include/c++/v1/__config:1090:48: note: expanded from macro '_LIBCPP_DEPRECATED'
#    define _LIBCPP_DEPRECATED __attribute__ ((deprecated))
                                               ^
2 warnings generated.
In file included from aligner_swsse_loc_i16.cpp:56:
In file included from ./aligner_sw.h:80:
In file included from ./aligner_sw_common.h:23:
In file included from ./aligner_result.h:30:
In file included from ./edit.h:30:
In file included from ./splice_site.h:34:
./gfm.h:1185:3: warning: 'auto_ptr<std::__1::basic_stringstream<char, std::__1::char_traits<char>, std::__1::allocator<char> > >' is deprecated [-Wdeprecated-declarations]
                auto_ptr<stringstream> ss(new stringstream());
                ^
/Library/Developer/CommandLineTools/usr/bin/../include/c++/v1/memory:2080:28: note: 'auto_ptr<std::__1::basic_stringstream<char, std::__1::char_traits<char>, std::__1::allocator<char> > >' has been explicitly marked deprecated here
class _LIBCPP_TEMPLATE_VIS _LIBCPP_DEPRECATED_IN_CXX11 auto_ptr
                           ^
/Library/Developer/CommandLineTools/usr/bin/../include/c++/v1/__config:1101:39: note: expanded from macro '_LIBCPP_DEPRECATED_IN_CXX11'
#  define _LIBCPP_DEPRECATED_IN_CXX11 _LIBCPP_DEPRECATED
                                      ^
/Library/Developer/CommandLineTools/usr/bin/../include/c++/v1/__config:1090:48: note: expanded from macro '_LIBCPP_DEPRECATED'
#    define _LIBCPP_DEPRECATED __attribute__ ((deprecated))
                                               ^
In file included from aligner_swsse_loc_i16.cpp:56:
In file included from ./aligner_sw.h:80:
In file included from ./aligner_sw_common.h:23:
In file included from ./aligner_result.h:30:
In file included from ./edit.h:30:
In file included from ./splice_site.h:34:
./gfm.h:1189:3: warning: 'auto_ptr<FileBuf>' is deprecated [-Wdeprecated-declarations]
                auto_ptr<FileBuf> fb(new FileBuf(ss.get()));
                ^
/Library/Developer/CommandLineTools/usr/bin/../include/c++/v1/memory:2080:28: note: 'auto_ptr<FileBuf>' has been explicitly marked deprecated here
class _LIBCPP_TEMPLATE_VIS _LIBCPP_DEPRECATED_IN_CXX11 auto_ptr
                           ^
/Library/Developer/CommandLineTools/usr/bin/../include/c++/v1/__config:1101:39: note: expanded from macro '_LIBCPP_DEPRECATED_IN_CXX11'
#  define _LIBCPP_DEPRECATED_IN_CXX11 _LIBCPP_DEPRECATED
                                      ^
/Library/Developer/CommandLineTools/usr/bin/../include/c++/v1/__config:1090:48: note: expanded from macro '_LIBCPP_DEPRECATED'
#    define _LIBCPP_DEPRECATED __attribute__ ((deprecated))
                                               ^
2 warnings generated.
In file included from aligner_swsse_ee_i16.cpp:56:
In file included from ./aligner_sw.h:80:
In file included from ./aligner_sw_common.h:23:
In file included from ./aligner_result.h:30:
In file included from ./edit.h:30:
In file included from ./splice_site.h:34:
./gfm.h:1185:3: warning: 'auto_ptr<std::__1::basic_stringstream<char, std::__1::char_traits<char>, std::__1::allocator<char> > >' is deprecated [-Wdeprecated-declarations]
                auto_ptr<stringstream> ss(new stringstream());
                ^
/Library/Developer/CommandLineTools/usr/bin/../include/c++/v1/memory:2080:28: note: 'auto_ptr<std::__1::basic_stringstream<char, std::__1::char_traits<char>, std::__1::allocator<char> > >' has been explicitly marked deprecated here
class _LIBCPP_TEMPLATE_VIS _LIBCPP_DEPRECATED_IN_CXX11 auto_ptr
                           ^
/Library/Developer/CommandLineTools/usr/bin/../include/c++/v1/__config:1101:39: note: expanded from macro '_LIBCPP_DEPRECATED_IN_CXX11'
#  define _LIBCPP_DEPRECATED_IN_CXX11 _LIBCPP_DEPRECATED
                                      ^
/Library/Developer/CommandLineTools/usr/bin/../include/c++/v1/__config:1090:48: note: expanded from macro '_LIBCPP_DEPRECATED'
#    define _LIBCPP_DEPRECATED __attribute__ ((deprecated))
                                               ^
In file included from aligner_swsse_ee_i16.cpp:56:
In file included from ./aligner_sw.h:80:
In file included from ./aligner_sw_common.h:23:
In file included from ./aligner_result.h:30:
In file included from ./edit.h:30:
In file included from ./splice_site.h:34:
./gfm.h:1189:3: warning: 'auto_ptr<FileBuf>' is deprecated [-Wdeprecated-declarations]
                auto_ptr<FileBuf> fb(new FileBuf(ss.get()));
                ^
/Library/Developer/CommandLineTools/usr/bin/../include/c++/v1/memory:2080:28: note: 'auto_ptr<FileBuf>' has been explicitly marked deprecated here
class _LIBCPP_TEMPLATE_VIS _LIBCPP_DEPRECATED_IN_CXX11 auto_ptr
                           ^
/Library/Developer/CommandLineTools/usr/bin/../include/c++/v1/__config:1101:39: note: expanded from macro '_LIBCPP_DEPRECATED_IN_CXX11'
#  define _LIBCPP_DEPRECATED_IN_CXX11 _LIBCPP_DEPRECATED
                                      ^
/Library/Developer/CommandLineTools/usr/bin/../include/c++/v1/__config:1090:48: note: expanded from macro '_LIBCPP_DEPRECATED'
#    define _LIBCPP_DEPRECATED __attribute__ ((deprecated))
                                               ^
2 warnings generated.
In file included from aligner_swsse_loc_u8.cpp:56:
In file included from ./aligner_sw.h:80:
In file included from ./aligner_sw_common.h:23:
In file included from ./aligner_result.h:30:
In file included from ./edit.h:30:
In file included from ./splice_site.h:34:
./gfm.h:1185:3: warning: 'auto_ptr<std::__1::basic_stringstream<char, std::__1::char_traits<char>, std::__1::allocator<char> > >' is deprecated [-Wdeprecated-declarations]
                auto_ptr<stringstream> ss(new stringstream());
                ^
/Library/Developer/CommandLineTools/usr/bin/../include/c++/v1/memory:2080:28: note: 'auto_ptr<std::__1::basic_stringstream<char, std::__1::char_traits<char>, std::__1::allocator<char> > >' has been explicitly marked deprecated here
class _LIBCPP_TEMPLATE_VIS _LIBCPP_DEPRECATED_IN_CXX11 auto_ptr
                           ^
/Library/Developer/CommandLineTools/usr/bin/../include/c++/v1/__config:1101:39: note: expanded from macro '_LIBCPP_DEPRECATED_IN_CXX11'
#  define _LIBCPP_DEPRECATED_IN_CXX11 _LIBCPP_DEPRECATED
                                      ^
/Library/Developer/CommandLineTools/usr/bin/../include/c++/v1/__config:1090:48: note: expanded from macro '_LIBCPP_DEPRECATED'
#    define _LIBCPP_DEPRECATED __attribute__ ((deprecated))
                                               ^
In file included from aligner_swsse_loc_u8.cpp:56:
In file included from ./aligner_sw.h:80:
In file included from ./aligner_sw_common.h:23:
In file included from ./aligner_result.h:30:
In file included from ./edit.h:30:
In file included from ./splice_site.h:34:
./gfm.h:1189:3: warning: 'auto_ptr<FileBuf>' is deprecated [-Wdeprecated-declarations]
                auto_ptr<FileBuf> fb(new FileBuf(ss.get()));
                ^
/Library/Developer/CommandLineTools/usr/bin/../include/c++/v1/memory:2080:28: note: 'auto_ptr<FileBuf>' has been explicitly marked deprecated here
class _LIBCPP_TEMPLATE_VIS _LIBCPP_DEPRECATED_IN_CXX11 auto_ptr
                           ^
/Library/Developer/CommandLineTools/usr/bin/../include/c++/v1/__config:1101:39: note: expanded from macro '_LIBCPP_DEPRECATED_IN_CXX11'
#  define _LIBCPP_DEPRECATED_IN_CXX11 _LIBCPP_DEPRECATED
                                      ^
/Library/Developer/CommandLineTools/usr/bin/../include/c++/v1/__config:1090:48: note: expanded from macro '_LIBCPP_DEPRECATED'
#    define _LIBCPP_DEPRECATED __attribute__ ((deprecated))
                                               ^
2 warnings generated.
In file included from aligner_swsse_ee_u8.cpp:56:
In file included from ./aligner_sw.h:80:
In file included from ./aligner_sw_common.h:23:
In file included from ./aligner_result.h:30:
In file included from ./edit.h:30:
In file included from ./splice_site.h:34:
./gfm.h:1185:3: warning: 'auto_ptr<std::__1::basic_stringstream<char, std::__1::char_traits<char>, std::__1::allocator<char> > >' is deprecated [-Wdeprecated-declarations]
                auto_ptr<stringstream> ss(new stringstream());
                ^
/Library/Developer/CommandLineTools/usr/bin/../include/c++/v1/memory:2080:28: note: 'auto_ptr<std::__1::basic_stringstream<char, std::__1::char_traits<char>, std::__1::allocator<char> > >' has been explicitly marked deprecated here
class _LIBCPP_TEMPLATE_VIS _LIBCPP_DEPRECATED_IN_CXX11 auto_ptr
                           ^
/Library/Developer/CommandLineTools/usr/bin/../include/c++/v1/__config:1101:39: note: expanded from macro '_LIBCPP_DEPRECATED_IN_CXX11'
#  define _LIBCPP_DEPRECATED_IN_CXX11 _LIBCPP_DEPRECATED
                                      ^
/Library/Developer/CommandLineTools/usr/bin/../include/c++/v1/__config:1090:48: note: expanded from macro '_LIBCPP_DEPRECATED'
#    define _LIBCPP_DEPRECATED __attribute__ ((deprecated))
                                               ^
In file included from aligner_swsse_ee_u8.cpp:56:
In file included from ./aligner_sw.h:80:
In file included from ./aligner_sw_common.h:23:
In file included from ./aligner_result.h:30:
In file included from ./edit.h:30:
In file included from ./splice_site.h:34:
./gfm.h:1189:3: warning: 'auto_ptr<FileBuf>' is deprecated [-Wdeprecated-declarations]
                auto_ptr<FileBuf> fb(new FileBuf(ss.get()));
                ^
/Library/Developer/CommandLineTools/usr/bin/../include/c++/v1/memory:2080:28: note: 'auto_ptr<FileBuf>' has been explicitly marked deprecated here
class _LIBCPP_TEMPLATE_VIS _LIBCPP_DEPRECATED_IN_CXX11 auto_ptr
                           ^
/Library/Developer/CommandLineTools/usr/bin/../include/c++/v1/__config:1101:39: note: expanded from macro '_LIBCPP_DEPRECATED_IN_CXX11'
#  define _LIBCPP_DEPRECATED_IN_CXX11 _LIBCPP_DEPRECATED
                                      ^
/Library/Developer/CommandLineTools/usr/bin/../include/c++/v1/__config:1090:48: note: expanded from macro '_LIBCPP_DEPRECATED'
#    define _LIBCPP_DEPRECATED __attribute__ ((deprecated))
                                               ^
2 warnings generated.
In file included from aligner_driver.cpp:20:
In file included from ./aligner_driver.h:78:
In file included from ./aligner_seed2.h:102:
In file included from ./aligner_result.h:30:
In file included from ./edit.h:30:
In file included from ./splice_site.h:34:
./gfm.h:1185:3: warning: 'auto_ptr<std::__1::basic_stringstream<char, std::__1::char_traits<char>, std::__1::allocator<char> > >' is deprecated [-Wdeprecated-declarations]
                auto_ptr<stringstream> ss(new stringstream());
                ^
/Library/Developer/CommandLineTools/usr/bin/../include/c++/v1/memory:2080:28: note: 'auto_ptr<std::__1::basic_stringstream<char, std::__1::char_traits<char>, std::__1::allocator<char> > >' has been explicitly marked deprecated here
class _LIBCPP_TEMPLATE_VIS _LIBCPP_DEPRECATED_IN_CXX11 auto_ptr
                           ^
/Library/Developer/CommandLineTools/usr/bin/../include/c++/v1/__config:1101:39: note: expanded from macro '_LIBCPP_DEPRECATED_IN_CXX11'
#  define _LIBCPP_DEPRECATED_IN_CXX11 _LIBCPP_DEPRECATED
                                      ^
/Library/Developer/CommandLineTools/usr/bin/../include/c++/v1/__config:1090:48: note: expanded from macro '_LIBCPP_DEPRECATED'
#    define _LIBCPP_DEPRECATED __attribute__ ((deprecated))
                                               ^
In file included from aligner_driver.cpp:20:
In file included from ./aligner_driver.h:78:
In file included from ./aligner_seed2.h:102:
In file included from ./aligner_result.h:30:
In file included from ./edit.h:30:
In file included from ./splice_site.h:34:
./gfm.h:1189:3: warning: 'auto_ptr<FileBuf>' is deprecated [-Wdeprecated-declarations]
                auto_ptr<FileBuf> fb(new FileBuf(ss.get()));
                ^
/Library/Developer/CommandLineTools/usr/bin/../include/c++/v1/memory:2080:28: note: 'auto_ptr<FileBuf>' has been explicitly marked deprecated here
class _LIBCPP_TEMPLATE_VIS _LIBCPP_DEPRECATED_IN_CXX11 auto_ptr
                           ^
/Library/Developer/CommandLineTools/usr/bin/../include/c++/v1/__config:1101:39: note: expanded from macro '_LIBCPP_DEPRECATED_IN_CXX11'
#  define _LIBCPP_DEPRECATED_IN_CXX11 _LIBCPP_DEPRECATED
                                      ^
/Library/Developer/CommandLineTools/usr/bin/../include/c++/v1/__config:1090:48: note: expanded from macro '_LIBCPP_DEPRECATED'
#    define _LIBCPP_DEPRECATED __attribute__ ((deprecated))
                                               ^
2 warnings generated.
In file included from splice_site.cpp:20:
In file included from ./edit.h:30:
In file included from ./splice_site.h:34:
./gfm.h:1185:3: warning: 'auto_ptr<std::__1::basic_stringstream<char, std::__1::char_traits<char>, std::__1::allocator<char> > >' is deprecated [-Wdeprecated-declarations]
                auto_ptr<stringstream> ss(new stringstream());
                ^
/Library/Developer/CommandLineTools/usr/bin/../include/c++/v1/memory:2080:28: note: 'auto_ptr<std::__1::basic_stringstream<char, std::__1::char_traits<char>, std::__1::allocator<char> > >' has been explicitly marked deprecated here
class _LIBCPP_TEMPLATE_VIS _LIBCPP_DEPRECATED_IN_CXX11 auto_ptr
                           ^
/Library/Developer/CommandLineTools/usr/bin/../include/c++/v1/__config:1101:39: note: expanded from macro '_LIBCPP_DEPRECATED_IN_CXX11'
#  define _LIBCPP_DEPRECATED_IN_CXX11 _LIBCPP_DEPRECATED
                                      ^
/Library/Developer/CommandLineTools/usr/bin/../include/c++/v1/__config:1090:48: note: expanded from macro '_LIBCPP_DEPRECATED'
#    define _LIBCPP_DEPRECATED __attribute__ ((deprecated))
                                               ^
In file included from splice_site.cpp:20:
In file included from ./edit.h:30:
In file included from ./splice_site.h:34:
./gfm.h:1189:3: warning: 'auto_ptr<FileBuf>' is deprecated [-Wdeprecated-declarations]
                auto_ptr<FileBuf> fb(new FileBuf(ss.get()));
                ^
/Library/Developer/CommandLineTools/usr/bin/../include/c++/v1/memory:2080:28: note: 'auto_ptr<FileBuf>' has been explicitly marked deprecated here
class _LIBCPP_TEMPLATE_VIS _LIBCPP_DEPRECATED_IN_CXX11 auto_ptr
                           ^
/Library/Developer/CommandLineTools/usr/bin/../include/c++/v1/__config:1101:39: note: expanded from macro '_LIBCPP_DEPRECATED_IN_CXX11'
#  define _LIBCPP_DEPRECATED_IN_CXX11 _LIBCPP_DEPRECATED
                                      ^
/Library/Developer/CommandLineTools/usr/bin/../include/c++/v1/__config:1090:48: note: expanded from macro '_LIBCPP_DEPRECATED'
#    define _LIBCPP_DEPRECATED __attribute__ ((deprecated))
                                               ^
2 warnings generated.
mkdir -p ../inst
cp hisat2-align-s ../inst/hisat2
cp hisat2-build-s ../inst/hisat2-build
/usr/bin/g++ -shared -fPIC -o Rhisat2.so get_info.cpp
installing to /Users/biocbuild/bbs-3.17-bioc/meat/Rhisat2.buildbin-libdir/00LOCK-Rhisat2/00new/Rhisat2/libs
** R
** inst
** byte-compile and prepare package for lazy loading
** help
*** installing help indices
** building package indices
** installing vignettes
** testing if installed package can be loaded from temporary location
** checking absolute paths in shared objects and dynamic libraries
** testing if installed package can be loaded from final location
** testing if installed package keeps a record of temporary installation path
* DONE (Rhisat2)


>>>>>>> 
>>>>>>> FIXING LINKS FOR Rhisat2.buildbin-libdir/Rhisat2/libs/Rhisat2.so
>>>>>>> 

install_name_tool -change "/usr/local/lib/libgcc_s.1.dylib" "/Library/Frameworks/R.framework/Versions/4.3/Resources/lib/libgcc_s.1.dylib" "Rhisat2.buildbin-libdir/Rhisat2/libs/Rhisat2.so"
install_name_tool -change "/usr/local/lib/libgfortran.5.dylib" "/Library/Frameworks/R.framework/Versions/4.3/Resources/lib/libgfortran.5.dylib" "Rhisat2.buildbin-libdir/Rhisat2/libs/Rhisat2.so"
install_name_tool -change "/usr/local/lib/libquadmath.0.dylib" "/Library/Frameworks/R.framework/Versions/4.3/Resources/lib/libquadmath.0.dylib" "Rhisat2.buildbin-libdir/Rhisat2/libs/Rhisat2.so"