Back to Multiple platform build/check report for BioC 3.16
ABCDEFGHIJKLMNOPQRS[T]UVWXYZ

This page was generated on 2022-06-24 11:07:21 -0400 (Fri, 24 Jun 2022).

HostnameOSArch (*)R versionInstalled pkgs
nebbiolo2Linux (Ubuntu 20.04.4 LTS)x86_644.2.0 Patched (2022-06-02 r82447) -- "Vigorous Calisthenics" 4331
palomino4Windows Server 2022 Datacenterx644.2.0 Patched (2022-06-02 r82447 ucrt) -- "Vigorous Calisthenics" 4136
lconwaymacOS 12.2.1 Montereyx86_644.2.0 Patched (2022-05-29 r82424) -- "Vigorous Calisthenics" 4147
Click on any hostname to see more info about the system (e.g. compilers)      (*) as reported by 'uname -p', except on Windows and Mac OS X

BUILD BIN results for trackViewer on palomino4


To the developers/maintainers of the trackViewer package:
- Please allow up to 24 hours (and sometimes 48 hours) for your latest push to git@git.bioconductor.org:packages/trackViewer.git to
reflect on this report. See How and When does the builder pull? When will my changes propagate? for more information.
- Make sure to use the following settings in order to reproduce any error or warning you see on this page.

raw results

Package 2011/2118HostnameOS / ArchINSTALLBUILDCHECKBUILD BIN
trackViewer 1.33.2  (landing page)
Jianhong Ou
Snapshot Date: 2022-06-23 14:00:04 -0400 (Thu, 23 Jun 2022)
git_url: https://git.bioconductor.org/packages/trackViewer
git_branch: master
git_last_commit: 03a4bb0
git_last_commit_date: 2022-05-04 18:05:39 -0400 (Wed, 04 May 2022)
nebbiolo2Linux (Ubuntu 20.04.4 LTS) / x86_64  OK    OK    OK  UNNEEDED, same version is already published
palomino4Windows Server 2022 Datacenter / x64  OK    OK    OK    OK  UNNEEDED, same version is already published
lconwaymacOS 12.2.1 Monterey / x86_64  OK    OK    OK    OK  UNNEEDED, same version is already published

Summary

Package: trackViewer
Version: 1.33.2
Command: rm -rf trackViewer.buildbin-libdir && mkdir trackViewer.buildbin-libdir && F:\biocbuild\bbs-3.16-bioc\R\bin\R.exe CMD INSTALL --merge-multiarch --build --library=trackViewer.buildbin-libdir trackViewer_1.33.2.tar.gz
StartedAt: 2022-06-24 08:27:14 -0400 (Fri, 24 Jun 2022)
EndedAt: 2022-06-24 08:28:51 -0400 (Fri, 24 Jun 2022)
EllapsedTime: 96.7 seconds
RetCode: 0
Status:   OK  
PackageFile: trackViewer_1.33.2.zip
PackageFileSize: 6.076 MiB

Command output

##############################################################################
##############################################################################
###
### Running command:
###
###   rm -rf trackViewer.buildbin-libdir && mkdir trackViewer.buildbin-libdir && F:\biocbuild\bbs-3.16-bioc\R\bin\R.exe CMD INSTALL --merge-multiarch --build --library=trackViewer.buildbin-libdir trackViewer_1.33.2.tar.gz
###
##############################################################################
##############################################################################


only one architecture so ignoring '--merge-multiarch'
* installing *source* package 'trackViewer' ...
** using staged installation
** libs
g++ -std=gnu++11  -I"F:/biocbuild/bbs-3.16-bioc/R/include" -DNDEBUG  -I'F:/biocbuild/bbs-3.16-bioc/R/library/Rcpp/include'   -I"C:/rtools42/x86_64-w64-mingw32.static.posix/include"     -O2 -Wall  -mfpmath=sse -msse2 -mstackrealign  -c RcppExports.cpp -o RcppExports.o
g++ -std=gnu++11  -I"F:/biocbuild/bbs-3.16-bioc/R/include" -DNDEBUG  -I'F:/biocbuild/bbs-3.16-bioc/R/library/Rcpp/include'   -I"C:/rtools42/x86_64-w64-mingw32.static.posix/include"     -O2 -Wall  -mfpmath=sse -msse2 -mstackrealign  -c hic.cpp -o hic.o
hic.cpp: In member function 'void HicFileHead::readHeader(std::ifstream&)':
hic.cpp:247:16: warning: unused variable 'nviPosition' [-Wunused-variable]
  247 |           long nviPosition = readLong(ifile);
      |                ^~~~~~~~~~~
hic.cpp:248:16: warning: unused variable 'nviLength' [-Wunused-variable]
  248 |           long nviLength = readLong(ifile);
      |                ^~~~~~~~~
hic.cpp: In function 'std::vector<cellData> getByCoor(std::string, int, int, std::string, int, int, int, std::string, std::string, HicFileHead&, HicFileFoot&, std::ifstream&)':
hic.cpp:751:19: warning: '*((void*)(& bd)+8).resolutions::nResolutions' may be used uninitialized in this function [-Wmaybe-uninitialized]
  751 |     for(int i=0; i<data.nResolutions; i++){
      |                  ~^~~~~~~~~~~~~~~~~~
hic.cpp:797:10: note: '*((void*)(& bd)+8).resolutions::nResolutions' was declared here
  797 |     body bd;
      |          ^~
hic.cpp:797:10: warning: '*((void*)(& bd)+8).resolutions::res' may be used uninitialized in this function [-Wmaybe-uninitialized]
g++ -std=gnu++11 -shared -s -static-libgcc -o trackViewer.dll tmp.def RcppExports.o hic.o -lz -LC:/rtools42/x86_64-w64-mingw32.static.posix/lib/x64 -LC:/rtools42/x86_64-w64-mingw32.static.posix/lib -LF:/biocbuild/bbs-3.16-bioc/R/bin/x64 -lR
installing to F:/biocbuild/bbs-3.16-bioc/meat/trackViewer.buildbin-libdir/00LOCK-trackViewer/00new/trackViewer/libs/x64
** R
** inst
** byte-compile and prepare package for lazy loading
** help
*** installing help indices
** building package indices
** installing vignettes
** testing if installed package can be loaded from temporary location
** testing if installed package can be loaded from final location
** testing if installed package keeps a record of temporary installation path
* MD5 sums
packaged installation of 'trackViewer' as trackViewer_1.33.2.zip
* DONE (trackViewer)