Back to Multiple platform build/check report for BioC 3.17:   simplified   long
ABCDEFGHIJKLMNOPQRSTU[V]WXYZ

This page was generated on 2023-03-20 11:07:04 -0400 (Mon, 20 Mar 2023).

HostnameOSArch (*)R versionInstalled pkgs
nebbiolo1Linux (Ubuntu 22.04.1 LTS)x86_64R Under development (unstable) (2023-03-16 r83996) -- "Unsuffered Consequences" 4297
palomino3Windows Server 2022 Datacenterx64R Under development (unstable) (2023-03-15 r83984 ucrt) -- "Unsuffered Consequences" 4286
merida1macOS 10.14.6 Mojavex86_64R Under development (unstable) (2023-03-16 r83985) -- "Unsuffered Consequences" 4150
Click on any hostname to see more info about the system (e.g. compilers)      (*) as reported by 'uname -p', except on Windows and Mac OS X

BUILD BIN results for VariantFiltering on merida1


To the developers/maintainers of the VariantFiltering package:
- Please allow up to 24 hours (and sometimes 48 hours) for your latest push to git@git.bioconductor.org:packages/VariantFiltering.git to
reflect on this report. See How and When does the builder pull? When will my changes propagate? for more information.
- Make sure to use the following settings in order to reproduce any error or warning you see on this page.

raw results

Package 2142/2189HostnameOS / ArchINSTALLBUILDCHECKBUILD BIN
VariantFiltering 1.35.0  (landing page)
Robert Castelo
Snapshot Date: 2023-03-19 14:00:12 -0400 (Sun, 19 Mar 2023)
git_url: https://git.bioconductor.org/packages/VariantFiltering
git_branch: master
git_last_commit: 7638b6f
git_last_commit_date: 2022-11-01 11:09:33 -0400 (Tue, 01 Nov 2022)
nebbiolo1Linux (Ubuntu 22.04.1 LTS) / x86_64  OK    OK    WARNINGS  UNNEEDED, same version is already published
palomino3Windows Server 2022 Datacenter / x64  OK    OK    WARNINGS    OK  UNNEEDED, same version is already published
merida1macOS 10.14.6 Mojave / x86_64  OK    OK    WARNINGS    OK  UNNEEDED, same version is already published

Summary

Package: VariantFiltering
Version: 1.35.0
Command: rm -rf VariantFiltering.buildbin-libdir && mkdir VariantFiltering.buildbin-libdir && /Users/biocbuild/BBS/utils/build-universal.sh VariantFiltering_1.35.0.tar.gz /Library/Frameworks/R.framework/Resources/bin/R VariantFiltering.buildbin-libdir
StartedAt: 2023-03-20 08:35:16 -0400 (Mon, 20 Mar 2023)
EndedAt: 2023-03-20 08:38:06 -0400 (Mon, 20 Mar 2023)
EllapsedTime: 169.6 seconds
RetCode: 0
Status:   OK  
PackageFile: VariantFiltering_1.35.0.tgz
PackageFileSize: 4.151 MiB

Command output

##############################################################################
##############################################################################
###
### Running command:
###
###   rm -rf VariantFiltering.buildbin-libdir && mkdir VariantFiltering.buildbin-libdir && /Users/biocbuild/BBS/utils/build-universal.sh VariantFiltering_1.35.0.tar.gz /Library/Frameworks/R.framework/Resources/bin/R VariantFiltering.buildbin-libdir
###
##############################################################################
##############################################################################


>>>>>>> 
>>>>>>> INSTALLATION WITH 'R CMD INSTALL --preclean --no-multiarch --library=VariantFiltering.buildbin-libdir VariantFiltering_1.35.0.tar.gz'
>>>>>>> 

* installing *source* package ‘VariantFiltering’ ...
** using staged installation
** libs
using C compiler: ‘Apple clang version 11.0.0 (clang-1100.0.33.17)’
using SDK: ‘’
clang -mmacosx-version-min=10.13 -I"/Library/Frameworks/R.framework/Resources/include" -DNDEBUG  -I'/Library/Frameworks/R.framework/Versions/4.3/Resources/library/S4Vectors/include' -I'/Library/Frameworks/R.framework/Versions/4.3/Resources/library/IRanges/include' -I'/Library/Frameworks/R.framework/Versions/4.3/Resources/library/XVector/include' -I'/Library/Frameworks/R.framework/Versions/4.3/Resources/library/Biostrings/include' -I/usr/local/include    -fPIC  -Wall -g -O2  -c Biostrings_stubs.c -o Biostrings_stubs.o
clang -mmacosx-version-min=10.13 -I"/Library/Frameworks/R.framework/Resources/include" -DNDEBUG  -I'/Library/Frameworks/R.framework/Versions/4.3/Resources/library/S4Vectors/include' -I'/Library/Frameworks/R.framework/Versions/4.3/Resources/library/IRanges/include' -I'/Library/Frameworks/R.framework/Versions/4.3/Resources/library/XVector/include' -I'/Library/Frameworks/R.framework/Versions/4.3/Resources/library/Biostrings/include' -I/usr/local/include    -fPIC  -Wall -g -O2  -c R_init_VariantFiltering.c -o R_init_VariantFiltering.o
clang -mmacosx-version-min=10.13 -I"/Library/Frameworks/R.framework/Resources/include" -DNDEBUG  -I'/Library/Frameworks/R.framework/Versions/4.3/Resources/library/S4Vectors/include' -I'/Library/Frameworks/R.framework/Versions/4.3/Resources/library/IRanges/include' -I'/Library/Frameworks/R.framework/Versions/4.3/Resources/library/XVector/include' -I'/Library/Frameworks/R.framework/Versions/4.3/Resources/library/Biostrings/include' -I/usr/local/include    -fPIC  -Wall -g -O2  -c methods-WeightMatrix.c -o methods-WeightMatrix.o
clang -mmacosx-version-min=10.13 -dynamiclib -Wl,-headerpad_max_install_names -undefined dynamic_lookup -single_module -multiply_defined suppress -L/Library/Frameworks/R.framework/Resources/lib -L/usr/local/lib -o VariantFiltering.so Biostrings_stubs.o R_init_VariantFiltering.o methods-WeightMatrix.o -F/Library/Frameworks/R.framework/.. -framework R -Wl,-framework -Wl,CoreFoundation
installing to /Users/biocbuild/bbs-3.17-bioc/meat/VariantFiltering.buildbin-libdir/00LOCK-VariantFiltering/00new/VariantFiltering/libs
** R
** inst
** byte-compile and prepare package for lazy loading
No methods found in package 'GenomeInfoDb' for request: 'releaseName' when loading 'VariantFiltering'
** help
*** installing help indices
** building package indices
** installing vignettes
** testing if installed package can be loaded from temporary location
No methods found in package 'GenomeInfoDb' for request: 'releaseName' when loading 'VariantFiltering'
** checking absolute paths in shared objects and dynamic libraries
** testing if installed package can be loaded from final location
No methods found in package 'GenomeInfoDb' for request: 'releaseName' when loading 'VariantFiltering'
** testing if installed package keeps a record of temporary installation path
* DONE (VariantFiltering)


>>>>>>> 
>>>>>>> FIXING LINKS FOR VariantFiltering.buildbin-libdir/VariantFiltering/libs/VariantFiltering.so
>>>>>>> 

install_name_tool -change "/usr/local/lib/libgcc_s.1.dylib" "/Library/Frameworks/R.framework/Versions/4.3/Resources/lib/libgcc_s.1.dylib" "VariantFiltering.buildbin-libdir/VariantFiltering/libs/VariantFiltering.so"
install_name_tool -change "/usr/local/lib/libgfortran.5.dylib" "/Library/Frameworks/R.framework/Versions/4.3/Resources/lib/libgfortran.5.dylib" "VariantFiltering.buildbin-libdir/VariantFiltering/libs/VariantFiltering.so"
install_name_tool -change "/usr/local/lib/libquadmath.0.dylib" "/Library/Frameworks/R.framework/Versions/4.3/Resources/lib/libquadmath.0.dylib" "VariantFiltering.buildbin-libdir/VariantFiltering/libs/VariantFiltering.so"