Back to Multiple platform build/check report for BioC 3.14
ABC[D]EFGHIJKLMNOPQRSTUVWXYZ

This page was generated on 2021-10-22 12:04:56 -0400 (Fri, 22 Oct 2021).

BUILD results for DMRcate on merida1

To the developers/maintainers of the DMRcate package:
- Please allow up to 24 hours (and sometimes 48 hours) for your latest push to git@git.bioconductor.org:packages/DMRcate.git to
reflect on this report. See How and When does the builder pull? When will my changes propagate? here for more information.
- Make sure to use the following settings in order to reproduce any error or warning you see on this page.

raw results

Package 523/2075HostnameOS / ArchINSTALLBUILDCHECKBUILD BIN
DMRcate 2.7.0  (landing page)
Tim Peters
Snapshot Date: 2021-10-21 14:50:08 -0400 (Thu, 21 Oct 2021)
git_url: https://git.bioconductor.org/packages/DMRcate
git_branch: master
git_last_commit: ca23944
git_last_commit_date: 2021-05-19 12:03:06 -0400 (Wed, 19 May 2021)
nebbiolo2Linux (Ubuntu 20.04.2 LTS) / x86_64  OK    OK    WARNINGS  UNNEEDED, same version is already published
riesling1Windows Server 2019 Standard / x64  OK    OK    ERROR    OK  
merida1macOS 10.14.6 Mojave / x86_64  OK    OK    ERROR    OK  

Summary

Package: DMRcate
Version: 2.7.0
Command: /Library/Frameworks/R.framework/Resources/bin/R CMD build --keep-empty-dirs --no-resave-data DMRcate
StartedAt: 2021-10-21 19:47:07 -0400 (Thu, 21 Oct 2021)
EndedAt: 2021-10-21 20:08:18 -0400 (Thu, 21 Oct 2021)
EllapsedTime: 1271.6 seconds
RetCode: 0
Status:   OK  
PackageFile: DMRcate_2.7.0.tar.gz
PackageFileSize: 360.5 KiB

Command output

##############################################################################
##############################################################################
###
### Running command:
###
###   /Library/Frameworks/R.framework/Resources/bin/R CMD build --keep-empty-dirs --no-resave-data DMRcate
###
##############################################################################
##############################################################################


* checking for file ‘DMRcate/DESCRIPTION’ ... OK
* preparing ‘DMRcate’:
* checking DESCRIPTION meta-information ... OK
* installing the package to build vignettes
* creating vignettes ... OK
* checking for LF line-endings in source and make files and shell scripts
* checking for empty or unneeded directories
* building ‘DMRcate_2.7.0.tar.gz’