Back to Multiple platform build/check report for BioC 3.20:   simplified   long
AB[C]DEFGHIJKLMNOPQRSTUVWXYZ

This page was generated on 2024-05-22 11:37:36 -0400 (Wed, 22 May 2024).

HostnameOSArch (*)R versionInstalled pkgs
nebbiolo2Linux (Ubuntu 22.04.3 LTS)x86_644.4.0 RC (2024-04-16 r86468) -- "Puppy Cup" 4665
palomino4Windows Server 2022 Datacenterx644.4.0 RC (2024-04-16 r86468 ucrt) -- "Puppy Cup" 4400
merida1macOS 12.7.4 Montereyx86_644.4.0 Patched (2024-04-24 r86482) -- "Puppy Cup" 4427
Click on any hostname to see more info about the system (e.g. compilers)      (*) as reported by 'uname -p', except on Windows and Mac OS X

Package 330/2233HostnameOS / ArchINSTALLBUILDCHECKBUILD BIN
ChIPQC 1.41.0  (landing page)
Tom Carroll , Rory Stark
Snapshot Date: 2024-05-20 14:05:07 -0400 (Mon, 20 May 2024)
git_url: https://git.bioconductor.org/packages/ChIPQC
git_branch: devel
git_last_commit: 448ae73
git_last_commit_date: 2024-04-30 10:35:54 -0400 (Tue, 30 Apr 2024)
nebbiolo2Linux (Ubuntu 22.04.3 LTS) / x86_64  OK    OK    WARNINGS  UNNEEDED, same version is already published
palomino4Windows Server 2022 Datacenter / x64  OK    OK    WARNINGS    OK  UNNEEDED, same version is already published
merida1macOS 12.7.4 Monterey / x86_64  OK    OK    WARNINGS    OK  UNNEEDED, same version is already published
kjohnson1macOS 13.6.6 Ventura / arm64see weekly results here

BUILD BIN results for ChIPQC on merida1


To the developers/maintainers of the ChIPQC package:
- Allow up to 24 hours (and sometimes 48 hours) for your latest push to git@git.bioconductor.org:packages/ChIPQC.git to reflect on this report. See Troubleshooting Build Report for more information.
- Use the following Renviron settings to reproduce errors and warnings.
- If 'R CMD check' started to fail recently on the Linux builder(s) over a missing dependency, add the missing dependency to 'Suggests:' in your DESCRIPTION file. See Renviron.bioc for more information.

raw results


Summary

Package: ChIPQC
Version: 1.41.0
Command: rm -rf ChIPQC.buildbin-libdir && mkdir ChIPQC.buildbin-libdir && /Users/biocbuild/BBS/utils/build-universal.sh ChIPQC_1.41.0.tar.gz /Library/Frameworks/R.framework/Resources/bin/R ChIPQC.buildbin-libdir
StartedAt: 2024-05-21 13:28:57 -0400 (Tue, 21 May 2024)
EndedAt: 2024-05-21 13:31:17 -0400 (Tue, 21 May 2024)
EllapsedTime: 139.8 seconds
RetCode: 0
Status:   OK  
PackageFile: ChIPQC_1.41.0.tgz
PackageFileSize: 2.084 MiB

Command output

##############################################################################
##############################################################################
###
### Running command:
###
###   rm -rf ChIPQC.buildbin-libdir && mkdir ChIPQC.buildbin-libdir && /Users/biocbuild/BBS/utils/build-universal.sh ChIPQC_1.41.0.tar.gz /Library/Frameworks/R.framework/Resources/bin/R ChIPQC.buildbin-libdir
###
##############################################################################
##############################################################################


>>>>>>> 
>>>>>>> INSTALLATION WITH 'R CMD INSTALL --preclean --no-multiarch --library=ChIPQC.buildbin-libdir ChIPQC_1.41.0.tar.gz'
>>>>>>> 

* installing *source* package ‘ChIPQC’ ...
** using staged installation
** R
** data
** inst
** byte-compile and prepare package for lazy loading
** help
*** installing help indices
** building package indices
** installing vignettes
** testing if installed package can be loaded from temporary location
** testing if installed package can be loaded from final location
** testing if installed package keeps a record of temporary installation path
* DONE (ChIPQC)