Back to Multiple platform build/check report for BioC 3.15
AB[C]DEFGHIJKLMNOPQRSTUVWXYZ

This page was generated on 2021-11-27 14:05:35 -0500 (Sat, 27 Nov 2021).

BUILD results for csaw on merida1

To the developers/maintainers of the csaw package:
- Please allow up to 24 hours (and sometimes 48 hours) for your latest push to git@git.bioconductor.org:packages/csaw.git to
reflect on this report. See How and When does the builder pull? When will my changes propagate? here for more information.
- Make sure to use the following settings in order to reproduce any error or warning you see on this page.

raw results

Package 420/2068HostnameOS / ArchINSTALLBUILDCHECKBUILD BIN
csaw 1.29.1  (landing page)
Aaron Lun
Snapshot Date: 2021-11-26 14:50:14 -0500 (Fri, 26 Nov 2021)
git_url: https://git.bioconductor.org/packages/csaw
git_branch: master
git_last_commit: e480196
git_last_commit_date: 2021-11-20 23:29:19 -0500 (Sat, 20 Nov 2021)
nebbiolo1Linux (Ubuntu 20.04.3 LTS) / x86_64  OK    OK    OK  UNNEEDED, same version is already published
riesling1Windows Server 2019 Standard / x64  OK    OK    OK    OK  
merida1macOS 10.14.6 Mojave / x86_64  OK    OK    OK    OK  UNNEEDED, same version is already published

Summary

Package: csaw
Version: 1.29.1
Command: /Library/Frameworks/R.framework/Resources/bin/R CMD build --keep-empty-dirs --no-resave-data csaw
StartedAt: 2021-11-26 19:24:15 -0500 (Fri, 26 Nov 2021)
EndedAt: 2021-11-26 19:26:48 -0500 (Fri, 26 Nov 2021)
EllapsedTime: 153.1 seconds
RetCode: 0
Status:   OK  
PackageFile: csaw_1.29.1.tar.gz
PackageFileSize: 388.9 KiB

Command output

##############################################################################
##############################################################################
###
### Running command:
###
###   /Library/Frameworks/R.framework/Resources/bin/R CMD build --keep-empty-dirs --no-resave-data csaw
###
##############################################################################
##############################################################################


* checking for file ‘csaw/DESCRIPTION’ ... OK
* preparing ‘csaw’:
* checking DESCRIPTION meta-information ... OK
* cleaning src
* installing the package to build vignettes
* creating vignettes ... OK
* cleaning src
* checking for LF line-endings in source and make files and shell scripts
* checking for empty or unneeded directories
  NB: this package now depends on R (>= 3.5.0)
  WARNING: Added dependency on R >= 3.5.0 because serialized objects in
  serialize/load version 3 cannot be read in older versions of R.
  File(s) containing such objects:
    ‘csaw/inst/exdata/exrange.rds’
* building ‘csaw_1.29.1.tar.gz’