Back to Multiple platform build/check report for BioC 3.14
AB[C]DEFGHIJKLMNOPQRSTUVWXYZ

This page was generated on 2021-10-18 12:04:29 -0400 (Mon, 18 Oct 2021).

BUILD results for circRNAprofiler on merida1

To the developers/maintainers of the circRNAprofiler package:
- Please allow up to 24 hours (and sometimes 48 hours) for your latest push to git@git.bioconductor.org:packages/circRNAprofiler.git to
reflect on this report. See How and When does the builder pull? When will my changes propagate? here for more information.
- Make sure to use the following settings in order to reproduce any error or warning you see on this page.

raw results

Package 315/2060HostnameOS / ArchINSTALLBUILDCHECKBUILD BIN
circRNAprofiler 1.7.5  (landing page)
Simona Aufiero
Snapshot Date: 2021-10-17 14:50:03 -0400 (Sun, 17 Oct 2021)
git_url: https://git.bioconductor.org/packages/circRNAprofiler
git_branch: master
git_last_commit: 66e3c56
git_last_commit_date: 2021-09-27 06:32:17 -0400 (Mon, 27 Sep 2021)
nebbiolo2Linux (Ubuntu 20.04.2 LTS) / x86_64  OK    OK    OK  UNNEEDED, same version is already published
riesling1Windows Server 2019 Standard / x64  OK    OK    OK    OK  UNNEEDED, same version is already published
merida1macOS 10.14.6 Mojave / x86_64  OK    OK    OK    OK  UNNEEDED, same version is already published

Summary

Package: circRNAprofiler
Version: 1.7.5
Command: /Library/Frameworks/R.framework/Resources/bin/R CMD build --keep-empty-dirs --no-resave-data circRNAprofiler
StartedAt: 2021-10-17 19:06:10 -0400 (Sun, 17 Oct 2021)
EndedAt: 2021-10-17 19:08:03 -0400 (Sun, 17 Oct 2021)
EllapsedTime: 113.3 seconds
RetCode: 0
Status:   OK  
PackageFile: circRNAprofiler_1.7.5.tar.gz
PackageFileSize: 3.593 MiB

Command output

##############################################################################
##############################################################################
###
### Running command:
###
###   /Library/Frameworks/R.framework/Resources/bin/R CMD build --keep-empty-dirs --no-resave-data circRNAprofiler
###
##############################################################################
##############################################################################


* checking for file ‘circRNAprofiler/DESCRIPTION’ ... OK
* preparing ‘circRNAprofiler’:
* checking DESCRIPTION meta-information ... OK
* installing the package to build vignettes
* creating vignettes ... OK
* checking for LF line-endings in source and make files and shell scripts
* checking for empty or unneeded directories
* looking to see if a ‘data/datalist’ file should be added
* building ‘circRNAprofiler_1.7.5.tar.gz’