Back to Multiple platform build/check report for BioC 3.20:   simplified   long
ABCDEFGHIJKL[M]NOPQRSTUVWXYZ

This page was generated on 2024-05-22 11:37:55 -0400 (Wed, 22 May 2024).

HostnameOSArch (*)R versionInstalled pkgs
nebbiolo2Linux (Ubuntu 22.04.3 LTS)x86_644.4.0 RC (2024-04-16 r86468) -- "Puppy Cup" 4665
palomino4Windows Server 2022 Datacenterx644.4.0 RC (2024-04-16 r86468 ucrt) -- "Puppy Cup" 4400
merida1macOS 12.7.4 Montereyx86_644.4.0 Patched (2024-04-24 r86482) -- "Puppy Cup" 4427
Click on any hostname to see more info about the system (e.g. compilers)      (*) as reported by 'uname -p', except on Windows and Mac OS X

Package 1189/2233HostnameOS / ArchINSTALLBUILDCHECKBUILD BIN
methimpute 1.27.0  (landing page)
Aaron Taudt
Snapshot Date: 2024-05-20 14:05:07 -0400 (Mon, 20 May 2024)
git_url: https://git.bioconductor.org/packages/methimpute
git_branch: devel
git_last_commit: 2e2fc1f
git_last_commit_date: 2024-04-30 11:01:18 -0400 (Tue, 30 Apr 2024)
nebbiolo2Linux (Ubuntu 22.04.3 LTS) / x86_64  OK    OK    WARNINGS  UNNEEDED, same version is already published
palomino4Windows Server 2022 Datacenter / x64  OK    OK    WARNINGS    OK  UNNEEDED, same version is already published
merida1macOS 12.7.4 Monterey / x86_64  OK    OK    WARNINGS    OK  UNNEEDED, same version is already published
kjohnson1macOS 13.6.6 Ventura / arm64see weekly results here

BUILD results for methimpute on merida1


To the developers/maintainers of the methimpute package:
- Allow up to 24 hours (and sometimes 48 hours) for your latest push to git@git.bioconductor.org:packages/methimpute.git to reflect on this report. See Troubleshooting Build Report for more information.
- Use the following Renviron settings to reproduce errors and warnings.
- If 'R CMD check' started to fail recently on the Linux builder(s) over a missing dependency, add the missing dependency to 'Suggests:' in your DESCRIPTION file. See Renviron.bioc for more information.

raw results


Summary

Package: methimpute
Version: 1.27.0
Command: /Library/Frameworks/R.framework/Resources/bin/R CMD build --keep-empty-dirs --no-resave-data methimpute
StartedAt: 2024-05-20 20:08:55 -0400 (Mon, 20 May 2024)
EndedAt: 2024-05-20 20:14:04 -0400 (Mon, 20 May 2024)
EllapsedTime: 309.5 seconds
RetCode: 0
Status:   OK  
PackageFile: methimpute_1.27.0.tar.gz
PackageFileSize: 1.268 MiB

Command output

##############################################################################
##############################################################################
###
### Running command:
###
###   /Library/Frameworks/R.framework/Resources/bin/R CMD build --keep-empty-dirs --no-resave-data methimpute
###
##############################################################################
##############################################################################


* checking for file ‘methimpute/DESCRIPTION’ ... OK
* preparing ‘methimpute’:
* checking DESCRIPTION meta-information ... OK
* cleaning src
* installing the package to build vignettes
* creating vignettes ... OK
* cleaning src
* checking for LF line-endings in source and make files and shell scripts
* checking for empty or unneeded directories
* looking to see if a ‘data/datalist’ file should be added
  NB: this package now depends on R (>= 3.5.0)
  WARNING: Added dependency on R >= 3.5.0 because serialized objects in
  serialize/load version 3 cannot be read in older versions of R.
  File(s) containing such objects:
    ‘methimpute/data/arabidopsis_TEs.RData’
    ‘methimpute/data/arabidopsis_genes.RData’
    ‘methimpute/data/arabidopsis_toydata.RData’
* building ‘methimpute_1.27.0.tar.gz’