Back to Multiple platform build/check report for BioC 3.15
A[B]CDEFGHIJKLMNOPQRSTUVWXYZ

This page was generated on 2022-01-26 11:11:07 -0500 (Wed, 26 Jan 2022).

HostnameOSArch (*)R versionInstalled pkgs
nebbiolo1Linux (Ubuntu 20.04.4 LTS)x86_64R Under development (unstable) (2022-01-05 r81451) -- "Unsuffered Consequences" 4164
riesling1Windows Server 2019 Standardx64R Under development (unstable) (2021-11-21 r81221) -- "Unsuffered Consequences" 4059
palomino3Windows Server 2022 Datacenterx64R Under development (unstable) (2021-12-21 r81400 ucrt) -- "Unsuffered Consequences" 4001
merida1macOS 10.14.6 Mojavex86_64R Under development (unstable) (2022-01-05 r81451) -- "Unsuffered Consequences" 4118
Click on any hostname to see more info about the system (e.g. compilers)      (*) as reported by 'uname -p', except on Windows and Mac OS X

CHECK results for BUSpaRse on merida1


To the developers/maintainers of the BUSpaRse package:
- Please allow up to 24 hours (and sometimes 48 hours) for your latest push to git@git.bioconductor.org:packages/BUSpaRse.git to
reflect on this report. See How and When does the builder pull? When will my changes propagate? here for more information.
- Make sure to use the following settings in order to reproduce any error or warning you see on this page.

raw results

Package 228/2075HostnameOS / ArchINSTALLBUILDCHECKBUILD BIN
BUSpaRse 1.9.0  (landing page)
Lambda Moses
Snapshot Date: 2022-01-25 13:55:17 -0500 (Tue, 25 Jan 2022)
git_url: https://git.bioconductor.org/packages/BUSpaRse
git_branch: master
git_last_commit: a3b907e
git_last_commit_date: 2021-10-26 12:53:45 -0500 (Tue, 26 Oct 2021)
nebbiolo1Linux (Ubuntu 20.04.4 LTS) / x86_64  OK    OK    OK  UNNEEDED, same version is already published
riesling1Windows Server 2019 Standard / x64  OK    ERROR  skippedskipped
palomino3Windows Server 2022 Datacenter / x64  OK    OK    OK    OK  NO, package depends on 'AnnotationDbi' which is not available
merida1macOS 10.14.6 Mojave / x86_64  OK    OK    OK    OK  UNNEEDED, same version is already published

Summary

Package: BUSpaRse
Version: 1.9.0
Command: /Library/Frameworks/R.framework/Resources/bin/R CMD check --install=check:BUSpaRse.install-out.txt --library=/Library/Frameworks/R.framework/Resources/library --no-vignettes --timings BUSpaRse_1.9.0.tar.gz
StartedAt: 2022-01-25 22:53:58 -0500 (Tue, 25 Jan 2022)
EndedAt: 2022-01-25 23:05:13 -0500 (Tue, 25 Jan 2022)
EllapsedTime: 674.9 seconds
RetCode: 0
Status:   OK  
CheckDir: BUSpaRse.Rcheck
Warnings: 0

Command output

##############################################################################
##############################################################################
###
### Running command:
###
###   /Library/Frameworks/R.framework/Resources/bin/R CMD check --install=check:BUSpaRse.install-out.txt --library=/Library/Frameworks/R.framework/Resources/library --no-vignettes --timings BUSpaRse_1.9.0.tar.gz
###
##############################################################################
##############################################################################


* using log directory ‘/Users/biocbuild/bbs-3.15-bioc/meat/BUSpaRse.Rcheck’
* using R Under development (unstable) (2022-01-05 r81451)
* using platform: x86_64-apple-darwin17.0 (64-bit)
* using session charset: UTF-8
* using option ‘--no-vignettes’
* checking for file ‘BUSpaRse/DESCRIPTION’ ... OK
* checking extension type ... Package
* this is package ‘BUSpaRse’ version ‘1.9.0’
* package encoding: UTF-8
* checking package namespace information ... OK
* checking package dependencies ... OK
* checking if this is a source package ... OK
* checking if there is a namespace ... OK
* checking for hidden files and directories ... NOTE
Found the following hidden files and directories:
  .git_fetch_output.txt
  .git_merge_output.txt
These were most likely included in error. See section ‘Package
structure’ in the ‘Writing R Extensions’ manual.
* checking for portable file names ... OK
* checking for sufficient/correct file permissions ... OK
* checking whether package ‘BUSpaRse’ can be installed ... OK
* checking installed package size ... OK
* checking package directory ... OK
* checking ‘build’ directory ... OK
* checking DESCRIPTION meta-information ... OK
* checking top-level files ... OK
* checking for left-over files ... OK
* checking index information ... OK
* checking package subdirectories ... OK
* checking R files for non-ASCII characters ... OK
* checking R files for syntax errors ... OK
* checking whether the package can be loaded ... OK
* checking whether the package can be loaded with stated dependencies ... OK
* checking whether the package can be unloaded cleanly ... OK
* checking whether the namespace can be loaded with stated dependencies ... OK
* checking whether the namespace can be unloaded cleanly ... OK
* checking dependencies in R code ... OK
* checking S3 generic/method consistency ... OK
* checking replacement functions ... OK
* checking foreign function calls ... OK
* checking R code for possible problems ... OK
* checking Rd files ... OK
* checking Rd metadata ... OK
* checking Rd cross-references ... OK
* checking for missing documentation entries ... OK
* checking for code/documentation mismatches ... OK
* checking Rd \usage sections ... OK
* checking Rd contents ... OK
* checking for unstated dependencies in examples ... OK
* checking contents of ‘data’ directory ... OK
* checking data for non-ASCII characters ... OK
* checking LazyData ... OK
* checking data for ASCII and uncompressed saves ... OK
* checking line endings in C/C++/Fortran sources/headers ... OK
* checking line endings in Makefiles ... OK
* checking compilation flags in Makevars ... OK
* checking for GNU extensions in Makefiles ... OK
* checking for portable use of $(BLAS_LIBS) and $(LAPACK_LIBS) ... OK
* checking use of PKG_*FLAGS in Makefiles ... OK
* checking compiled code ... NOTE
Note: information on .o files is not available
* checking files in ‘vignettes’ ... OK
* checking examples ... OK
Examples with CPU (user + system) or elapsed time > 5s
                   user system elapsed
tr2g_TxDb        49.523  8.077  62.270
knee_plot        44.037  2.711  59.073
dl_transcriptome 17.499  0.655  27.572
transcript2gene  12.660  0.157  18.505
tr2g_EnsDb        6.704  1.385   8.277
tr2g_ensembl      4.415  0.058   8.910
* checking for unstated dependencies in ‘tests’ ... OK
* checking tests ...
  Running ‘testthat.R’
 OK
* checking for unstated dependencies in vignettes ... OK
* checking package vignettes in ‘inst/doc’ ... OK
* checking running R code from vignettes ... SKIPPED
* checking re-building of vignette outputs ... SKIPPED
* checking PDF version of manual ... OK
* DONE

Status: 2 NOTEs
See
  ‘/Users/biocbuild/bbs-3.15-bioc/meat/BUSpaRse.Rcheck/00check.log’
for details.



Installation output

BUSpaRse.Rcheck/00install.out

##############################################################################
##############################################################################
###
### Running command:
###
###   /Library/Frameworks/R.framework/Resources/bin/R CMD INSTALL BUSpaRse
###
##############################################################################
##############################################################################


* installing to library ‘/Library/Frameworks/R.framework/Versions/4.2/Resources/library’
* installing *source* package ‘BUSpaRse’ ...
** using staged installation
** libs
clang++ -mmacosx-version-min=10.13 -std=gnu++11 -I"/Library/Frameworks/R.framework/Resources/include" -DNDEBUG  -I'/Library/Frameworks/R.framework/Versions/4.2/Resources/library/Rcpp/include' -I'/Library/Frameworks/R.framework/Versions/4.2/Resources/library/RcppArmadillo/include' -I'/Library/Frameworks/R.framework/Versions/4.2/Resources/library/RcppProgress/include' -I'/Library/Frameworks/R.framework/Versions/4.2/Resources/library/BH/include' -I/usr/local/include   -fPIC  -Wall -g -O2  -c RcppExports.cpp -o RcppExports.o
clang++ -mmacosx-version-min=10.13 -std=gnu++11 -I"/Library/Frameworks/R.framework/Resources/include" -DNDEBUG  -I'/Library/Frameworks/R.framework/Versions/4.2/Resources/library/Rcpp/include' -I'/Library/Frameworks/R.framework/Versions/4.2/Resources/library/RcppArmadillo/include' -I'/Library/Frameworks/R.framework/Versions/4.2/Resources/library/RcppProgress/include' -I'/Library/Frameworks/R.framework/Versions/4.2/Resources/library/BH/include' -I/usr/local/include   -fPIC  -Wall -g -O2  -c fill_cell_gene.cpp -o fill_cell_gene.o
clang++ -mmacosx-version-min=10.13 -std=gnu++11 -dynamiclib -Wl,-headerpad_max_install_names -undefined dynamic_lookup -single_module -multiply_defined suppress -L/Library/Frameworks/R.framework/Resources/lib -L/usr/local/lib -o BUSpaRse.so RcppExports.o fill_cell_gene.o -L/Library/Frameworks/R.framework/Resources/lib -lRlapack -L/Library/Frameworks/R.framework/Resources/lib -lRblas -L/usr/local/gfortran/lib/gcc/x86_64-apple-darwin18/8.2.0 -L/usr/local/gfortran/lib -lgfortran -lquadmath -lm -F/Library/Frameworks/R.framework/.. -framework R -Wl,-framework -Wl,CoreFoundation
installing to /Library/Frameworks/R.framework/Versions/4.2/Resources/library/00LOCK-BUSpaRse/00new/BUSpaRse/libs
** R
** data
*** moving datasets to lazyload DB
** inst
** byte-compile and prepare package for lazy loading
** help
*** installing help indices
** building package indices
** installing vignettes
** testing if installed package can be loaded from temporary location
** checking absolute paths in shared objects and dynamic libraries
** testing if installed package can be loaded from final location
** testing if installed package keeps a record of temporary installation path
* DONE (BUSpaRse)

Tests output

BUSpaRse.Rcheck/tests/testthat.Rout


R Under development (unstable) (2022-01-05 r81451) -- "Unsuffered Consequences"
Copyright (C) 2022 The R Foundation for Statistical Computing
Platform: x86_64-apple-darwin17.0 (64-bit)

R is free software and comes with ABSOLUTELY NO WARRANTY.
You are welcome to redistribute it under certain conditions.
Type 'license()' or 'licence()' for distribution details.

R is a collaborative project with many contributors.
Type 'contributors()' for more information and
'citation()' on how to cite R or R packages in publications.

Type 'demo()' for some demos, 'help()' for on-line help, or
'help.start()' for an HTML browser interface to help.
Type 'q()' to quit R.

> library(testthat)
> library(BUSpaRse)
> 
> test_check("BUSpaRse")
[ FAIL 0 | WARN 1 | SKIP 0 | PASS 102 ]

[ FAIL 0 | WARN 1 | SKIP 0 | PASS 102 ]
> 
> proc.time()
   user  system elapsed 
 75.609   1.824  82.066 

Example timings

BUSpaRse.Rcheck/BUSpaRse-Ex.timings

nameusersystemelapsed
EC2gene0.1910.0050.219
annots_from_fa_df0.3100.0070.345
dl_transcriptome17.499 0.65527.572
get_velocity_files2.6780.2012.887
knee_plot44.037 2.71159.073
make_sparse_matrix0.0030.0010.003
read_count_output0.0120.0010.014
read_velocity_output0.0080.0010.009
save_tr2g_bustools0.7710.0310.805
sort_tr2g0.6630.0370.701
species2dataset000
subset_annot1.9410.1482.101
tr2g_EnsDb6.7041.3858.277
tr2g_TxDb49.523 8.07762.270
tr2g_ensembl4.4150.0588.910
tr2g_fasta0.0410.0040.045
tr2g_gff31.5680.1041.676
tr2g_gtf1.3540.0691.425
transcript2gene12.660 0.15718.505