Back to Multiple platform build/check report for BioC 3.17:   simplified   long
ABCDEFGHIJKLMN[O]PQRSTUVWXYZ

This page was generated on 2023-02-07 11:07:06 -0500 (Tue, 07 Feb 2023).

HostnameOSArch (*)R versionInstalled pkgs
nebbiolo1Linux (Ubuntu 22.04.1 LTS)x86_64R Under development (unstable) (2023-01-10 r83596) -- "Unsuffered Consequences" 4483
palomino3Windows Server 2022 Datacenterx64R Under development (unstable) (2023-01-10 r83596 ucrt) -- "Unsuffered Consequences" 4249
merida1macOS 10.14.6 Mojavex86_64R Under development (unstable) (2023-01-10 r83596) -- "Unsuffered Consequences" 4272
Click on any hostname to see more info about the system (e.g. compilers)      (*) as reported by 'uname -p', except on Windows and Mac OS X

BUILD results for OrganismDbi on merida1


To the developers/maintainers of the OrganismDbi package:
- Please allow up to 24 hours (and sometimes 48 hours) for your latest push to git@git.bioconductor.org:packages/OrganismDbi.git to
reflect on this report. See How and When does the builder pull? When will my changes propagate? for more information.
- Make sure to use the following settings in order to reproduce any error or warning you see on this page.

raw results

Package 1404/2164HostnameOS / ArchINSTALLBUILDCHECKBUILD BIN
OrganismDbi 1.41.0  (landing page)
Bioconductor Package Maintainer
Snapshot Date: 2023-02-06 14:00:21 -0500 (Mon, 06 Feb 2023)
git_url: https://git.bioconductor.org/packages/OrganismDbi
git_branch: master
git_last_commit: 784ff35
git_last_commit_date: 2022-11-01 11:07:19 -0500 (Tue, 01 Nov 2022)
nebbiolo1Linux (Ubuntu 22.04.1 LTS) / x86_64  OK    OK    ERROR  
palomino3Windows Server 2022 Datacenter / x64  OK    OK    WARNINGS    OK  UNNEEDED, same version is already published
merida1macOS 10.14.6 Mojave / x86_64  OK    OK    ERROR    OK  

Summary

Package: OrganismDbi
Version: 1.41.0
Command: /Library/Frameworks/R.framework/Resources/bin/R CMD build --keep-empty-dirs --no-resave-data OrganismDbi
StartedAt: 2023-02-06 19:49:08 -0500 (Mon, 06 Feb 2023)
EndedAt: 2023-02-06 19:52:05 -0500 (Mon, 06 Feb 2023)
EllapsedTime: 177.4 seconds
RetCode: 0
Status:   OK  
PackageFile: OrganismDbi_1.41.0.tar.gz
PackageFileSize: 268.7 KiB

Command output

##############################################################################
##############################################################################
###
### Running command:
###
###   /Library/Frameworks/R.framework/Resources/bin/R CMD build --keep-empty-dirs --no-resave-data OrganismDbi
###
##############################################################################
##############################################################################


* checking for file ‘OrganismDbi/DESCRIPTION’ ... OK
* preparing ‘OrganismDbi’:
* checking DESCRIPTION meta-information ... OK
* installing the package to build vignettes
* creating vignettes ... OK
* checking for LF line-endings in source and make files and shell scripts
* checking for empty or unneeded directories
* building ‘OrganismDbi_1.41.0.tar.gz’