Back to Multiple platform build/check report for BioC 3.16
ABCDEFGHIJKLMN[O]PQRSTUVWXYZ

This page was generated on 2022-06-30 11:06:55 -0400 (Thu, 30 Jun 2022).

HostnameOSArch (*)R versionInstalled pkgs
nebbiolo2Linux (Ubuntu 20.04.4 LTS)x86_644.2.0 Patched (2022-06-02 r82447) -- "Vigorous Calisthenics" 4343
palomino4Windows Server 2022 Datacenterx644.2.0 Patched (2022-06-02 r82447 ucrt) -- "Vigorous Calisthenics" 4147
lconwaymacOS 12.2.1 Montereyx86_644.2.0 Patched (2022-05-29 r82424) -- "Vigorous Calisthenics" 4159
Click on any hostname to see more info about the system (e.g. compilers)      (*) as reported by 'uname -p', except on Windows and Mac OS X

BUILD results for oligoClasses on palomino4


To the developers/maintainers of the oligoClasses package:
- Please allow up to 24 hours (and sometimes 48 hours) for your latest push to git@git.bioconductor.org:packages/oligoClasses.git to
reflect on this report. See How and When does the builder pull? When will my changes propagate? for more information.
- Make sure to use the following settings in order to reproduce any error or warning you see on this page.

raw results

Package 1344/2124HostnameOS / ArchINSTALLBUILDCHECKBUILD BIN
oligoClasses 1.59.0  (landing page)
Benilton Carvalho and Robert Scharpf
Snapshot Date: 2022-06-29 14:00:05 -0400 (Wed, 29 Jun 2022)
git_url: https://git.bioconductor.org/packages/oligoClasses
git_branch: master
git_last_commit: af1cb92
git_last_commit_date: 2022-04-26 11:00:18 -0400 (Tue, 26 Apr 2022)
nebbiolo2Linux (Ubuntu 20.04.4 LTS) / x86_64  OK    OK    WARNINGS  UNNEEDED, same version is already published
palomino4Windows Server 2022 Datacenter / x64  OK    OK    WARNINGS    OK  UNNEEDED, same version is already published
lconwaymacOS 12.2.1 Monterey / x86_64  OK    OK    WARNINGS    OK  UNNEEDED, same version is already published

Summary

Package: oligoClasses
Version: 1.59.0
Command: chmod a+r oligoClasses -R && F:\biocbuild\bbs-3.16-bioc\R\bin\R.exe CMD build --keep-empty-dirs --no-resave-data oligoClasses
StartedAt: 2022-06-29 20:01:02 -0400 (Wed, 29 Jun 2022)
EndedAt: 2022-06-29 20:01:04 -0400 (Wed, 29 Jun 2022)
EllapsedTime: 2.8 seconds
RetCode: 0
Status:   OK  
PackageFile: oligoClasses_1.59.0.tar.gz
PackageFileSize: 364.5 KiB

Command output

##############################################################################
##############################################################################
###
### Running command:
###
###   chmod a+r oligoClasses -R && F:\biocbuild\bbs-3.16-bioc\R\bin\R.exe CMD build --keep-empty-dirs --no-resave-data oligoClasses
###
##############################################################################
##############################################################################


* checking for file 'oligoClasses/DESCRIPTION' ... OK
* preparing 'oligoClasses':
* checking DESCRIPTION meta-information ... OK
* checking for LF line-endings in source and make files and shell scripts
* checking for empty or unneeded directories
* looking to see if a 'data/datalist' file should be added
* building 'oligoClasses_1.59.0.tar.gz'