Back to Multiple platform build/check report for BioC 3.14
ABCDEFGHIJKLMNOPQRS[T]UVWXYZ

This page was generated on 2021-10-20 12:05:56 -0400 (Wed, 20 Oct 2021).

CHECK results for TCseq on merida1

To the developers/maintainers of the TCseq package:
- Please allow up to 24 hours (and sometimes 48 hours) for your latest push to git@git.bioconductor.org:packages/TCseq.git to
reflect on this report. See How and When does the builder pull? When will my changes propagate? here for more information.
- Make sure to use the following settings in order to reproduce any error or warning you see on this page.

raw results

Package 1930/2072HostnameOS / ArchINSTALLBUILDCHECKBUILD BIN
TCseq 1.17.0  (landing page)
Mengjun Wu
Snapshot Date: 2021-10-19 14:50:04 -0400 (Tue, 19 Oct 2021)
git_url: https://git.bioconductor.org/packages/TCseq
git_branch: master
git_last_commit: 9503581
git_last_commit_date: 2021-05-19 12:25:15 -0400 (Wed, 19 May 2021)
nebbiolo2Linux (Ubuntu 20.04.2 LTS) / x86_64  OK    OK    OK  UNNEEDED, same version is already published
riesling1Windows Server 2019 Standard / x64  OK    OK    OK    OK  UNNEEDED, same version is already published
merida1macOS 10.14.6 Mojave / x86_64  OK    OK    OK    NA  

Summary

Package: TCseq
Version: 1.17.0
Command: /Library/Frameworks/R.framework/Resources/bin/R CMD check --install=check:TCseq.install-out.txt --library=/Library/Frameworks/R.framework/Resources/library --no-vignettes --timings TCseq_1.17.0.tar.gz
StartedAt: 2021-10-20 09:55:40 -0400 (Wed, 20 Oct 2021)
EndedAt: 2021-10-20 10:00:22 -0400 (Wed, 20 Oct 2021)
EllapsedTime: 282.1 seconds
RetCode: 0
Status:   OK  
CheckDir: TCseq.Rcheck
Warnings: 0

Command output

##############################################################################
##############################################################################
###
### Running command:
###
###   /Library/Frameworks/R.framework/Resources/bin/R CMD check --install=check:TCseq.install-out.txt --library=/Library/Frameworks/R.framework/Resources/library --no-vignettes --timings TCseq_1.17.0.tar.gz
###
##############################################################################
##############################################################################


* using log directory ‘/Users/biocbuild/bbs-3.14-bioc/meat/TCseq.Rcheck’
* using R version 4.1.1 Patched (2021-08-22 r80813)
* using platform: x86_64-apple-darwin17.0 (64-bit)
* using session charset: UTF-8
* using option ‘--no-vignettes’
* checking for file ‘TCseq/DESCRIPTION’ ... OK
* checking extension type ... Package
* this is package ‘TCseq’ version ‘1.17.0’
* checking package namespace information ... OK
* checking package dependencies ... OK
* checking if this is a source package ... OK
* checking if there is a namespace ... OK
* checking for hidden files and directories ... OK
* checking for portable file names ... OK
* checking for sufficient/correct file permissions ... OK
* checking whether package ‘TCseq’ can be installed ... OK
* checking installed package size ... OK
* checking package directory ... OK
* checking ‘build’ directory ... OK
* checking DESCRIPTION meta-information ... OK
* checking top-level files ... OK
* checking for left-over files ... OK
* checking index information ... OK
* checking package subdirectories ... OK
* checking R files for non-ASCII characters ... OK
* checking R files for syntax errors ... OK
* checking whether the package can be loaded ... OK
* checking whether the package can be loaded with stated dependencies ... OK
* checking whether the package can be unloaded cleanly ... OK
* checking whether the namespace can be loaded with stated dependencies ... OK
* checking whether the namespace can be unloaded cleanly ... OK
* checking dependencies in R code ... OK
* checking S3 generic/method consistency ... OK
* checking replacement functions ... OK
* checking foreign function calls ... OK
* checking R code for possible problems ... NOTE
DBresult: no visible global function definition for ‘as’
DBresult.cluster: no visible global function definition for ‘as’
TCA: no visible global function definition for ‘is’
TCA: no visible global function definition for ‘as’
TCAFromSummarizedExperiment: no visible global function definition for
  ‘is’
TCAFromSummarizedExperiment: no visible global function definition for
  ‘as’
countReads: no visible global function definition for
  ‘createAnnotationFile’
countReads: no visible global function definition for ‘featureCounts’
timeclustplot: no visible binding for global variable ‘group’
timecourseTable: no visible global function definition for ‘as’
Undefined global functions or variables:
  as createAnnotationFile featureCounts group is
Consider adding
  importFrom("methods", "as", "is")
to your NAMESPACE file (and ensure that your DESCRIPTION Imports field
contains 'methods').
* checking Rd files ... OK
* checking Rd metadata ... OK
* checking Rd cross-references ... OK
* checking for missing documentation entries ... OK
* checking for code/documentation mismatches ... OK
* checking Rd \usage sections ... OK
* checking Rd contents ... OK
* checking for unstated dependencies in examples ... OK
* checking contents of ‘data’ directory ... OK
* checking data for non-ASCII characters ... OK
* checking LazyData ... OK
* checking data for ASCII and uncompressed saves ... OK
* checking sizes of PDF files under ‘inst/doc’ ... OK
* checking files in ‘vignettes’ ... OK
* checking examples ... OK
* checking for unstated dependencies in ‘tests’ ... OK
* checking tests ...
  Running ‘testthat.R’
 OK
* checking for unstated dependencies in vignettes ... OK
* checking package vignettes in ‘inst/doc’ ... OK
* checking running R code from vignettes ... SKIPPED
* checking re-building of vignette outputs ... SKIPPED
* checking PDF version of manual ... OK
* DONE

Status: 1 NOTE
See
  ‘/Users/biocbuild/bbs-3.14-bioc/meat/TCseq.Rcheck/00check.log’
for details.



Installation output

TCseq.Rcheck/00install.out

##############################################################################
##############################################################################
###
### Running command:
###
###   /Library/Frameworks/R.framework/Resources/bin/R CMD INSTALL TCseq
###
##############################################################################
##############################################################################


* installing to library ‘/Library/Frameworks/R.framework/Versions/4.1/Resources/library’
* installing *source* package ‘TCseq’ ...
** using staged installation
** R
** data
*** moving datasets to lazyload DB
** byte-compile and prepare package for lazy loading
** help
*** installing help indices
** building package indices
** installing vignettes
** testing if installed package can be loaded from temporary location
** testing if installed package can be loaded from final location
** testing if installed package keeps a record of temporary installation path
* DONE (TCseq)

Tests output

TCseq.Rcheck/tests/testthat.Rout


R version 4.1.1 Patched (2021-08-22 r80813) -- "Kick Things"
Copyright (C) 2021 The R Foundation for Statistical Computing
Platform: x86_64-apple-darwin17.0 (64-bit)

R is free software and comes with ABSOLUTELY NO WARRANTY.
You are welcome to redistribute it under certain conditions.
Type 'license()' or 'licence()' for distribution details.

R is a collaborative project with many contributors.
Type 'contributors()' for more information and
'citation()' on how to cite R or R packages in publications.

Type 'demo()' for some demos, 'help()' for on-line help, or
'help.start()' for an HTML browser interface to help.
Type 'q()' to quit R.

> library(testthat)
> library(TCseq)
> 
> test_check("TCseq")
[ FAIL 0 | WARN 0 | SKIP 0 | PASS 8 ]
> 
> proc.time()
   user  system elapsed 
 11.997   0.610  12.580 

Example timings

TCseq.Rcheck/TCseq-Ex.timings

nameusersystemelapsed
DBanalysis1.0480.0341.083
DBresult3.4250.0513.479
TCA0.0100.0010.010
TCA.accessors0.0660.0450.111
counts0.0730.0030.076
countsTable0.0010.0010.002
experiment0.0010.0010.003
experiment_BAMfile0.0010.0010.002
genomicIntervals0.0010.0010.003
peakreference0.0140.0000.014
tca_ATAC0.0010.0010.003
timeclustplot1.5940.0981.694
timecourseTable1.0610.0231.086