Back to Multiple platform build/check report for BioC 3.17:   simplified   long
ABC[D]EFGHIJKLMNOPQRSTUVWXYZ

This page was generated on 2023-02-06 11:06:33 -0500 (Mon, 06 Feb 2023).

HostnameOSArch (*)R versionInstalled pkgs
nebbiolo1Linux (Ubuntu 22.04.1 LTS)x86_64R Under development (unstable) (2023-01-10 r83596) -- "Unsuffered Consequences" 4483
palomino3Windows Server 2022 Datacenterx64R Under development (unstable) (2023-01-10 r83596 ucrt) -- "Unsuffered Consequences" 4249
merida1macOS 10.14.6 Mojavex86_64R Under development (unstable) (2023-01-10 r83596) -- "Unsuffered Consequences" 4272
Click on any hostname to see more info about the system (e.g. compilers)      (*) as reported by 'uname -p', except on Windows and Mac OS X

BUILD results for DEXSeq on merida1


To the developers/maintainers of the DEXSeq package:
- Please allow up to 24 hours (and sometimes 48 hours) for your latest push to git@git.bioconductor.org:packages/DEXSeq.git to
reflect on this report. See How and When does the builder pull? When will my changes propagate? for more information.
- Make sure to use the following settings in order to reproduce any error or warning you see on this page.

raw results

Package 519/2164HostnameOS / ArchINSTALLBUILDCHECKBUILD BIN
DEXSeq 1.45.0  (landing page)
Alejandro Reyes
Snapshot Date: 2023-02-05 14:00:11 -0500 (Sun, 05 Feb 2023)
git_url: https://git.bioconductor.org/packages/DEXSeq
git_branch: master
git_last_commit: e996738
git_last_commit_date: 2022-11-01 11:05:59 -0500 (Tue, 01 Nov 2022)
nebbiolo1Linux (Ubuntu 22.04.1 LTS) / x86_64  OK    OK    OK  UNNEEDED, same version is already published
palomino3Windows Server 2022 Datacenter / x64  OK    OK    OK    OK  UNNEEDED, same version is already published
merida1macOS 10.14.6 Mojave / x86_64  OK    OK    OK    OK  UNNEEDED, same version is already published

Summary

Package: DEXSeq
Version: 1.45.0
Command: /Library/Frameworks/R.framework/Resources/bin/R CMD build --keep-empty-dirs --no-resave-data DEXSeq
StartedAt: 2023-02-05 17:43:09 -0500 (Sun, 05 Feb 2023)
EndedAt: 2023-02-05 17:47:14 -0500 (Sun, 05 Feb 2023)
EllapsedTime: 245.6 seconds
RetCode: 0
Status:   OK  
PackageFile: DEXSeq_1.45.0.tar.gz
PackageFileSize: 1.523 MiB

Command output

##############################################################################
##############################################################################
###
### Running command:
###
###   /Library/Frameworks/R.framework/Resources/bin/R CMD build --keep-empty-dirs --no-resave-data DEXSeq
###
##############################################################################
##############################################################################


* checking for file ‘DEXSeq/DESCRIPTION’ ... OK
* preparing ‘DEXSeq’:
* checking DESCRIPTION meta-information ... OK
* installing the package to build vignettes
* creating vignettes ... OK
* checking for LF line-endings in source and make files and shell scripts
* checking for empty or unneeded directories
* building ‘DEXSeq_1.45.0.tar.gz’