Back to Multiple platform build/check report for BioC 3.17:   simplified   long
ABCDEFGHIJKLMNOPQ[R]STUVWXYZ

This page was generated on 2023-03-23 11:07:05 -0400 (Thu, 23 Mar 2023).

HostnameOSArch (*)R versionInstalled pkgs
nebbiolo1Linux (Ubuntu 22.04.1 LTS)x86_64R Under development (unstable) (2023-03-16 r83996) -- "Unsuffered Consequences" 4536
palomino3Windows Server 2022 Datacenterx64R Under development (unstable) (2023-03-15 r83984 ucrt) -- "Unsuffered Consequences" 4298
merida1macOS 10.14.6 Mojavex86_64R Under development (unstable) (2023-03-16 r83985) -- "Unsuffered Consequences" 4290
Click on any hostname to see more info about the system (e.g. compilers)      (*) as reported by 'uname -p', except on Windows and Mac OS X

BUILD BIN results for RaggedExperiment on merida1


To the developers/maintainers of the RaggedExperiment package:
- Please allow up to 24 hours (and sometimes 48 hours) for your latest push to git@git.bioconductor.org:packages/RaggedExperiment.git to
reflect on this report. See How and When does the builder pull? When will my changes propagate? for more information.
- Make sure to use the following settings in order to reproduce any error or warning you see on this page.

raw results

Package 1595/2189HostnameOS / ArchINSTALLBUILDCHECKBUILD BIN
RaggedExperiment 1.23.0  (landing page)
Marcel Ramos
Snapshot Date: 2023-03-22 14:00:17 -0400 (Wed, 22 Mar 2023)
git_url: https://git.bioconductor.org/packages/RaggedExperiment
git_branch: devel
git_last_commit: 283f9dd
git_last_commit_date: 2022-11-01 11:15:30 -0400 (Tue, 01 Nov 2022)
nebbiolo1Linux (Ubuntu 22.04.1 LTS) / x86_64  OK    OK    OK  UNNEEDED, same version is already published
palomino3Windows Server 2022 Datacenter / x64  OK    OK    OK    OK  UNNEEDED, same version is already published
merida1macOS 10.14.6 Mojave / x86_64  OK    OK    OK    OK  UNNEEDED, same version is already published

Summary

Package: RaggedExperiment
Version: 1.23.0
Command: rm -rf RaggedExperiment.buildbin-libdir && mkdir RaggedExperiment.buildbin-libdir && /Users/biocbuild/BBS/utils/build-universal.sh RaggedExperiment_1.23.0.tar.gz /Library/Frameworks/R.framework/Resources/bin/R RaggedExperiment.buildbin-libdir
StartedAt: 2023-03-23 10:22:32 -0400 (Thu, 23 Mar 2023)
EndedAt: 2023-03-23 10:23:40 -0400 (Thu, 23 Mar 2023)
EllapsedTime: 68.5 seconds
RetCode: 0
Status:   OK  
PackageFile: RaggedExperiment_1.23.0.tgz
PackageFileSize: 936.8 KiB

Command output

##############################################################################
##############################################################################
###
### Running command:
###
###   rm -rf RaggedExperiment.buildbin-libdir && mkdir RaggedExperiment.buildbin-libdir && /Users/biocbuild/BBS/utils/build-universal.sh RaggedExperiment_1.23.0.tar.gz /Library/Frameworks/R.framework/Resources/bin/R RaggedExperiment.buildbin-libdir
###
##############################################################################
##############################################################################


>>>>>>> 
>>>>>>> INSTALLATION WITH 'R CMD INSTALL --preclean --no-multiarch --library=RaggedExperiment.buildbin-libdir RaggedExperiment_1.23.0.tar.gz'
>>>>>>> 

* installing *source* package ‘RaggedExperiment’ ...
** using staged installation
** R
** inst
** byte-compile and prepare package for lazy loading
** help
*** installing help indices
** building package indices
** installing vignettes
** testing if installed package can be loaded from temporary location
** testing if installed package can be loaded from final location
** testing if installed package keeps a record of temporary installation path
* DONE (RaggedExperiment)