Back to Multiple platform build/check report for BioC 3.20:   simplified   long
AB[C]DEFGHIJKLMNOPQRSTUVWXYZ

This page was generated on 2024-05-22 11:37:38 -0400 (Wed, 22 May 2024).

HostnameOSArch (*)R versionInstalled pkgs
nebbiolo2Linux (Ubuntu 22.04.3 LTS)x86_644.4.0 RC (2024-04-16 r86468) -- "Puppy Cup" 4665
palomino4Windows Server 2022 Datacenterx644.4.0 RC (2024-04-16 r86468 ucrt) -- "Puppy Cup" 4400
merida1macOS 12.7.4 Montereyx86_644.4.0 Patched (2024-04-24 r86482) -- "Puppy Cup" 4427
Click on any hostname to see more info about the system (e.g. compilers)      (*) as reported by 'uname -p', except on Windows and Mac OS X

Package 425/2233HostnameOS / ArchINSTALLBUILDCHECKBUILD BIN
CopyNumberPlots 1.21.0  (landing page)
Bernat Gel
Snapshot Date: 2024-05-20 14:05:07 -0400 (Mon, 20 May 2024)
git_url: https://git.bioconductor.org/packages/CopyNumberPlots
git_branch: devel
git_last_commit: f3b8d6f
git_last_commit_date: 2024-04-30 11:14:18 -0400 (Tue, 30 Apr 2024)
nebbiolo2Linux (Ubuntu 22.04.3 LTS) / x86_64  OK    OK    OK  UNNEEDED, same version is already published
palomino4Windows Server 2022 Datacenter / x64  OK    OK    OK    OK  UNNEEDED, same version is already published
merida1macOS 12.7.4 Monterey / x86_64  OK    OK    OK    OK  UNNEEDED, same version is already published
kjohnson1macOS 13.6.6 Ventura / arm64see weekly results here

CHECK results for CopyNumberPlots on merida1


To the developers/maintainers of the CopyNumberPlots package:
- Allow up to 24 hours (and sometimes 48 hours) for your latest push to git@git.bioconductor.org:packages/CopyNumberPlots.git to reflect on this report. See Troubleshooting Build Report for more information.
- Use the following Renviron settings to reproduce errors and warnings.
- If 'R CMD check' started to fail recently on the Linux builder(s) over a missing dependency, add the missing dependency to 'Suggests:' in your DESCRIPTION file. See Renviron.bioc for more information.

raw results


Summary

Package: CopyNumberPlots
Version: 1.21.0
Command: /Library/Frameworks/R.framework/Resources/bin/R CMD check --install=check:CopyNumberPlots.install-out.txt --library=/Library/Frameworks/R.framework/Resources/library --no-vignettes --timings CopyNumberPlots_1.21.0.tar.gz
StartedAt: 2024-05-21 01:52:10 -0400 (Tue, 21 May 2024)
EndedAt: 2024-05-21 02:04:26 -0400 (Tue, 21 May 2024)
EllapsedTime: 735.9 seconds
RetCode: 0
Status:   OK  
CheckDir: CopyNumberPlots.Rcheck
Warnings: 0

Command output

##############################################################################
##############################################################################
###
### Running command:
###
###   /Library/Frameworks/R.framework/Resources/bin/R CMD check --install=check:CopyNumberPlots.install-out.txt --library=/Library/Frameworks/R.framework/Resources/library --no-vignettes --timings CopyNumberPlots_1.21.0.tar.gz
###
##############################################################################
##############################################################################


* using log directory ‘/Users/biocbuild/bbs-3.20-bioc/meat/CopyNumberPlots.Rcheck’
* using R version 4.4.0 Patched (2024-04-24 r86482)
* using platform: x86_64-apple-darwin20
* R was compiled by
    Apple clang version 14.0.0 (clang-1400.0.29.202)
    GNU Fortran (GCC) 12.2.0
* running under: macOS Monterey 12.7.4
* using session charset: UTF-8
* using option ‘--no-vignettes’
* checking for file ‘CopyNumberPlots/DESCRIPTION’ ... OK
* checking extension type ... Package
* this is package ‘CopyNumberPlots’ version ‘1.21.0’
* package encoding: UTF-8
* checking package namespace information ... OK
* checking package dependencies ... OK
* checking if this is a source package ... OK
* checking if there is a namespace ... OK
* checking for hidden files and directories ... OK
* checking for portable file names ... OK
* checking for sufficient/correct file permissions ... OK
* checking whether package ‘CopyNumberPlots’ can be installed ... OK
* checking installed package size ... OK
* checking package directory ... OK
* checking ‘build’ directory ... OK
* checking DESCRIPTION meta-information ... OK
* checking top-level files ... OK
* checking for left-over files ... OK
* checking index information ... OK
* checking package subdirectories ... OK
* checking code files for non-ASCII characters ... OK
* checking R files for syntax errors ... OK
* checking whether the package can be loaded ... OK
* checking whether the package can be loaded with stated dependencies ... OK
* checking whether the package can be unloaded cleanly ... OK
* checking whether the namespace can be loaded with stated dependencies ... OK
* checking whether the namespace can be unloaded cleanly ... OK
* checking dependencies in R code ... OK
* checking S3 generic/method consistency ... OK
* checking replacement functions ... OK
* checking foreign function calls ... OK
* checking R code for possible problems ... OK
* checking Rd files ... OK
* checking Rd metadata ... OK
* checking Rd cross-references ... OK
* checking for missing documentation entries ... OK
* checking for code/documentation mismatches ... OK
* checking Rd \usage sections ... OK
* checking Rd contents ... OK
* checking for unstated dependencies in examples ... OK
* checking files in ‘vignettes’ ... OK
* checking examples ... OK
* checking for unstated dependencies in ‘tests’ ... OK
* checking tests ...
  Running ‘testthat.R’
 OK
* checking for unstated dependencies in vignettes ... OK
* checking package vignettes ... OK
* checking running R code from vignettes ... SKIPPED
* checking re-building of vignette outputs ... SKIPPED
* checking PDF version of manual ... OK
* DONE

Status: OK


Installation output

CopyNumberPlots.Rcheck/00install.out

##############################################################################
##############################################################################
###
### Running command:
###
###   /Library/Frameworks/R.framework/Resources/bin/R CMD INSTALL CopyNumberPlots
###
##############################################################################
##############################################################################


* installing to library ‘/Library/Frameworks/R.framework/Versions/4.4-x86_64/Resources/library’
* installing *source* package ‘CopyNumberPlots’ ...
** using staged installation
** R
** inst
** byte-compile and prepare package for lazy loading
** help
*** installing help indices
** building package indices
** installing vignettes
** testing if installed package can be loaded from temporary location
** testing if installed package can be loaded from final location
** testing if installed package keeps a record of temporary installation path
* DONE (CopyNumberPlots)

Tests output

CopyNumberPlots.Rcheck/tests/testthat.Rout


R version 4.4.0 Patched (2024-04-24 r86482) -- "Puppy Cup"
Copyright (C) 2024 The R Foundation for Statistical Computing
Platform: x86_64-apple-darwin20

R is free software and comes with ABSOLUTELY NO WARRANTY.
You are welcome to redistribute it under certain conditions.
Type 'license()' or 'licence()' for distribution details.

R is a collaborative project with many contributors.
Type 'contributors()' for more information and
'citation()' on how to cite R or R packages in publications.

Type 'demo()' for some demos, 'help()' for on-line help, or
'help.start()' for an HTML browser interface to help.
Type 'q()' to quit R.

> library(testthat)
> library(CopyNumberPlots)
Loading required package: karyoploteR
Loading required package: regioneR
Loading required package: GenomicRanges
Loading required package: stats4
Loading required package: BiocGenerics

Attaching package: 'BiocGenerics'

The following objects are masked from 'package:stats':

    IQR, mad, sd, var, xtabs

The following objects are masked from 'package:base':

    Filter, Find, Map, Position, Reduce, anyDuplicated, aperm, append,
    as.data.frame, basename, cbind, colnames, dirname, do.call,
    duplicated, eval, evalq, get, grep, grepl, intersect, is.unsorted,
    lapply, mapply, match, mget, order, paste, pmax, pmax.int, pmin,
    pmin.int, rank, rbind, rownames, sapply, setdiff, table, tapply,
    union, unique, unsplit, which.max, which.min

Loading required package: S4Vectors

Attaching package: 'S4Vectors'

The following object is masked from 'package:utils':

    findMatches

The following objects are masked from 'package:base':

    I, expand.grid, unname

Loading required package: IRanges
Loading required package: GenomeInfoDb
> 
> test_check("CopyNumberPlots")
[ FAIL 0 | WARN 0 | SKIP 0 | PASS 26 ]
> 
> proc.time()
   user  system elapsed 
 30.070   1.692  37.052 

Example timings

CopyNumberPlots.Rcheck/CopyNumberPlots-Ex.timings

nameusersystemelapsed
EnsemblStyle0.9460.0531.125
UCSCStyle0.7740.1040.978
Ztree2Hclust0.0100.0020.013
colByCopyNumber1.3280.0461.547
computeHclustPlotOrder0.0390.0050.050
getBAFColumn0.0040.0010.008
getChrColumn0.0030.0010.006
getColumn0.0050.0010.006
getCopyNumberColors0.0010.0010.002
getCopyNumberColumn0.0040.0000.006
getEndColumn0.0030.0010.004
getIDColumn0.0040.0000.005
getLOHColumn0.0040.0010.004
getLRRColumn0.0040.0000.005
getPosColumn0.0040.0010.005
getSegmentValueColumn0.0030.0010.005
getStartColumn0.0040.0010.005
loadCopyNumberCalls0.0470.0010.056
loadCopyNumberCallsCNVkit0.1230.0060.154
loadCopyNumberCallsCnmops0.3210.0050.371
loadCopyNumberCallsDECoN0.1520.0030.181
loadCopyNumberCallsDNAcopy1.2890.0191.506
loadCopyNumberCallsPanelcnmops0.7710.0230.930
loadCopyNumberCallsSeg0.0460.0020.054
loadCopyNumberCallspennCNV0.1680.0020.194
loadSNPData0.1090.0040.137
loadSNPDataDNAcopy1.1780.0131.394
loadSNPDataFromVCF0.0020.0010.003
plotBAF2.3210.1382.853
plotCopyNumberCalls0.4250.0540.563
plotCopyNumberCallsAsLines1.6110.0791.914
plotCopyNumberSummary0.4320.0110.503
plotLRR0.9170.0141.034
plotSingleCellCopyNumberCalls0.1090.0030.126
plotSingleCellCopyNumberSummary0.0780.0030.092
prepareLabels0.1790.0010.201
readHDF5Ztree0.0000.0010.000
removeNAs0.4000.0070.451
transformChr0.0080.0020.011