Back to Multiple platform build/check report for BioC 3.16
ABCDEFGHIJKLM[N]OPQRSTUVWXYZ

This page was generated on 2022-08-06 11:06:40 -0400 (Sat, 06 Aug 2022).

HostnameOSArch (*)R versionInstalled pkgs
nebbiolo2Linux (Ubuntu 20.04.4 LTS)x86_644.2.1 (2022-06-23) -- "Funny-Looking Kid" 4371
palomino4Windows Server 2022 Datacenterx644.2.1 (2022-06-23 ucrt) -- "Funny-Looking Kid" 4155
lconwaymacOS 12.2.1 Montereyx86_644.2.1 Patched (2022-07-09 r82577) -- "Funny-Looking Kid" 4155
Click on any hostname to see more info about the system (e.g. compilers)      (*) as reported by 'uname -p', except on Windows and Mac OS X

CHECK results for NoRCE on palomino4


To the developers/maintainers of the NoRCE package:
- Please allow up to 24 hours (and sometimes 48 hours) for your latest push to git@git.bioconductor.org:packages/NoRCE.git to
reflect on this report. See How and When does the builder pull? When will my changes propagate? for more information.
- Make sure to use the following settings in order to reproduce any error or warning you see on this page.

raw results

Package 1332/2137HostnameOS / ArchINSTALLBUILDCHECKBUILD BIN
NoRCE 1.9.0  (landing page)
Gulden Olgun
Snapshot Date: 2022-08-05 14:00:05 -0400 (Fri, 05 Aug 2022)
git_url: https://git.bioconductor.org/packages/NoRCE
git_branch: master
git_last_commit: 982c70b
git_last_commit_date: 2022-04-26 12:03:27 -0400 (Tue, 26 Apr 2022)
nebbiolo2Linux (Ubuntu 20.04.4 LTS) / x86_64  OK    OK    OK  UNNEEDED, same version is already published
palomino4Windows Server 2022 Datacenter / x64  OK    OK    OK    NA  
lconwaymacOS 12.2.1 Monterey / x86_64  OK    OK    OK    OK  UNNEEDED, same version is already published

Summary

Package: NoRCE
Version: 1.9.0
Command: F:\biocbuild\bbs-3.16-bioc\R\bin\R.exe CMD check --force-multiarch --install=check:NoRCE.install-out.txt --library=F:\biocbuild\bbs-3.16-bioc\R\library --no-vignettes --timings NoRCE_1.9.0.tar.gz
StartedAt: 2022-08-06 04:05:22 -0400 (Sat, 06 Aug 2022)
EndedAt: 2022-08-06 04:12:05 -0400 (Sat, 06 Aug 2022)
EllapsedTime: 402.2 seconds
RetCode: 0
Status:   OK  
CheckDir: NoRCE.Rcheck
Warnings: 0

Command output

##############################################################################
##############################################################################
###
### Running command:
###
###   F:\biocbuild\bbs-3.16-bioc\R\bin\R.exe CMD check --force-multiarch --install=check:NoRCE.install-out.txt --library=F:\biocbuild\bbs-3.16-bioc\R\library --no-vignettes --timings NoRCE_1.9.0.tar.gz
###
##############################################################################
##############################################################################


* using log directory 'F:/biocbuild/bbs-3.16-bioc/meat/NoRCE.Rcheck'
* using R version 4.2.1 (2022-06-23 ucrt)
* using platform: x86_64-w64-mingw32 (64-bit)
* using session charset: UTF-8
* using option '--no-vignettes'
* checking for file 'NoRCE/DESCRIPTION' ... OK
* checking extension type ... Package
* this is package 'NoRCE' version '1.9.0'
* package encoding: UTF-8
* checking package namespace information ... OK
* checking package dependencies ... OK
* checking if this is a source package ... OK
* checking if there is a namespace ... OK
* checking for hidden files and directories ... OK
* checking for portable file names ... OK
* checking whether package 'NoRCE' can be installed ... OK
* checking installed package size ... OK
* checking package directory ... OK
* checking 'build' directory ... OK
* checking DESCRIPTION meta-information ... OK
* checking top-level files ... OK
* checking for left-over files ... OK
* checking index information ... OK
* checking package subdirectories ... OK
* checking R files for non-ASCII characters ... OK
* checking R files for syntax errors ... OK
* checking whether the package can be loaded ... OK
* checking whether the package can be loaded with stated dependencies ... OK
* checking whether the package can be unloaded cleanly ... OK
* checking whether the namespace can be loaded with stated dependencies ... OK
* checking whether the namespace can be unloaded cleanly ... OK
* checking dependencies in R code ... OK
* checking S3 generic/method consistency ... OK
* checking replacement functions ... OK
* checking foreign function calls ... OK
* checking R code for possible problems ... OK
* checking Rd files ... OK
* checking Rd metadata ... OK
* checking Rd cross-references ... OK
* checking for missing documentation entries ... OK
* checking for code/documentation mismatches ... OK
* checking Rd \usage sections ... OK
* checking Rd contents ... OK
* checking for unstated dependencies in examples ... OK
* checking contents of 'data' directory ... OK
* checking data for non-ASCII characters ... OK
* checking LazyData ... OK
* checking data for ASCII and uncompressed saves ... OK
* checking files in 'vignettes' ... OK
* checking examples ... OK
Examples with CPU (user + system) or elapsed time > 5s
                     user system elapsed
genePathwayEnricher 21.19   0.17   23.04
KeggEnrichment      16.26   0.73   30.87
assembly            12.67   0.59   24.19
calculateCorr        6.30   0.41    6.71
mirnaGOEnricher      5.64   0.28    5.92
getReactomeDiagram   5.21   0.18    5.37
reactomeEnrichment   5.21   0.08    5.30
geneGOEnricher       4.88   0.20    5.10
* checking for unstated dependencies in 'tests' ... OK
* checking tests ...
  Running 'testthat.R'
 OK
* checking for unstated dependencies in vignettes ... OK
* checking package vignettes in 'inst/doc' ... OK
* checking running R code from vignettes ... SKIPPED
* checking re-building of vignette outputs ... SKIPPED
* checking PDF version of manual ... OK
* DONE

Status: OK


Installation output

NoRCE.Rcheck/00install.out

##############################################################################
##############################################################################
###
### Running command:
###
###   C:\cygwin\bin\curl.exe -O http://155.52.207.166/BBS/3.16/bioc/src/contrib/NoRCE_1.9.0.tar.gz && rm -rf NoRCE.buildbin-libdir && mkdir NoRCE.buildbin-libdir && F:\biocbuild\bbs-3.16-bioc\R\bin\R.exe CMD INSTALL --merge-multiarch --build --library=NoRCE.buildbin-libdir NoRCE_1.9.0.tar.gz && F:\biocbuild\bbs-3.16-bioc\R\bin\R.exe CMD INSTALL NoRCE_1.9.0.zip && rm NoRCE_1.9.0.tar.gz NoRCE_1.9.0.zip
###
##############################################################################
##############################################################################


  % Total    % Received % Xferd  Average Speed   Time    Time     Time  Current
                                 Dload  Upload   Total   Spent    Left  Speed

  0     0    0     0    0     0      0      0 --:--:-- --:--:-- --:--:--     0
 16 1850k   16  297k    0     0  2151k      0 --:--:-- --:--:-- --:--:-- 2155k
100 1850k  100 1850k    0     0  3841k      0 --:--:-- --:--:-- --:--:-- 3838k
only one architecture so ignoring '--merge-multiarch'
* installing *source* package 'NoRCE' ...
** using staged installation
** R
** data
*** moving datasets to lazyload DB
** inst
** byte-compile and prepare package for lazy loading
** help
*** installing help indices
** building package indices
** installing vignettes
** testing if installed package can be loaded from temporary location
** testing if installed package can be loaded from final location
** testing if installed package keeps a record of temporary installation path
* MD5 sums
packaged installation of 'NoRCE' as NoRCE_1.9.0.zip
* DONE (NoRCE)
* installing to library 'F:/biocbuild/bbs-3.16-bioc/R/library'
package 'NoRCE' successfully unpacked and MD5 sums checked

Tests output

NoRCE.Rcheck/tests/testthat.Rout


R version 4.2.1 (2022-06-23 ucrt) -- "Funny-Looking Kid"
Copyright (C) 2022 The R Foundation for Statistical Computing
Platform: x86_64-w64-mingw32/x64 (64-bit)

R is free software and comes with ABSOLUTELY NO WARRANTY.
You are welcome to redistribute it under certain conditions.
Type 'license()' or 'licence()' for distribution details.

R is a collaborative project with many contributors.
Type 'contributors()' for more information and
'citation()' on how to cite R or R packages in publications.

Type 'demo()' for some demos, 'help()' for on-line help, or
'help.start()' for an HTML browser interface to help.
Type 'q()' to quit R.

> library(testthat)
> library(NoRCE)

> 
> test_check("NoRCE")
[ FAIL 0 | WARN 0 | SKIP 0 | PASS 1 ]
> 
> proc.time()
   user  system elapsed 
  12.42    0.73   13.12 

Example timings

NoRCE.Rcheck/NoRCE-Ex.timings

nameusersystemelapsed
KeggEnrichment16.26 0.7330.87
assembly12.67 0.5924.19
brain_disorder_ncRNA0.000.020.01
brain_mirna000
breastmRNA000
calculateCorr6.300.416.71
convertGeneID0.360.040.40
extractBiotype0.090.020.11
filterBiotype0.060.000.06
geneGOEnricher4.880.205.10
genePathwayEnricher21.19 0.1723.04
geneRegionGOEnricher3.480.213.69
geneRegionPathwayEnricher0.650.000.84
getGoDag2.020.172.39
getKeggDiagram2.360.192.74
getNearToExon1.440.061.50
getNearToIntron1.070.011.09
getReactomeDiagram5.210.185.37
getTADOverlap0.110.000.11
getUCSC0.120.000.13
goEnrichment2.330.172.50
listTAD000
mirna0.000.010.01
mirnaGOEnricher5.640.285.92
mirnaPathwayEnricher2.010.112.32
mirnaRegionGOEnricher4.330.194.53
mirnaRegionPathwayEnricher0.420.000.62
mrna000
ncRegion0.000.020.02
predictmiTargets1.350.001.48
reactomeEnrichment5.210.085.30
setParameters000
tad_dmel000
tad_hg19000
tad_hg38000
tad_mm10000
writeEnrichment4.330.194.51